BEGIN:VCALENDAR
VERSION:2.0
PRODID:-//CBS Seminare - ECPv6.15.17.1//NONSGML v1.0//EN
CALSCALE:GREGORIAN
METHOD:PUBLISH
X-ORIGINAL-URL:https://anmeldungen.channoine.com
X-WR-CALDESC:Veranstaltungen für CBS Seminare
REFRESH-INTERVAL;VALUE=DURATION:PT1H
X-Robots-Tag:noindex
X-PUBLISHED-TTL:PT1H
BEGIN:VTIMEZONE
TZID:Europe/Berlin
BEGIN:DAYLIGHT
TZOFFSETFROM:+0100
TZOFFSETTO:+0200
TZNAME:CEST
DTSTART:20250330T010000
END:DAYLIGHT
BEGIN:STANDARD
TZOFFSETFROM:+0200
TZOFFSETTO:+0100
TZNAME:CET
DTSTART:20251026T010000
END:STANDARD
BEGIN:DAYLIGHT
TZOFFSETFROM:+0100
TZOFFSETTO:+0200
TZNAME:CEST
DTSTART:20260329T010000
END:DAYLIGHT
BEGIN:STANDARD
TZOFFSETFROM:+0200
TZOFFSETTO:+0100
TZNAME:CET
DTSTART:20261025T010000
END:STANDARD
BEGIN:DAYLIGHT
TZOFFSETFROM:+0100
TZOFFSETTO:+0200
TZNAME:CEST
DTSTART:20270328T010000
END:DAYLIGHT
BEGIN:STANDARD
TZOFFSETFROM:+0200
TZOFFSETTO:+0100
TZNAME:CET
DTSTART:20271031T010000
END:STANDARD
END:VTIMEZONE
BEGIN:VEVENT
DTSTART;TZID=Europe/Berlin:20260909T190000
DTEND;TZID=Europe/Berlin:20260909T210000
DTSTAMP:20260420T012226
CREATED:20230814T112330Z
LAST-MODIFIED:20260130T090042Z
UID:10280-1788980400-1788987600@anmeldungen.channoine.com
SUMMARY:Brow Mastery – das Profiseminar für Augenbrauenstyling & Design
DESCRIPTION:Die perfekte Augenbraue ist kein Zufall – sie entsteht durch Technik\, Verständnis und Präzision. \nIn diesem kompakten Impulswebinar dreht sich alles um professionelles Brauenstyling: Wie Du Form\, Ausdruck und Balance gezielt steuerst und Looks damit sichtbar veredelst.Lerne\, was hinter der perfekten Beauty-Braue steckt – von Proportion und Harmonie bis zur gezielten Gesichtsanalyse. Entdecke\, wie Du typgerechte Brauenformen erkennst\, individuell anpasst und präzise anzeichnest. Erfahre\, wie Du mit Lücken\, Asymmetrien oder schwierigen Ausgangssituationen professionell umgehst und dabei Schritt für Schritt eine ideale Brauenform aufbaust. Abgerundet wird alles durch wertvolle Praxis-Tipps und Tool-Empfehlungen\, mit denen Du jedes Brow-Styling perfekt vollendest. \nJetzt anmelden und zum Brow-Pro werden.
URL:https://anmeldungen.channoine.com/event/make-up-workshop-2-2-2-10-3-3-2-2-2-2-2-2-2/
LOCATION:Online
CATEGORIES:Visagistik
ATTACH;FMTTYPE=image/png:https://anmeldungen.channoine.com/wp-content/uploads/2023/08/WEB-Braue1_202507.png
ORGANIZER;CN="Annemarie Enskat":MAILTO:annemarie.enskat@channoine-partner.com
END:VEVENT
END:VCALENDAR