BEGIN:VCALENDAR
VERSION:2.0
PRODID:-//CBS Seminare - ECPv6.15.17.1//NONSGML v1.0//EN
CALSCALE:GREGORIAN
METHOD:PUBLISH
X-ORIGINAL-URL:https://anmeldungen.channoine.com
X-WR-CALDESC:Veranstaltungen für CBS Seminare
REFRESH-INTERVAL;VALUE=DURATION:PT1H
X-Robots-Tag:noindex
X-PUBLISHED-TTL:PT1H
BEGIN:VTIMEZONE
TZID:Europe/Berlin
BEGIN:DAYLIGHT
TZOFFSETFROM:+0100
TZOFFSETTO:+0200
TZNAME:CEST
DTSTART:20250330T010000
END:DAYLIGHT
BEGIN:STANDARD
TZOFFSETFROM:+0200
TZOFFSETTO:+0100
TZNAME:CET
DTSTART:20251026T010000
END:STANDARD
BEGIN:DAYLIGHT
TZOFFSETFROM:+0100
TZOFFSETTO:+0200
TZNAME:CEST
DTSTART:20260329T010000
END:DAYLIGHT
BEGIN:STANDARD
TZOFFSETFROM:+0200
TZOFFSETTO:+0100
TZNAME:CET
DTSTART:20261025T010000
END:STANDARD
BEGIN:DAYLIGHT
TZOFFSETFROM:+0100
TZOFFSETTO:+0200
TZNAME:CEST
DTSTART:20270328T010000
END:DAYLIGHT
BEGIN:STANDARD
TZOFFSETFROM:+0200
TZOFFSETTO:+0100
TZNAME:CET
DTSTART:20271031T010000
END:STANDARD
END:VTIMEZONE
BEGIN:VEVENT
DTSTART;TZID=Europe/Berlin:20260701T190000
DTEND;TZID=Europe/Berlin:20260701T210000
DTSTAMP:20260419T234552
CREATED:20230814T112330Z
LAST-MODIFIED:20260130T085920Z
UID:10266-1782932400-1782939600@anmeldungen.channoine.com
SUMMARY:Mehr als nur Produkte!
DESCRIPTION:Mehr als nur Produkte!Wie Du mit Strategie und Persönlichkeit Dein Business richtig platzierst. \nMore Personality – Du bist die Marke\, nicht das Produkt!Vertrauen schlägt Produkt! Lerne\, wie Du Dich mit Deiner Persönlichkeit klar positionierst und Vertrauen aufbaust. \nElevator PitchEin Leitfaden für Deinen perfekten Elevator Pitch – einfach\, kurz und einprägsam. \nModerne Online- und Offline-MarketingstrategienWie Du sichtbar wirst\, ohne Zeit zu vergeuden – mit klaren Strategien statt Dauerstress. \nKI-Impulse für Deinen Marketing-AuftrittWertvolle Impulse zum Thema „Künstliche Intelligenz“ und wie Du sie für Deinen Auftritt nutzen kannst! \nJetzt anmelden! \n 
URL:https://anmeldungen.channoine.com/event/make-up-workshop-2-2-2-10-3-3-2-2-2-2-2/
LOCATION:Online
CATEGORIES:Visagistik
ATTACH;FMTTYPE=image/jpeg:https://anmeldungen.channoine.com/wp-content/uploads/2023/08/Hautbildanalyse_2_202308.jpg
ORGANIZER;CN="Juliane St%C3%B6bich":MAILTO:juliane.stoebich@channoine-partner.com
END:VEVENT
END:VCALENDAR