BEGIN:VCALENDAR
VERSION:2.0
PRODID:-//CBS Seminare - ECPv6.15.17.1//NONSGML v1.0//EN
CALSCALE:GREGORIAN
METHOD:PUBLISH
X-WR-CALNAME:CBS Seminare
X-ORIGINAL-URL:https://anmeldungen.channoine.com
X-WR-CALDESC:Veranstaltungen für CBS Seminare
REFRESH-INTERVAL;VALUE=DURATION:PT1H
X-Robots-Tag:noindex
X-PUBLISHED-TTL:PT1H
BEGIN:VTIMEZONE
TZID:Europe/Berlin
BEGIN:DAYLIGHT
TZOFFSETFROM:+0100
TZOFFSETTO:+0200
TZNAME:CEST
DTSTART:20250330T010000
END:DAYLIGHT
BEGIN:STANDARD
TZOFFSETFROM:+0200
TZOFFSETTO:+0100
TZNAME:CET
DTSTART:20251026T010000
END:STANDARD
BEGIN:DAYLIGHT
TZOFFSETFROM:+0100
TZOFFSETTO:+0200
TZNAME:CEST
DTSTART:20260329T010000
END:DAYLIGHT
BEGIN:STANDARD
TZOFFSETFROM:+0200
TZOFFSETTO:+0100
TZNAME:CET
DTSTART:20261025T010000
END:STANDARD
BEGIN:DAYLIGHT
TZOFFSETFROM:+0100
TZOFFSETTO:+0200
TZNAME:CEST
DTSTART:20270328T010000
END:DAYLIGHT
BEGIN:STANDARD
TZOFFSETFROM:+0200
TZOFFSETTO:+0100
TZNAME:CET
DTSTART:20271031T010000
END:STANDARD
END:VTIMEZONE
BEGIN:VEVENT
DTSTART;TZID=Europe/Berlin:20260304T190000
DTEND;TZID=Europe/Berlin:20260304T203000
DTSTAMP:20260419T184304
CREATED:20240119T122330Z
LAST-MODIFIED:20251218T135032Z
UID:9895-1772650800-1772656200@anmeldungen.channoine.com
SUMMARY:SONNE – CHANNOINE SUN COLLECTION
DESCRIPTION:Lange sonnige Tage\, steigende Temperaturen sowie Freizeit- und Urlaubsgenuss im Freien kennzeichnen nun jene Zeit\, die mit dem Frühsommer und Sommer vor uns liegt. Die Vorfreude auf diese Jahreszeit mit viel Sonnenschein sollte jedoch nicht darüber hinwegtäuschen\, dass ein ausgezeichneter Sonnenschutz ein absolutes „Must-have“ ist.  \nUm Sie bei Ihren Kundenterminen zum Thema „Sonne & Sonnenschutz“ bestens zu unterstützen\, bieten wir Ihnen ein Online-Impuls-Webinar zum Spezialthema „SONNE – CHANNOINE SUN COLLECTION“. \nSeien Sie dabei und profitieren Sie von den vielen wertvollen Inputs!
URL:https://anmeldungen.channoine.com/event/make-up-workshop-2-2-2-8-2-2-2-2/
LOCATION:Online
CATEGORIES:CHANNOINE
ATTACH;FMTTYPE=image/png:https://anmeldungen.channoine.com/wp-content/uploads/2023/08/Sun_1_202401.png
END:VEVENT
BEGIN:VEVENT
DTSTART;TZID=Europe/Berlin:20260310T190000
DTEND;TZID=Europe/Berlin:20260310T213000
DTSTAMP:20260419T184304
CREATED:20230814T112330Z
LAST-MODIFIED:20250915T094523Z
UID:5098-1773169200-1773178200@anmeldungen.channoine.com
SUMMARY:10. NGA-Termin INSTAGRAM
DESCRIPTION:
URL:https://anmeldungen.channoine.com/event/make-up-workshop-2-2-2-9-2-2-2-2-2-2-2/
LOCATION:Online
CATEGORIES:Nicht Publik
ORGANIZER;CN="Juliane St%C3%B6bich":MAILTO:juliane.stoebich@channoine-partner.com
END:VEVENT
BEGIN:VEVENT
DTSTART;TZID=Europe/Berlin:20260311T190000
DTEND;TZID=Europe/Berlin:20260311T210000
DTSTAMP:20260419T184304
CREATED:20230814T112330Z
LAST-MODIFIED:20260130T085604Z
UID:10230-1773255600-1773262800@anmeldungen.channoine.com
SUMMARY:Next Level – Brautstyling
DESCRIPTION:Die Kunst des perfekten Braut-Make-ups! \nFreue Dich auf wertvolle Tipps und praxisnahe Tricks für ein makelloses\, langanhaltendes Brautstyling – von der optimalen Vorbereitung bis hin zu professionellen Techniken und aktuellen Trends.Außerdem lernst Du\, wie Du verschiedene Brautpakete klar strukturierst und individuell auf die Wünsche Deiner Bräute abstimmst. \nEin weiterer Schwerpunkt zeigt Dir\, wie Bräute zu zufriedenen Neukundinnen für Dein eigenes CHANNOINE-Studio werden. \nErweitere Dein Know-how für erfolgreiche Brautstylings und einen nachhaltigen Studioaufbau!
URL:https://anmeldungen.channoine.com/event/make-up-workshop-2-2-2-10-3-3-2-2-2/
LOCATION:Online
CATEGORIES:Visagistik
ATTACH;FMTTYPE=image/png:https://anmeldungen.channoine.com/wp-content/uploads/2023/08/LP_Make-up_04_202601.png
END:VEVENT
BEGIN:VEVENT
DTSTART;TZID=Europe/Berlin:20260318T190000
DTEND;TZID=Europe/Berlin:20260318T203000
DTSTAMP:20260419T184304
CREATED:20260114T080010Z
LAST-MODIFIED:20260114T085743Z
UID:9977-1773860400-1773865800@anmeldungen.channoine.com
SUMMARY:Detox the Body – Stoffwechsel-Balance
DESCRIPTION:Lassen Energie und Elan nach? Wirken Haut und Bindegewebe nicht mehr so frisch und straff wie gewohnt? Damit sendet der Körper oft ein klares Signal: Er sehnt sich nach einer intensiven Reinigung. Entgiften\, Entschlacken\, Entsäuern – Ballast abwerfen! \nIn diesem Webinar besprechen wir die vielfältigen Möglichkeiten\, wie Deine Kunden eine effektive und sinnvolle Entgiftungskur durchführen können. \nDafür setzen wir unseren Fokus auf Nuprem Plus\, Optabial Plus\, Dioluxsan Living Microorganism\, Aloe Vera Premium Plus\, Noni Xtra Plus und Spermidin Basic Supplement.
URL:https://anmeldungen.channoine.com/event/instagram-wie-3-7-2-2-4-3-2-2/
LOCATION:Online
CATEGORIES:Nobusan
ATTACH;FMTTYPE=image/png:https://anmeldungen.channoine.com/wp-content/uploads/2023/08/LP_NOBUSAN_Jubi_Quartal_01_202512-2.png
END:VEVENT
BEGIN:VEVENT
DTSTART;TZID=Europe/Berlin:20260325T190000
DTEND;TZID=Europe/Berlin:20260325T203000
DTSTAMP:20260419T184304
CREATED:20240119T120030Z
LAST-MODIFIED:20251218T135612Z
UID:9903-1774465200-1774470600@anmeldungen.channoine.com
SUMMARY:BODY\, HAIR & MORE
DESCRIPTION:ENTDECKE DIE WELT DER KÖRPER- UND HAARPFLEGE AUS GANZ NEUEN PERSPEKTIVEN!   \nWir …  \n\nmachen gemeinsam eine Reise durch die vier Jahreszeiten mit der Körperhaut.\nnehmen Wirkweisen und Werteprofil der einzelnen SKIN EMOTION-Highlights unter die Lupe.\nlegen den Fokus auf die Bedürfnisse der einzelnen Körperzonen wie Hände\, Füße\, Beine\, etc.\nlegen einen wichtigen Schwerpunkt auf IHN und wie wir IHN zum Stammkunden machen.\nöffnen Türen zur Neukundengewinnung mit CHANNOINE-SKIN EMOTION.\nschnüren Produkt-Packages von Kopf bis Fuß – für Deinen maximalen Verkaufserfolg.\nbeleuchten „Beauty-Darlings“ & „Gifts“\, um Hautträume zu verschenken.\nund Du wirst erleben\, wie viele Chancen es gibt\, über SKIN EMOTION auch andere neue Einkommensmöglichkeiten zu eröffnen.\n\nMach dieses Jahr zu Deinem Erfolgsjahr mit SKIN EMOTION & Co.!
URL:https://anmeldungen.channoine.com/event/make-up-workshop-2-2-2-7-2-2-2-2/
LOCATION:Online
CATEGORIES:CHANNOINE
ATTACH;FMTTYPE=image/png:https://anmeldungen.channoine.com/wp-content/uploads/2023/08/BodyHair_202401.png
END:VEVENT
BEGIN:VEVENT
DTSTART;TZID=Europe/Berlin:20260326T190000
DTEND;TZID=Europe/Berlin:20260326T213000
DTSTAMP:20260419T184304
CREATED:20230814T112330Z
LAST-MODIFIED:20250606T113228Z
UID:5106-1774551600-1774560600@anmeldungen.channoine.com
SUMMARY:11. NGA-Termin VERTRIEBSPARTNERAUFBAU & VERTRIEBSPARTNERCOACHING
DESCRIPTION:
URL:https://anmeldungen.channoine.com/event/make-up-workshop-2-2-2-9-2-2-2-2-2-2-2-2/
LOCATION:Online
CATEGORIES:Nicht Publik
ORGANIZER;CN="Juliane St%C3%B6bich":MAILTO:juliane.stoebich@channoine-partner.com
END:VEVENT
END:VCALENDAR