BEGIN:VCALENDAR
VERSION:2.0
PRODID:-//CBS Seminare - ECPv6.15.17.1//NONSGML v1.0//EN
CALSCALE:GREGORIAN
METHOD:PUBLISH
X-WR-CALNAME:CBS Seminare
X-ORIGINAL-URL:https://anmeldungen.channoine.com
X-WR-CALDESC:Veranstaltungen für CBS Seminare
REFRESH-INTERVAL;VALUE=DURATION:PT1H
X-Robots-Tag:noindex
X-PUBLISHED-TTL:PT1H
BEGIN:VTIMEZONE
TZID:Europe/Berlin
BEGIN:DAYLIGHT
TZOFFSETFROM:+0100
TZOFFSETTO:+0200
TZNAME:CEST
DTSTART:20250330T010000
END:DAYLIGHT
BEGIN:STANDARD
TZOFFSETFROM:+0200
TZOFFSETTO:+0100
TZNAME:CET
DTSTART:20251026T010000
END:STANDARD
BEGIN:DAYLIGHT
TZOFFSETFROM:+0100
TZOFFSETTO:+0200
TZNAME:CEST
DTSTART:20260329T010000
END:DAYLIGHT
BEGIN:STANDARD
TZOFFSETFROM:+0200
TZOFFSETTO:+0100
TZNAME:CET
DTSTART:20261025T010000
END:STANDARD
BEGIN:DAYLIGHT
TZOFFSETFROM:+0100
TZOFFSETTO:+0200
TZNAME:CEST
DTSTART:20270328T010000
END:DAYLIGHT
BEGIN:STANDARD
TZOFFSETFROM:+0200
TZOFFSETTO:+0100
TZNAME:CET
DTSTART:20271031T010000
END:STANDARD
END:VTIMEZONE
BEGIN:VEVENT
DTSTART;TZID=Europe/Berlin:20260203T190000
DTEND;TZID=Europe/Berlin:20260203T203000
DTSTAMP:20260419T202405
CREATED:20260114T080010Z
LAST-MODIFIED:20260114T085643Z
UID:9966-1770145200-1770150600@anmeldungen.channoine.com
SUMMARY:Mission Wohlfühlfigur – Stoffwechsel-Neustart
DESCRIPTION:Abnehmen\, die Figur formen – ein bisschen Verzicht hier\, ein bisschen dort… \nViele kennen das: Unzufriedenheit mit sich selbst\, mit dem eigenen Körper. Wie fange ich an? Wie gestalte ich meinen Plan? Kommt Dir das bekannt vor? \nViele unserer Kunden stehen genau vor dieser Herausforderung. In diesem Webinar geben wir Dir eine klare Orientierung: Schritt für Schritt lernst Du die Grundlagen für erfolgreiches Figurformen kennen. Wir besprechen\, wie wir unsere bewährten Kurprogramme einfach in den Alltag integrieren können und wie sie unsere Kunden strukturiert ans Ziel bringen. \nDabei nutzen wir das NOBUSAN-Jubiläumsangebot mit Nuprem Plus\, Optabial Plus und Dioluxsan Living Microorganism.
URL:https://anmeldungen.channoine.com/event/instagram-wie-3-7-2-2-4-3-2/
LOCATION:Online
CATEGORIES:Nobusan
ATTACH;FMTTYPE=image/png:https://anmeldungen.channoine.com/wp-content/uploads/2023/08/LP_NOBUSAN_Jubi_Quartal_01_202512-2.png
END:VEVENT
BEGIN:VEVENT
DTSTART;TZID=Europe/Berlin:20260219T190000
DTEND;TZID=Europe/Berlin:20260219T210000
DTSTAMP:20260419T202405
CREATED:20230814T112330Z
LAST-MODIFIED:20260130T085406Z
UID:10223-1771527600-1771534800@anmeldungen.channoine.com
SUMMARY:Color Me Right – Farbtypanalyse trifft gezieltes Rouge-Styling
DESCRIPTION:F \nFarben verstehen. Gesichter gestalten. \nIn diesem praxisnahen Impulswebinar kombinieren wir Farbtypanalyse mit gezieltem Rouge-Styling – für ein Make-up\, das wirklich harmoniert. Lerne\, wie Du Farbtypen sicher erkennst und Rouge so platzierst und nuancierst\, dass es den individuellen Teint zum Strahlen bringt. \nIdeal\, um Deine Beratungskompetenz zu schärfen und Deine Looks noch typgerechter zu gestalten. \nJetzt anmelden und Farbe gezielt wie ein Profi einsetzen.
URL:https://anmeldungen.channoine.com/event/make-up-workshop-2-2-2-10-3-3-2-2/
LOCATION:Online
CATEGORIES:Visagistik
ATTACH;FMTTYPE=image/png:https://anmeldungen.channoine.com/wp-content/uploads/2023/08/LP_Make-up_03_202601.png
ORGANIZER;CN="Johanna Geppel":MAILTO:johanna.geppel@channoione-partner.com
END:VEVENT
BEGIN:VEVENT
DTSTART;TZID=Europe/Berlin:20260225T190000
DTEND;TZID=Europe/Berlin:20260225T203000
DTSTAMP:20260419T202405
CREATED:20240119T120030Z
LAST-MODIFIED:20251218T134638Z
UID:9887-1772046000-1772051400@anmeldungen.channoine.com
SUMMARY:FOUR SEASONS – der Jahreskreis mit dem Kunden
DESCRIPTION:Ergreifen Sie die Gelegenheit und nehmen Sie am Impuls-Webinar teil – inhaltsstark und nutzbringend für Ihr CHANNOINE-Geschäft! \nDiese Inhalte warten auf Sie: \n\nDie fünf unterschiedlichen Kundentermine im Jahreskreis als „ Win-Win-Konzept“ für Sie und Ihre Kund/innen\nDie Haut im Wechsel der Jahreszeit\n„Body-Skin-Check-up“ – der Körperpflege-Kurztermin als Umsatz-Highlight\n2 bis 3 Kundenevents im Jahreskreis richtig durchgeführt als maximale Erfolgsgaranten!\nIdeen und Durchführungstipps zu Kundenworkshops für ein Umsatzplus durch zeiteffizientes Kundenmanagement\nWerbemöglichkeiten mit CHANNOINE-Werbetools\nKundentermin – Analyse – Lösung – Set-Verkauf\n\nAn diesem Impuls-Webinar können Sie zum Vorzugspreis von nur EUR 20.- zzgl. MwSt. teilnehmen. Die Anmeldung löst automatisch die Verrechnung der Seminargebühr aus\, die in gewohnter Weise durch CHANNOINE erfolgt. \nFür alle Vertriebspartner/innen\, die die CHANNOINE SKIN-CARE-Fachausbildung (C1 bis C5) absolvieren beziehungsweise anstreben\, ist die einmalige Teilnahme an diesem Webinar auch die Voraussetzung für das Erlangen des Ausbildungszertifikats zum „CHANNOINE Beauty-Advisor“. \nProfitieren auch Sie – für Ihr Geschäft in den nächsten Wochen und Monaten!
URL:https://anmeldungen.channoine.com/event/make-up-workshop-2-2-2-7-3-2-2-2/
LOCATION:Online
CATEGORIES:CHANNOINE
ATTACH;FMTTYPE=image/png:https://anmeldungen.channoine.com/wp-content/uploads/2023/08/Jahreskreis_202401.png
END:VEVENT
BEGIN:VEVENT
DTSTART;TZID=Europe/Berlin:20260226T190000
DTEND;TZID=Europe/Berlin:20260226T213000
DTSTAMP:20260419T202405
CREATED:20230814T112330Z
LAST-MODIFIED:20250606T112920Z
UID:5090-1772132400-1772141400@anmeldungen.channoine.com
SUMMARY:9. NGA-Termin HERAUSFORDERUNGEN & DENKBLOCKADEN
DESCRIPTION:
URL:https://anmeldungen.channoine.com/event/make-up-workshop-2-2-2-9-2-2-2-2-2/
LOCATION:Online
CATEGORIES:Nicht Publik
ORGANIZER;CN="Juliane St%C3%B6bich":MAILTO:juliane.stoebich@channoine-partner.com
END:VEVENT
BEGIN:VEVENT
DTSTART;TZID=Europe/Berlin:20260226T190000
DTEND;TZID=Europe/Berlin:20260226T213000
DTSTAMP:20260419T202405
CREATED:20230814T112330Z
LAST-MODIFIED:20250606T115212Z
UID:8456-1772132400-1772141400@anmeldungen.channoine.com
SUMMARY:9. NGA-Termin HERAUSFORDERUNGEN & DENKBLOCKADEN
DESCRIPTION:
URL:https://anmeldungen.channoine.com/event/make-up-workshop-2-2-2-9-2-2-2-2-2-3/
LOCATION:Online
CATEGORIES:Nicht Publik
ORGANIZER;CN="Juliane St%C3%B6bich":MAILTO:juliane.stoebich@channoine-partner.com
END:VEVENT
END:VCALENDAR