BEGIN:VCALENDAR
VERSION:2.0
PRODID:-//CBS Seminare - ECPv6.15.17.1//NONSGML v1.0//EN
CALSCALE:GREGORIAN
METHOD:PUBLISH
X-ORIGINAL-URL:https://anmeldungen.channoine.com
X-WR-CALDESC:Veranstaltungen für CBS Seminare
REFRESH-INTERVAL;VALUE=DURATION:PT1H
X-Robots-Tag:noindex
X-PUBLISHED-TTL:PT1H
BEGIN:VTIMEZONE
TZID:Europe/Berlin
BEGIN:DAYLIGHT
TZOFFSETFROM:+0100
TZOFFSETTO:+0200
TZNAME:CEST
DTSTART:20250330T010000
END:DAYLIGHT
BEGIN:STANDARD
TZOFFSETFROM:+0200
TZOFFSETTO:+0100
TZNAME:CET
DTSTART:20251026T010000
END:STANDARD
BEGIN:DAYLIGHT
TZOFFSETFROM:+0100
TZOFFSETTO:+0200
TZNAME:CEST
DTSTART:20260329T010000
END:DAYLIGHT
BEGIN:STANDARD
TZOFFSETFROM:+0200
TZOFFSETTO:+0100
TZNAME:CET
DTSTART:20261025T010000
END:STANDARD
BEGIN:DAYLIGHT
TZOFFSETFROM:+0100
TZOFFSETTO:+0200
TZNAME:CEST
DTSTART:20270328T010000
END:DAYLIGHT
BEGIN:STANDARD
TZOFFSETFROM:+0200
TZOFFSETTO:+0100
TZNAME:CET
DTSTART:20271031T010000
END:STANDARD
END:VTIMEZONE
BEGIN:VEVENT
DTSTART;TZID=Europe/Berlin:20260107T190000
DTEND;TZID=Europe/Berlin:20260107T203000
DTSTAMP:20260419T215944
CREATED:20230814T132810Z
LAST-MODIFIED:20260107T181145Z
UID:9809-1767812400-1767817800@anmeldungen.channoine.com
SUMMARY:Dry-January / Magen-Darm-Leber in Balance
DESCRIPTION:Üppige Mahlzeiten\, Süßes\, Fettiges\, Stress\, wenig Schlaf\, vielleicht ein Gläschen zu viel … all das hinterlässt Spuren. Der Wunsch nach einem Neustart ist jetzt riesig – mach den Jänner zum Neustart der Gesundheit und Vitalität. Der „Dry-January“ bietet dafür den perfekten Rahmen. Er ist ein gesellschaftlicher Trend\, der jedes Jahr mehr an Bedeutung gewinnt. Nützen wird dies\, um unsere Kunden bei diesem Vorhaben zu unterstützen. Diesen Wunsch in klare\, leicht umsetzbare Schritte zu verwandeln. \nDry January – die gesunde Mitte von Magen\, Darm und Leber \nBesprechen wir dazu die fachlichen Details der bewährten Kurprogramme bzw. den optimalen Einsatz von Dioluxsan Duo\, Exeloryl\, Libractol und Amdoron! \n 
URL:https://anmeldungen.channoine.com/event/instagram-wie-3-7-2-2-4-3/
LOCATION:Online
CATEGORIES:Nobusan
ATTACH;FMTTYPE=image/png:https://anmeldungen.channoine.com/wp-content/uploads/2023/08/LP_NB_Magen-Darm_02_202512.png
END:VEVENT
BEGIN:VEVENT
DTSTART;TZID=Europe/Berlin:20260108T190000
DTEND;TZID=Europe/Berlin:20260108T213000
DTSTAMP:20260419T215944
CREATED:20230814T112330Z
LAST-MODIFIED:20250606T112509Z
UID:5075-1767898800-1767907800@anmeldungen.channoine.com
SUMMARY:6. NGA-Termin CUSTOMER JOURNEY
DESCRIPTION:
URL:https://anmeldungen.channoine.com/event/make-up-workshop-2-2-2-9-2-2-2/
LOCATION:Online
CATEGORIES:Nicht Publik
ORGANIZER;CN="Juliane St%C3%B6bich":MAILTO:juliane.stoebich@channoine-partner.com
END:VEVENT
BEGIN:VEVENT
DTSTART;TZID=Europe/Berlin:20260129T183000
DTEND;TZID=Europe/Berlin:20260129T210000
DTSTAMP:20260419T215944
CREATED:20230814T112330Z
LAST-MODIFIED:20250606T112816Z
UID:5116-1769711400-1769720400@anmeldungen.channoine.com
SUMMARY:7. NGA-Termin TÜRÖFFNER – NOBUSAN
DESCRIPTION:
URL:https://anmeldungen.channoine.com/event/make-up-workshop-2-2-2-9-2-2-2-2-2-2-2-2-2-2/
LOCATION:Online
CATEGORIES:Nicht Publik
ORGANIZER;CN="Juliane St%C3%B6bich":MAILTO:juliane.stoebich@channoine-partner.com
END:VEVENT
END:VCALENDAR