BEGIN:VCALENDAR
VERSION:2.0
PRODID:-//CBS Seminare - ECPv6.15.17.1//NONSGML v1.0//EN
CALSCALE:GREGORIAN
METHOD:PUBLISH
X-ORIGINAL-URL:https://anmeldungen.channoine.com
X-WR-CALDESC:Veranstaltungen für CBS Seminare
REFRESH-INTERVAL;VALUE=DURATION:PT1H
X-Robots-Tag:noindex
X-PUBLISHED-TTL:PT1H
BEGIN:VTIMEZONE
TZID:Europe/Berlin
BEGIN:DAYLIGHT
TZOFFSETFROM:+0100
TZOFFSETTO:+0200
TZNAME:CEST
DTSTART:20240331T010000
END:DAYLIGHT
BEGIN:STANDARD
TZOFFSETFROM:+0200
TZOFFSETTO:+0100
TZNAME:CET
DTSTART:20241027T010000
END:STANDARD
BEGIN:DAYLIGHT
TZOFFSETFROM:+0100
TZOFFSETTO:+0200
TZNAME:CEST
DTSTART:20250330T010000
END:DAYLIGHT
BEGIN:STANDARD
TZOFFSETFROM:+0200
TZOFFSETTO:+0100
TZNAME:CET
DTSTART:20251026T010000
END:STANDARD
BEGIN:DAYLIGHT
TZOFFSETFROM:+0100
TZOFFSETTO:+0200
TZNAME:CEST
DTSTART:20260329T010000
END:DAYLIGHT
BEGIN:STANDARD
TZOFFSETFROM:+0200
TZOFFSETTO:+0100
TZNAME:CET
DTSTART:20261025T010000
END:STANDARD
END:VTIMEZONE
BEGIN:VEVENT
DTSTART;TZID=Europe/Berlin:20250806T190000
DTEND;TZID=Europe/Berlin:20250806T203000
DTSTAMP:20260420T062220
CREATED:20230814T132810Z
LAST-MODIFIED:20250613T094738Z
UID:8499-1754506800-1754512200@anmeldungen.channoine.com
SUMMARY:Anti-Aging – Slow-Aging – Startklar in den Spätsommer/Frühherbst
DESCRIPTION:Strahlkraft & Vitalität – auch in der zweiten Jahreshälfte! \nKollagen\, Hyaluron\, Spermidin\, Melatonin und probiotische Kulturen sind zentrale Bausteine für unsere Lebensqualität.In jungen Jahren produziert der Körper diese Stoffe im Überfluss – doch mit zunehmendem Alter nimmt die körpereigene Produktion stetig ab.Dieser schleichende Rückgang macht sich nach und nach in verschiedensten Bereichen bemerkbar – sichtbar und spürbar. Besonders im Spätsommer und Frühherbst treten durch die sonnenbedingte Hautbelastung viele dieser Veränderungen verstärkt zutage. \nSkindream\, Spermidin Basic\, Repusan und Probiotika – eine unschlagbare Kombination für ein strahlendes Ich und gesundes Altern! \nLass uns gemeinsam über individuelle Möglichkeiten sprechen und maßgeschneiderte Spätsommer-/Frühherbst-Kurprogramme für unsere Kundinnen und Kunden zusammenstellen.
URL:https://anmeldungen.channoine.com/event/instagram-wie-3-2-2-2/
LOCATION:Online
CATEGORIES:Nobusan
ATTACH;FMTTYPE=image/png:https://anmeldungen.channoine.com/wp-content/uploads/2023/08/Anti-Aging_1_202312.png
END:VEVENT
BEGIN:VEVENT
DTSTART;TZID=Europe/Berlin:20250807T190000
DTEND;TZID=Europe/Berlin:20250807T200000
DTSTAMP:20260420T062220
CREATED:20240617T091026Z
LAST-MODIFIED:20250325T104539Z
UID:7141-1754593200-1754596800@anmeldungen.channoine.com
SUMMARY:Erfolgsprojekt - PARISHEE
DESCRIPTION:„Coming together is a beginning. Keeping together is progress. Working together is success.“ – Henry Ford – \nSehr geschätzte Vertriebspartnerinnen und Vertriebspartner\, \nseid dabei bei unserer neuen Erfolgs-Webinar-Reihe E-P-P: „Erfolgs-Projekt-PARISHEE“! \nEin Arbeitskreis voller Power\, Inspirationen\, neuer Ideen und Austausch erwartet Euch. Lasst uns gemeinsam PARISHEE entdecken\, erobern und multiplizieren! \nWarum ist PARISHEE so wichtig für Dich? Dein Erfolg beginnt mit Deiner eigenen Begeisterung und Identifikation mit PARISHEE. Deine Leidenschaft und authentischen Emotionen wecken Neugier\, schaffen Vertrauen und vermitteln das Gefühl von „Das ist etwas Besonderes\, das gönne ich mir\, das schenke ich\, etc.“. \n Für wen ist dieses Erfolgs-Projekt gedacht? Für alle Vertriebspartner/innen\, die sich weiterentwickeln wollen. \nInhalte unseres Arbeitskreises: \n\nPARISHEE-Werteprofil\nVerkauf – unzählige Möglichkeiten\nPARISHEE-Neukunden – Ja! Aber wie?\nIdeenbörse\nSets\nAktivitäten gemeinsam kreieren und erfolgreich umsetzen\nPARISHEE-Produktmix-Erweiterung\n„SIE“ & PARISHEE\nPARISHEE – neue Business-Chance / neue Vertriebspartner/innen\nErfahrungsaustausch der Teilnehmer/innen\nErfolge in der Workshopgruppe multiplizieren\nGemeinsam online Spaß haben und Erfolge feiern\nUnd vieles mehr!\n\nTeilnahme: Die E-P-P-Webinare werden monatlich am ersten Donnerstag stattfinden. Eine regelmäßige Teilnahme wird empfohlen\, um viele persönliche Erfolge zu erzielen. \nIch freue mich sehr darauf\, mit Euch gemeinsam Euer neues PARISHEE-Erfolgsjahr zu feiern! \nBeste Grüße \nRenate HolzhammerCHANNOINE-Seminarleiterin \n 
URL:https://anmeldungen.channoine.com/event/erfolgs-projekt-parishee-2-2-2-2-2-2-2-5-2/
LOCATION:Online
CATEGORIES:Business
ATTACH;FMTTYPE=image/png:https://anmeldungen.channoine.com/wp-content/uploads/2024/06/ParisheeMan_Webinar_202407-1.png
END:VEVENT
END:VCALENDAR