BEGIN:VCALENDAR
VERSION:2.0
PRODID:-//CBS Seminare - ECPv6.15.17.1//NONSGML v1.0//EN
CALSCALE:GREGORIAN
METHOD:PUBLISH
X-WR-CALNAME:CBS Seminare
X-ORIGINAL-URL:https://anmeldungen.channoine.com
X-WR-CALDESC:Veranstaltungen für CBS Seminare
REFRESH-INTERVAL;VALUE=DURATION:PT1H
X-Robots-Tag:noindex
X-PUBLISHED-TTL:PT1H
BEGIN:VTIMEZONE
TZID:Europe/Berlin
BEGIN:DAYLIGHT
TZOFFSETFROM:+0100
TZOFFSETTO:+0200
TZNAME:CEST
DTSTART:20240331T010000
END:DAYLIGHT
BEGIN:STANDARD
TZOFFSETFROM:+0200
TZOFFSETTO:+0100
TZNAME:CET
DTSTART:20241027T010000
END:STANDARD
BEGIN:DAYLIGHT
TZOFFSETFROM:+0100
TZOFFSETTO:+0200
TZNAME:CEST
DTSTART:20250330T010000
END:DAYLIGHT
BEGIN:STANDARD
TZOFFSETFROM:+0200
TZOFFSETTO:+0100
TZNAME:CET
DTSTART:20251026T010000
END:STANDARD
BEGIN:DAYLIGHT
TZOFFSETFROM:+0100
TZOFFSETTO:+0200
TZNAME:CEST
DTSTART:20260329T010000
END:DAYLIGHT
BEGIN:STANDARD
TZOFFSETFROM:+0200
TZOFFSETTO:+0100
TZNAME:CET
DTSTART:20261025T010000
END:STANDARD
END:VTIMEZONE
BEGIN:VEVENT
DTSTART;TZID=Europe/Berlin:20250604T190000
DTEND;TZID=Europe/Berlin:20250604T210000
DTSTAMP:20260420T092749
CREATED:20230814T132052Z
LAST-MODIFIED:20250325T105955Z
UID:5603-1749063600-1749070800@anmeldungen.channoine.com
SUMMARY:"Leichtes Reisegepäck"
DESCRIPTION:Mit dem kleinsten Beauty-Reisegepäck durch den Sommer!  \nOb am Strand\, beim Picknick oder bei der nächsten Gartenparty – Verleihen Sie den heißesten Tagen des Jahres mit wenig Aufwand\, aber viel Raffinesse und extra Glanz den perfekten Look. \nDaniela Rauter präsentiert Ihnen wieder luftig leichte Sommerlooks und verrät Ihnen alle Tipps und Tricks\, um Ihre Haut und Ihren Sommerauftritt perfekt in Szene zu setzen. \nGlamourös. Frisch. Sommerlich. \nVerpassen Sie nicht diese exklusive Veranstaltung und seien Sie live dabei.
URL:https://anmeldungen.channoine.com/event/leichtes-reisegepaeck-3/
LOCATION:Online
CATEGORIES:Visagistik
ATTACH;FMTTYPE=image/jpeg:https://anmeldungen.channoine.com/wp-content/uploads/2023/08/Leichtes_Gepaeck_202308.jpg
END:VEVENT
BEGIN:VEVENT
DTSTART;TZID=Europe/Berlin:20250605T190000
DTEND;TZID=Europe/Berlin:20250605T200000
DTSTAMP:20260420T092749
CREATED:20240617T091026Z
LAST-MODIFIED:20250325T105901Z
UID:7117-1749150000-1749153600@anmeldungen.channoine.com
SUMMARY:Erfolgsprojekt - PARISHEE
DESCRIPTION:„Coming together is a beginning. Keeping together is progress. Working together is success.“ – Henry Ford – \nSehr geschätzte Vertriebspartnerinnen und Vertriebspartner\, \nseid dabei bei unserer neuen Erfolgs-Webinar-Reihe E-P-P: „Erfolgs-Projekt-PARISHEE“! \nEin Arbeitskreis voller Power\, Inspirationen\, neuer Ideen und Austausch erwartet Euch. Lasst uns gemeinsam PARISHEE entdecken\, erobern und multiplizieren! \nWarum ist PARISHEE so wichtig für Dich? Dein Erfolg beginnt mit Deiner eigenen Begeisterung und Identifikation mit PARISHEE. Deine Leidenschaft und authentischen Emotionen wecken Neugier\, schaffen Vertrauen und vermitteln das Gefühl von „Das ist etwas Besonderes\, das gönne ich mir\, das schenke ich\, etc.“. \n Für wen ist dieses Erfolgs-Projekt gedacht? Für alle Vertriebspartner/innen\, die sich weiterentwickeln wollen. \nInhalte unseres Arbeitskreises: \n\nPARISHEE-Werteprofil\nVerkauf – unzählige Möglichkeiten\nPARISHEE-Neukunden – Ja! Aber wie?\nIdeenbörse\nSets\nAktivitäten gemeinsam kreieren und erfolgreich umsetzen\nPARISHEE-Produktmix-Erweiterung\n„SIE“ & PARISHEE\nPARISHEE – neue Business-Chance / neue Vertriebspartner/innen\nErfahrungsaustausch der Teilnehmer/innen\nErfolge in der Workshopgruppe multiplizieren\nGemeinsam online Spaß haben und Erfolge feiern\nUnd vieles mehr!\n\nTeilnahme: Die E-P-P-Webinare werden monatlich am ersten Donnerstag stattfinden. Eine regelmäßige Teilnahme wird empfohlen\, um viele persönliche Erfolge zu erzielen. \nIch freue mich sehr darauf\, mit Euch gemeinsam Euer neues PARISHEE-Erfolgsjahr zu feiern! \nBeste Grüße \nRenate HolzhammerCHANNOINE-Seminarleiterin \n 
URL:https://anmeldungen.channoine.com/event/erfolgs-projekt-parishee-2-2-2-2-2-2-2-4/
LOCATION:Online
CATEGORIES:Business
ATTACH;FMTTYPE=image/png:https://anmeldungen.channoine.com/wp-content/uploads/2024/06/ParisheeMan_Webinar_202407-1.png
END:VEVENT
BEGIN:VEVENT
DTSTART;TZID=Europe/Berlin:20250611T190000
DTEND;TZID=Europe/Berlin:20250611T203000
DTSTAMP:20260420T092749
CREATED:20240119T120030Z
LAST-MODIFIED:20250416T133054Z
UID:8142-1749668400-1749673800@anmeldungen.channoine.com
SUMMARY:Geschützt und gestärkt durch den Sommer
DESCRIPTION:Sonne – Grillen – Urlaub!Ein starkes Trio\, das nach einer besonderen Schutzkombination verlangt: \nZellschutz – Immunschutz – Leberschutz \nNicht nur in den kalten Wintermonaten braucht unser Körper eine Extraportion Vitamine\, um fit zu bleiben – auch der Sommer stellt uns vor besondere Herausforderungen: \nHohe Temperaturen\, intensive Sonnenstrahlung\, mehr Bewegung im Freien und genussvolle Grillabende fordern den Körper heraus. Jetzt ist die Unterstützung durch hochwertige Vitalstoffe besonders wichtig – nicht zu vergessen ist die Leber\, welche wie immer Höchstleistung bringen muss. \nWas gibt es im Sommer zu beachten? Welche Mikronährstoffe sind jetzt besonders gefragt? \nMit NOBUSAN gelingt es\, gezielt vorzubeugen und das Wohlbefinden optimal zu unterstützen. \nSchnüren wir gemeinsam ein ideales Sommerpaket für unsere Kundinnen und Kunden.
URL:https://anmeldungen.channoine.com/event/make-up-workshop-2-2-2-7-3-2-2-2-2/
LOCATION:Online
CATEGORIES:Nobusan
ATTACH;FMTTYPE=image/png:https://anmeldungen.channoine.com/wp-content/uploads/2024/01/Mit-Nobusan-durch-den-Sommer_202504.png
END:VEVENT
BEGIN:VEVENT
DTSTART;TZID=Europe/Berlin:20250624T190000
DTEND;TZID=Europe/Berlin:20250624T210000
DTSTAMP:20260420T092749
CREATED:20230814T112330Z
LAST-MODIFIED:20250325T105825Z
UID:7371-1750791600-1750798800@anmeldungen.channoine.com
SUMMARY:„Make-up-Workshop“
DESCRIPTION:Der Mädelsabend einmal anders!  \nEntdecken Sie die zauberhafte Welt des Make-up-Workshops und werden Sie zum Meister der Schönheit. \nIm Zuge dieses Webinars erhalten Sie einen Einblick\, wie ein professioneller und umsatzstarker Make-up-Workshop abläuft und wie Sie Ihre Kund/innen fesseln können. Gleichzeitig bietet der Make-up-Workshop ein großes Neukundenpotential\, das Sie sich auf keinen Fall entgehen lassen sollten! \nUnser exklusiver Make-up-Workshop für unsere Kund/innen zeigt professionelle Techniken\, um den individuellen Stil zu unterstreichen. Von natürlichen Looks bis hin zu glamourösen Auftritten – lernen Sie sich selbstbewusst und strahlend zu präsentieren. \nSeien Sie dabei! \n			\n				\n				\n				\n				\n				Der Mädelsabend einmal anders!  \nEntdecken Sie die zauberhafte Welt des Make-up-Workshops und werden Sie zum Meister der Schönheit. \nIm Zuge dieses Webinars erhalten Sie einen Einblick\, wie ein professioneller und umsatzstarker Make-up-Workshop abläuft und wie Sie Ihre Kund/innen fesseln können. Gleichzeitig bietet der Make-up-Workshop ein großes Neukundenpotential\, das Sie sich auf keinen Fall entgehen lassen sollten! \nUnser exklusiver Make-up-Workshop für unsere Kund/innen zeigt professionelle Techniken\, um den individuellen Stil zu unterstreichen. Von natürlichen Looks bis hin zu glamourösen Auftritten – lernen Sie sich selbstbewusst und strahlend zu präsentieren. \nSeien Sie dabei!
URL:https://anmeldungen.channoine.com/event/make-up-workshop-2-2-2-10/
LOCATION:Online
CATEGORIES:Visagistik
ATTACH;FMTTYPE=image/jpeg:https://anmeldungen.channoine.com/wp-content/uploads/2023/07/Maedelsabend_202307.jpg
ORGANIZER;CN="Juliane St%C3%B6bich":MAILTO:juliane.stoebich@channoine-partner.com
END:VEVENT
END:VCALENDAR