BEGIN:VCALENDAR
VERSION:2.0
PRODID:-//CBS Seminare - ECPv6.15.17.1//NONSGML v1.0//EN
CALSCALE:GREGORIAN
METHOD:PUBLISH
X-ORIGINAL-URL:https://anmeldungen.channoine.com
X-WR-CALDESC:Veranstaltungen für CBS Seminare
REFRESH-INTERVAL;VALUE=DURATION:PT1H
X-Robots-Tag:noindex
X-PUBLISHED-TTL:PT1H
BEGIN:VTIMEZONE
TZID:Europe/Berlin
BEGIN:DAYLIGHT
TZOFFSETFROM:+0100
TZOFFSETTO:+0200
TZNAME:CEST
DTSTART:20240331T010000
END:DAYLIGHT
BEGIN:STANDARD
TZOFFSETFROM:+0200
TZOFFSETTO:+0100
TZNAME:CET
DTSTART:20241027T010000
END:STANDARD
BEGIN:DAYLIGHT
TZOFFSETFROM:+0100
TZOFFSETTO:+0200
TZNAME:CEST
DTSTART:20250330T010000
END:DAYLIGHT
BEGIN:STANDARD
TZOFFSETFROM:+0200
TZOFFSETTO:+0100
TZNAME:CET
DTSTART:20251026T010000
END:STANDARD
BEGIN:DAYLIGHT
TZOFFSETFROM:+0100
TZOFFSETTO:+0200
TZNAME:CEST
DTSTART:20260329T010000
END:DAYLIGHT
BEGIN:STANDARD
TZOFFSETFROM:+0200
TZOFFSETTO:+0100
TZNAME:CET
DTSTART:20261025T010000
END:STANDARD
END:VTIMEZONE
BEGIN:VEVENT
DTSTART;TZID=Europe/Berlin:20250501T190000
DTEND;TZID=Europe/Berlin:20250501T200000
DTSTAMP:20260420T110307
CREATED:20240617T091026Z
LAST-MODIFIED:20250325T110307Z
UID:7115-1746126000-1746129600@anmeldungen.channoine.com
SUMMARY:Erfolgsprojekt - PARISHEE
DESCRIPTION:„Coming together is a beginning. Keeping together is progress. Working together is success.“ – Henry Ford – \nSehr geschätzte Vertriebspartnerinnen und Vertriebspartner\, \nseid dabei bei unserer neuen Erfolgs-Webinar-Reihe E-P-P: „Erfolgs-Projekt-PARISHEE“! \nEin Arbeitskreis voller Power\, Inspirationen\, neuer Ideen und Austausch erwartet Euch. Lasst uns gemeinsam PARISHEE entdecken\, erobern und multiplizieren! \nWarum ist PARISHEE so wichtig für Dich? Dein Erfolg beginnt mit Deiner eigenen Begeisterung und Identifikation mit PARISHEE. Deine Leidenschaft und authentischen Emotionen wecken Neugier\, schaffen Vertrauen und vermitteln das Gefühl von „Das ist etwas Besonderes\, das gönne ich mir\, das schenke ich\, etc.“. \n Für wen ist dieses Erfolgs-Projekt gedacht? Für alle Vertriebspartner/innen\, die sich weiterentwickeln wollen. \nInhalte unseres Arbeitskreises: \n\nPARISHEE-Werteprofil\nVerkauf – unzählige Möglichkeiten\nPARISHEE-Neukunden – Ja! Aber wie?\nIdeenbörse\nSets\nAktivitäten gemeinsam kreieren und erfolgreich umsetzen\nPARISHEE-Produktmix-Erweiterung\n„SIE“ & PARISHEE\nPARISHEE – neue Business-Chance / neue Vertriebspartner/innen\nErfahrungsaustausch der Teilnehmer/innen\nErfolge in der Workshopgruppe multiplizieren\nGemeinsam online Spaß haben und Erfolge feiern\nUnd vieles mehr!\n\nTeilnahme: Die E-P-P-Webinare werden monatlich am ersten Donnerstag stattfinden. Eine regelmäßige Teilnahme wird empfohlen\, um viele persönliche Erfolge zu erzielen. \nIch freue mich sehr darauf\, mit Euch gemeinsam Euer neues PARISHEE-Erfolgsjahr zu feiern! \nBeste Grüße \nRenate HolzhammerCHANNOINE-Seminarleiterin \n 
URL:https://anmeldungen.channoine.com/event/erfolgs-projekt-parishee-2-2-2-2-2-2-2-3/
LOCATION:Online
CATEGORIES:Business
ATTACH;FMTTYPE=image/png:https://anmeldungen.channoine.com/wp-content/uploads/2024/06/ParisheeMan_Webinar_202407-1.png
END:VEVENT
BEGIN:VEVENT
DTSTART;TZID=Europe/Berlin:20250508T180000
DTEND;TZID=Europe/Berlin:20250508T200000
DTSTAMP:20260420T110307
CREATED:20240220T071941Z
LAST-MODIFIED:20250314T124308Z
UID:7911-1746727200-1746734400@anmeldungen.channoine.com
SUMMARY:Fragen und Antworten zu CHANNOINE-Web-Tools
DESCRIPTION:Liebe Mitunternehmerinnen und Mitunternehmer! \nSehr gerne möchten wir Ihnen ergänzend zu unserer Service-Mailadresse online@channoine.com ein Frage- und Antwort-Webinar über unsere vertriebsunterstützenden Web-Tools (www.channoine.com\, www.channoine-partner.com\, Presono-Präsentationstool\, Marketingbox usw.) anbieten. Gemeinsam können wir beim Webinar Erfahrungswerte austauschen und nochmals grundlegenden Abläufe sowie Tipps und Tricks zu den folgenden Details durchgehen: \n\nOnline-Account-Aktivierung oder -Registrierung\nAffiliate-Funktion inkl. Berater-ID Verknüpfung\nPartner-Landingpage inkl. individueller Datenanpassung über Ihren Berater-Online-Account\nBeauty-Botschafter-Registrierung\nZur CHANNOINE-Marketingbox\nZum CHANNOINE-Präsentationstool\nv. m. an Themen\, die sich beim Webinar noch ergeben werden\n\nBei speziellen Anliegen Ihrerseits freuen wir uns vorweg über Ihre Kontaktaufnahme an online@channoine.com\, damit wir gegebenenfalls die Detailinhalte vom Webinar besser vorbereiten können und noch effektiver auf Ihre Themenschwerpunkte eingehen können. \nWir bedanken uns im Voraus und freuen uns auf Ihre zahlreiche Teilnahme.
URL:https://anmeldungen.channoine.com/event/online-tools-neu-termin-15-3-2-2-2-2-2-2-2-2-2-2-2-3-2-2-2-2/
LOCATION:Online
CATEGORIES:Business
ATTACH;FMTTYPE=image/png:https://anmeldungen.channoine.com/wp-content/uploads/2023/07/Webrelaunch_202402.png
END:VEVENT
BEGIN:VEVENT
DTSTART;TZID=Europe/Berlin:20250521T183000
DTEND;TZID=Europe/Berlin:20250521T210000
DTSTAMP:20260420T110307
CREATED:20240119T122330Z
LAST-MODIFIED:20250509T085713Z
UID:8253-1747852200-1747861200@anmeldungen.channoine.com
SUMMARY:SONNE – CHANNOINE SUN COLLECTION
DESCRIPTION:Lange sonnige Tage\, steigende Temperaturen sowie Freizeit- und Urlaubsgenuss im Freien kennzeichnen nun jene Zeit\, die mit dem Frühsommer und Sommer vor uns liegt. Die Vorfreude auf diese Jahreszeit mit viel Sonnenschein sollte jedoch nicht darüber hinwegtäuschen\, dass ein ausgezeichneter Sonnenschutz ein absolutes „Must-have“ ist.  \nUm Sie bei Ihren Kundenterminen zum Thema „Sonne & Sonnenschutz“ bestens zu unterstützen\, bieten wir Ihnen ein Online-Impuls-Webinar zum Spezialthema „SONNE – CHANNOINE SUN COLLECTION“. \nSeien Sie dabei und profitieren Sie von den vielen wertvollen Inputs!
URL:https://anmeldungen.channoine.com/event/make-up-workshop-2-2-2-8-2-2-2/
LOCATION:Online
CATEGORIES:CHANNOINE
ATTACH;FMTTYPE=image/png:https://anmeldungen.channoine.com/wp-content/uploads/2023/08/Sun_1_202401.png
END:VEVENT
BEGIN:VEVENT
DTSTART;TZID=Europe/Berlin:20250522T190000
DTEND;TZID=Europe/Berlin:20250522T210000
DTSTAMP:20260420T110307
CREATED:20230814T112330Z
LAST-MODIFIED:20250325T110212Z
UID:7819-1747940400-1747947600@anmeldungen.channoine.com
SUMMARY:Man’s Make-up World
DESCRIPTION:Männer-Make-up ist längst mehr als ein Trend – es ist eine Kunst! \nDoch welche Techniken\, Produkte und Herangehensweisen sind entscheidend\, um maskuline Gesichtszüge zu unterstreichen\, Hautbilder zu perfektionieren und typgerechte Looks zu kreieren?In diesem Online-Impulswebinar tauchen wir in die Welt des Männer-Make-ups ein.Erfahren sie\, wie sie ihre Skills erweitern und souverän auf die speziellen Anforderungen der männlichen Kundschaft eingehen. \nWas sie erwartet: \n\nHautvorbereitung & Produktauswahl speziell für Männer\nNatürlichkeit vs. Statement-Looks – die richtige Balance finden\nTechniken für Foto-\, TV- & Business-Make-up\nTipps für unterschiedliche Hauttypen & Altersgruppen\n\nNutzen sie diese Gelegenheit\, ihr Know-how gezielt zu erweitern und sich in einem wachsenden Markt zu positionieren!
URL:https://anmeldungen.channoine.com/event/make-up-workshop-2-2-2-10-2/
LOCATION:Online
CATEGORIES:Visagistik
ATTACH;FMTTYPE=image/png:https://anmeldungen.channoine.com/wp-content/uploads/2023/08/Makeup_2_202503.png
END:VEVENT
END:VCALENDAR