BEGIN:VCALENDAR
VERSION:2.0
PRODID:-//CBS Seminare - ECPv6.15.17.1//NONSGML v1.0//EN
CALSCALE:GREGORIAN
METHOD:PUBLISH
X-WR-CALNAME:CBS Seminare
X-ORIGINAL-URL:https://anmeldungen.channoine.com
X-WR-CALDESC:Veranstaltungen für CBS Seminare
REFRESH-INTERVAL;VALUE=DURATION:PT1H
X-Robots-Tag:noindex
X-PUBLISHED-TTL:PT1H
BEGIN:VTIMEZONE
TZID:Europe/Berlin
BEGIN:DAYLIGHT
TZOFFSETFROM:+0100
TZOFFSETTO:+0200
TZNAME:CEST
DTSTART:20240331T010000
END:DAYLIGHT
BEGIN:STANDARD
TZOFFSETFROM:+0200
TZOFFSETTO:+0100
TZNAME:CET
DTSTART:20241027T010000
END:STANDARD
BEGIN:DAYLIGHT
TZOFFSETFROM:+0100
TZOFFSETTO:+0200
TZNAME:CEST
DTSTART:20250330T010000
END:DAYLIGHT
BEGIN:STANDARD
TZOFFSETFROM:+0200
TZOFFSETTO:+0100
TZNAME:CET
DTSTART:20251026T010000
END:STANDARD
BEGIN:DAYLIGHT
TZOFFSETFROM:+0100
TZOFFSETTO:+0200
TZNAME:CEST
DTSTART:20260329T010000
END:DAYLIGHT
BEGIN:STANDARD
TZOFFSETFROM:+0200
TZOFFSETTO:+0100
TZNAME:CET
DTSTART:20261025T010000
END:STANDARD
END:VTIMEZONE
BEGIN:VEVENT
DTSTART;TZID=Europe/Berlin:20250403T190000
DTEND;TZID=Europe/Berlin:20250403T200000
DTSTAMP:20260420T122251
CREATED:20240617T091026Z
LAST-MODIFIED:20250325T110813Z
UID:7113-1743706800-1743710400@anmeldungen.channoine.com
SUMMARY:Erfolgsprojekt - PARISHEE
DESCRIPTION:„Coming together is a beginning. Keeping together is progress. Working together is success.“ – Henry Ford – \nSehr geschätzte Vertriebspartnerinnen und Vertriebspartner\, \nseid dabei bei unserer neuen Erfolgs-Webinar-Reihe E-P-P: „Erfolgs-Projekt-PARISHEE“! \nEin Arbeitskreis voller Power\, Inspirationen\, neuer Ideen und Austausch erwartet Euch. Lasst uns gemeinsam PARISHEE entdecken\, erobern und multiplizieren! \nWarum ist PARISHEE so wichtig für Dich? Dein Erfolg beginnt mit Deiner eigenen Begeisterung und Identifikation mit PARISHEE. Deine Leidenschaft und authentischen Emotionen wecken Neugier\, schaffen Vertrauen und vermitteln das Gefühl von „Das ist etwas Besonderes\, das gönne ich mir\, das schenke ich\, etc.“. \n Für wen ist dieses Erfolgs-Projekt gedacht? Für alle Vertriebspartner/innen\, die sich weiterentwickeln wollen. \nInhalte unseres Arbeitskreises: \n\nPARISHEE-Werteprofil\nVerkauf – unzählige Möglichkeiten\nPARISHEE-Neukunden – Ja! Aber wie?\nIdeenbörse\nSets\nAktivitäten gemeinsam kreieren und erfolgreich umsetzen\nPARISHEE-Produktmix-Erweiterung\n„SIE“ & PARISHEE\nPARISHEE – neue Business-Chance / neue Vertriebspartner/innen\nErfahrungsaustausch der Teilnehmer/innen\nErfolge in der Workshopgruppe multiplizieren\nGemeinsam online Spaß haben und Erfolge feiern\nUnd vieles mehr!\n\nTeilnahme: Die E-P-P-Webinare werden monatlich am ersten Donnerstag stattfinden. Eine regelmäßige Teilnahme wird empfohlen\, um viele persönliche Erfolge zu erzielen. \nIch freue mich sehr darauf\, mit Euch gemeinsam Euer neues PARISHEE-Erfolgsjahr zu feiern! \nBeste Grüße \nRenate HolzhammerCHANNOINE-Seminarleiterin \n 
URL:https://anmeldungen.channoine.com/event/erfolgs-projekt-parishee-2-2-2-2-2-2-2-2/
LOCATION:Online
CATEGORIES:Business
ATTACH;FMTTYPE=image/png:https://anmeldungen.channoine.com/wp-content/uploads/2024/06/ParisheeMan_Webinar_202407-1.png
END:VEVENT
BEGIN:VEVENT
DTSTART;TZID=Europe/Berlin:20250410T190000
DTEND;TZID=Europe/Berlin:20250410T210000
DTSTAMP:20260420T122251
CREATED:20230814T133743Z
LAST-MODIFIED:20250325T110621Z
UID:5504-1744311600-1744318800@anmeldungen.channoine.com
SUMMARY:Setzen Sie Ihr Gesicht in Form!
DESCRIPTION:Entdecken Sie exklusiv die Geheimnisse des perfekten Contourings in diesem Online-Seminar! \nErfahren Sie\, wie Sie die Gesichtszüge ihrer Kund/innen durch geschicktes Setzen von Lowlights und Highlights perfekt in Szene setzen können und an welcher Stelle das Rouge passend zur Gesichtsform platziert wird. \nVerpassen Sie nicht die Chance\, die individuelle Schönheit Ihrer Kund/innen auf ein neues Level zu heben. \nMelden Sie sich noch heute an\, sichern Sie sich Ihren Platz und werden Sie zum Meister des Contourings.
URL:https://anmeldungen.channoine.com/event/setzen-sie-ihr-gesicht-in-form-2/
LOCATION:Online
CATEGORIES:Visagistik
ATTACH;FMTTYPE=image/png:https://anmeldungen.channoine.com/wp-content/uploads/2023/08/Contouring_2_202308-1.png
END:VEVENT
BEGIN:VEVENT
DTSTART;TZID=Europe/Berlin:20250423T190000
DTEND;TZID=Europe/Berlin:20250423T203000
DTSTAMP:20260420T122251
CREATED:20230814T132810Z
LAST-MODIFIED:20250325T110529Z
UID:7685-1745434800-1745440200@anmeldungen.channoine.com
SUMMARY:Vitalstoffe im Sport: Der Schlüssel zu Leistung und Regeneration
DESCRIPTION:Der Frühling ist die ideale Jahreszeit\, um mit dem Sport wieder so richtig durchzustarten. Die wärmeren Temperaturen und das längere Tageslicht motivieren\, draußen aktiv zu sein und die frische Luft zu genießen.Doch leider ist man trotz bester Bedingungen immer wieder verkühlt und verschnupft. Man erreicht die gewünschte Leistung nicht und die Regeneration dauert länger als erwartet. Es gibt entscheidende Voraussetzungen\, die für eine sportliche Leistung unerlässlich sind. Aminosäuren sind eine nicht zu unterschätzende Kraft für Leistung und Regeneration. Doch auch der Darm hängt direkt mit der Energieversorgung zusammen. Er ist die Basis für ein sportliches Immunsystem. Nutze dieses Webinar um wertvolle Einblicke und praxisorientierte Strategien zu erhalten.Coroptyn\, Libractol\, Dioluxsan Duo\, Amdoron\, Renulan\, Natral OPC plus \n 
URL:https://anmeldungen.channoine.com/event/instagram-wie-3-7-2-2-2/
LOCATION:Online
CATEGORIES:Nobusan
ATTACH;FMTTYPE=image/jpeg:https://anmeldungen.channoine.com/wp-content/uploads/2023/08/shutterstock_135835574_LP.jpg
END:VEVENT
BEGIN:VEVENT
DTSTART;TZID=Europe/Berlin:20250427T140000
DTEND;TZID=Europe/Berlin:20250427T190000
DTSTAMP:20260420T122251
CREATED:20240119T120030Z
LAST-MODIFIED:20250325T110451Z
UID:7084-1745762400-1745780400@anmeldungen.channoine.com
SUMMARY:FOUR SEASONS – der Jahreskreis mit dem Kunden
DESCRIPTION:Ergreifen Sie die Gelegenheit und nehmen Sie am Impuls-Webinar teil – inhaltsstark und nutzbringend für Ihr CHANNOINE-Geschäft! \nDiese Inhalte warten auf Sie: \n\nDie fünf unterschiedlichen Kundentermine im Jahreskreis als „ Win-Win-Konzept“ für Sie und Ihre Kund/innen\nDie Haut im Wechsel der Jahreszeit\n„Body-Skin-Check-up“ – der Körperpflege-Kurztermin als Umsatz-Highlight\n2 bis 3 Kundenevents im Jahreskreis richtig durchgeführt als maximale Erfolgsgaranten!\nIdeen und Durchführungstipps zu Kundenworkshops für ein Umsatzplus durch zeiteffizientes Kundenmanagement\nWerbemöglichkeiten mit CHANNOINE-Werbetools\nKundentermin – Analyse – Lösung – Set-Verkauf\n\nAn diesem Impuls-Webinar können Sie zum Vorzugspreis von nur EUR 20.- zzgl. MwSt. teilnehmen. Die Anmeldung löst automatisch die Verrechnung der Seminargebühr aus\, die in gewohnter Weise durch CHANNOINE erfolgt. \nFür alle Vertriebspartner/innen\, die die CHANNOINE SKIN-CARE-Fachausbildung (C1 bis C5) absolvieren beziehungsweise anstreben\, ist die einmalige Teilnahme an diesem Webinar auch die Voraussetzung für das Erlangen des Ausbildungszertifikats zum „CHANNOINE Beauty-Advisor“. \nProfitieren auch Sie – für Ihr Geschäft in den nächsten Wochen und Monaten!
URL:https://anmeldungen.channoine.com/event/make-up-workshop-2-2-2-7-3-2/
LOCATION:Online
CATEGORIES:CHANNOINE
ATTACH;FMTTYPE=image/png:https://anmeldungen.channoine.com/wp-content/uploads/2023/08/Jahreskreis_202401.png
END:VEVENT
BEGIN:VEVENT
DTSTART;TZID=Europe/Berlin:20250429T190000
DTEND;TZID=Europe/Berlin:20250429T210000
DTSTAMP:20260420T122251
CREATED:20230814T132810Z
LAST-MODIFIED:20250325T110400Z
UID:7900-1745953200-1745960400@anmeldungen.channoine.com
SUMMARY:"BEAUTY MEETS TECH"
DESCRIPTION:Ein Kosmetiktrend und eine Riesenchance für Ihr CHANNOINE-Business! \nIndividuelle Hautpflege\, die exakt auf die einzigartigen Bedürfnisse Ihrer Haut und Ihrer Persönlichkeit zugeschnitten ist\, liegt voll im Trend! \nWir bei CHANNOINE verfügen über das beste Hautbildanalyse-Tool. \nIn diesem Special-Impuls-Webinar zum Thema „BEAUTY MEETS TECH“ erfahren Sie: \n\nwie Sie die CHANNOINE Online-Hautbildanalyse richtig einsetzen\, um bei Ihren Kund/innen noch mehr Wertschätzung für die eigenen Produkte zu erreichen.\nwie Sie mit technischer Unterstützung mehr Pakete verkaufen.\nwie Sie Ihre Kund/innen zu absoluten Fans machen\, die mit Hilfe Ihres Online-Beauty-Guides eine spannende Reise durch die Jahreszeiten starten.\nwie Sie geschickt dieses Tool in Ihren Kundenterminen einsetzen.\nwie Sie mit Hilfe von Affiliate-Links Ihren Produktmix erweitern können.\nund warum die Technik die beste Sicherheit für Ihr CHANNOINE-Unternehmen ist.\n\nProfitieren auch Sie für Ihr Geschäft & seien Sie dabei!
URL:https://anmeldungen.channoine.com/event/instagram-wie-2-2-2-3-2/
LOCATION:Online
CATEGORIES:CHANNOINE
ATTACH;FMTTYPE=image/jpeg:https://anmeldungen.channoine.com/wp-content/uploads/2023/08/Hautbildanalyse_2_202308.jpg
END:VEVENT
END:VCALENDAR