BEGIN:VCALENDAR
VERSION:2.0
PRODID:-//CBS Seminare - ECPv6.15.17.1//NONSGML v1.0//EN
CALSCALE:GREGORIAN
METHOD:PUBLISH
X-ORIGINAL-URL:https://anmeldungen.channoine.com
X-WR-CALDESC:Veranstaltungen für CBS Seminare
REFRESH-INTERVAL;VALUE=DURATION:PT1H
X-Robots-Tag:noindex
X-PUBLISHED-TTL:PT1H
BEGIN:VTIMEZONE
TZID:Europe/Berlin
BEGIN:DAYLIGHT
TZOFFSETFROM:+0100
TZOFFSETTO:+0200
TZNAME:CEST
DTSTART:20240331T010000
END:DAYLIGHT
BEGIN:STANDARD
TZOFFSETFROM:+0200
TZOFFSETTO:+0100
TZNAME:CET
DTSTART:20241027T010000
END:STANDARD
BEGIN:DAYLIGHT
TZOFFSETFROM:+0100
TZOFFSETTO:+0200
TZNAME:CEST
DTSTART:20250330T010000
END:DAYLIGHT
BEGIN:STANDARD
TZOFFSETFROM:+0200
TZOFFSETTO:+0100
TZNAME:CET
DTSTART:20251026T010000
END:STANDARD
BEGIN:DAYLIGHT
TZOFFSETFROM:+0100
TZOFFSETTO:+0200
TZNAME:CEST
DTSTART:20260329T010000
END:DAYLIGHT
BEGIN:STANDARD
TZOFFSETFROM:+0200
TZOFFSETTO:+0100
TZNAME:CET
DTSTART:20261025T010000
END:STANDARD
END:VTIMEZONE
BEGIN:VEVENT
DTSTART;TZID=Europe/Berlin:20250303T190000
DTEND;TZID=Europe/Berlin:20250303T200000
DTSTAMP:20260420T135446
CREATED:20240617T091026Z
LAST-MODIFIED:20250225T154816Z
UID:7747-1741028400-1741032000@anmeldungen.channoine.com
SUMMARY:NGA Power Call - TEST
DESCRIPTION:Sehr geehrte Mitunternehmer/innen\, \nerhalten Sie einen Einblick in die Next Generation Academy (NGA)\, dem exklusiven Wachstumsprogramm für junge Beauty- & Nutritionprofis im Alter von 18-40 Jahren. \n\nErfahren Sie mehr über diese einzigartige Community\nErhalten Sie wertvolle Impulse für Ihr Business-Wachstum\nErfolgreiche NGA-Mitglieder berichten von ihren Erfahrungen\n\nWir freuen uns auf Ihre Teilnahme! \nIhr NGA-Team \n 
URL:https://anmeldungen.channoine.com/event/erfolgs-projekt-parishee-2-2-2-2-2-2-2-5-6-3/
LOCATION:Online
CATEGORIES:NGA
ATTACH;FMTTYPE=image/png:https://anmeldungen.channoine.com/wp-content/uploads/2023/03/cropped-icon.png
END:VEVENT
BEGIN:VEVENT
DTSTART;TZID=Europe/Berlin:20250306T190000
DTEND;TZID=Europe/Berlin:20250306T200000
DTSTAMP:20260420T135446
CREATED:20240617T091026Z
LAST-MODIFIED:20250108T091956Z
UID:7175-1741287600-1741291200@anmeldungen.channoine.com
SUMMARY:Erfolgsprojekt - PARISHEE
DESCRIPTION:„Coming together is a beginning. Keeping together is progress. Working together is success.“ – Henry Ford – \nSehr geschätzte Vertriebspartnerinnen und Vertriebspartner\, \nseid dabei bei unserer neuen Erfolgs-Webinar-Reihe E-P-P: „Erfolgs-Projekt-PARISHEE“! \nEin Arbeitskreis voller Power\, Inspirationen\, neuer Ideen und Austausch erwartet Euch. Lasst uns gemeinsam PARISHEE entdecken\, erobern und multiplizieren! \nWarum ist PARISHEE so wichtig für Dich? Dein Erfolg beginnt mit Deiner eigenen Begeisterung und Identifikation mit PARISHEE. Deine Leidenschaft und authentischen Emotionen wecken Neugier\, schaffen Vertrauen und vermitteln das Gefühl von „Das ist etwas Besonderes\, das gönne ich mir\, das schenke ich\, etc.“. \n Für wen ist dieses Erfolgs-Projekt gedacht? Für alle Vertriebspartner/innen\, die sich weiterentwickeln wollen. \nInhalte unseres Arbeitskreises: \n\nPARISHEE-Werteprofil\nVerkauf – unzählige Möglichkeiten\nPARISHEE-Neukunden – Ja! Aber wie?\nIdeenbörse\nSets\nAktivitäten gemeinsam kreieren und erfolgreich umsetzen\nPARISHEE-Produktmix-Erweiterung\n„SIE“ & PARISHEE\nPARISHEE – neue Business-Chance / neue Vertriebspartner/innen\nErfahrungsaustausch der Teilnehmer/innen\nErfolge in der Workshopgruppe multiplizieren\nGemeinsam online Spaß haben und Erfolge feiern\nUnd vieles mehr!\n\nTeilnahme: Die E-P-P-Webinare werden monatlich am ersten Donnerstag stattfinden. Eine regelmäßige Teilnahme wird empfohlen\, um viele persönliche Erfolge zu erzielen. \nIch freue mich sehr darauf\, mit Euch gemeinsam Euer neues PARISHEE-Erfolgsjahr zu feiern! \nBeste Grüße \nRenate HolzhammerCHANNOINE-Seminarleiterin \n 
URL:https://anmeldungen.channoine.com/event/erfolgs-projekt-parishee-2-2-2-2-2-2-2-5-6-2/
LOCATION:Online
CATEGORIES:Business
ATTACH;FMTTYPE=image/png:https://anmeldungen.channoine.com/wp-content/uploads/2024/06/ParisheeMan_Webinar_202407-1.png
END:VEVENT
BEGIN:VEVENT
DTSTART;TZID=Europe/Berlin:20250318T190000
DTEND;TZID=Europe/Berlin:20250318T210000
DTSTAMP:20260420T135446
CREATED:02021213T070642Z
LAST-MODIFIED:20250219T125012Z
UID:6788-1742324400-1742331600@anmeldungen.channoine.com
SUMMARY:Content Marketing – CUSTOMER JOURNEY- Vom ersten Berührungspunkt zum KAUF
DESCRIPTION:Welche und wieviele Schritte braucht es\, dass ein Kunde\, Kunde wird? In diesem Seminar\, betrachten wir die Reise eines „Neukunden“. Erfolgreiche Tipps\, wie Sie diese positiv beeinflussen können\, warten auf Sie!
URL:https://anmeldungen.channoine.com/event/instagram-wie-3-6/
LOCATION:Online
CATEGORIES:CHANNOINE
ATTACH;FMTTYPE=image/png:https://anmeldungen.channoine.com/wp-content/uploads/2023/07/Webrelaunch1_202402.png
ORGANIZER;CN="Juliane St%C3%B6bich":MAILTO:juliane.stoebich@channoine-partner.com
END:VEVENT
BEGIN:VEVENT
DTSTART;TZID=Europe/Berlin:20250320T180000
DTEND;TZID=Europe/Berlin:20250320T200000
DTSTAMP:20260420T135446
CREATED:20240220T071941Z
LAST-MODIFIED:20241218T105320Z
UID:6884-1742493600-1742500800@anmeldungen.channoine.com
SUMMARY:Fragen und Antworten zu CHANNOINE-Web-Tools
DESCRIPTION:Liebe Mitunternehmerinnen und Mitunternehmer! \nSehr gerne möchten wir Ihnen ergänzend zu unserer Service-Mailadresse online@channoine.com ein Frage- und Antwort-Webinar über unsere vertriebsunterstützenden Web-Tools (www.channoine.com\, www.channoine-partner.com\, Presono-Präsentationstool\, Marketingbox usw.) anbieten. Gemeinsam können wir beim Webinar Erfahrungswerte austauschen und nochmals grundlegenden Abläufe sowie Tipps und Tricks zu den folgenden Details durchgehen: \n\nOnline-Account-Aktivierung oder -Registrierung\nAffiliate-Funktion inkl. Berater-ID Verknüpfung\nPartner-Landingpage inkl. individueller Datenanpassung über Ihren Berater-Online-Account\nBeauty-Botschafter-Registrierung\nZur CHANNOINE-Marketingbox\nZum CHANNOINE-Präsentationstool\nv. m. an Themen\, die sich beim Webinar noch ergeben werden\n\nBei speziellen Anliegen Ihrerseits freuen wir uns vorweg über Ihre Kontaktaufnahme an online@channoine.com\, damit wir gegebenenfalls die Detailinhalte vom Webinar besser vorbereiten können und noch effektiver auf Ihre Themenschwerpunkte eingehen können. \nWir bedanken uns im Voraus und freuen uns auf Ihre zahlreiche Teilnahme.
URL:https://anmeldungen.channoine.com/event/online-tools-neu-termin-15-3-2-2-2-2-2-2-2-2-2-2-2-3-2-2-2/
LOCATION:Online
CATEGORIES:Business
ATTACH;FMTTYPE=image/png:https://anmeldungen.channoine.com/wp-content/uploads/2023/07/Webrelaunch_202402.png
END:VEVENT
BEGIN:VEVENT
DTSTART;TZID=Europe/Berlin:20250326T190000
DTEND;TZID=Europe/Berlin:20250326T213000
DTSTAMP:20260420T135446
CREATED:20230814T132810Z
LAST-MODIFIED:20250325T110723Z
UID:6771-1743015600-1743024600@anmeldungen.channoine.com
SUMMARY:Instagram – Wie? Was? Womit? Einfache Tipps und Tricks für das praktische und erfolgreiche Tun
DESCRIPTION:Es wird Zeit\, Ihren digitalen Auftritt auf Social Media in den Frühjahrsputz zu schicken. Mithilfe der dekorativen Kosmetik gelingt es Ihnen „kinderleicht“\, erste Schritte in eine neue Welt voller zukünftiger Kund/innen zu setzen. \nEs erwarten Sie exklusive Tipps und Tricks zum Thema Tutorials sowie zu Ihrem persönlichen Social Media-Auftritt.  \nACHTUNG: Voraussetzung für dieses Impuls-Webinar ist ein Facebook- und Instagram-Account. \nSeien Sie dabei und melden Sie sich jetzt an!
URL:https://anmeldungen.channoine.com/event/instagram-wie-3-4/
LOCATION:Online
CATEGORIES:CHANNOINE
ATTACH;FMTTYPE=image/jpeg:https://anmeldungen.channoine.com/wp-content/uploads/2023/08/Instagram_Visagistik_202308.jpg
ORGANIZER;CN="Juliane St%C3%B6bich":MAILTO:juliane.stoebich@channoine-partner.com
END:VEVENT
END:VCALENDAR