BEGIN:VCALENDAR
VERSION:2.0
PRODID:-//CBS Seminare - ECPv6.15.17.1//NONSGML v1.0//EN
CALSCALE:GREGORIAN
METHOD:PUBLISH
X-WR-CALNAME:CBS Seminare
X-ORIGINAL-URL:https://anmeldungen.channoine.com
X-WR-CALDESC:Veranstaltungen für CBS Seminare
REFRESH-INTERVAL;VALUE=DURATION:PT1H
X-Robots-Tag:noindex
X-PUBLISHED-TTL:PT1H
BEGIN:VTIMEZONE
TZID:Europe/Berlin
BEGIN:DAYLIGHT
TZOFFSETFROM:+0100
TZOFFSETTO:+0200
TZNAME:CEST
DTSTART:20230326T010000
END:DAYLIGHT
BEGIN:STANDARD
TZOFFSETFROM:+0200
TZOFFSETTO:+0100
TZNAME:CET
DTSTART:20231029T010000
END:STANDARD
BEGIN:DAYLIGHT
TZOFFSETFROM:+0100
TZOFFSETTO:+0200
TZNAME:CEST
DTSTART:20240331T010000
END:DAYLIGHT
BEGIN:STANDARD
TZOFFSETFROM:+0200
TZOFFSETTO:+0100
TZNAME:CET
DTSTART:20241027T010000
END:STANDARD
BEGIN:DAYLIGHT
TZOFFSETFROM:+0100
TZOFFSETTO:+0200
TZNAME:CEST
DTSTART:20250330T010000
END:DAYLIGHT
BEGIN:STANDARD
TZOFFSETFROM:+0200
TZOFFSETTO:+0100
TZNAME:CET
DTSTART:20251026T010000
END:STANDARD
END:VTIMEZONE
BEGIN:VEVENT
DTSTART;TZID=Europe/Berlin:20240604T180000
DTEND;TZID=Europe/Berlin:20240604T200000
DTSTAMP:20260421T043518
CREATED:20240220T071941Z
LAST-MODIFIED:20240517T123031Z
UID:4997-1717524000-1717531200@anmeldungen.channoine.com
SUMMARY:Fragen und Antworten digitale Web-Tools
DESCRIPTION:Liebe Mitunternehmerinnen und Mitunternehmer! \nSehr gerne möchten wir Ihnen ergänzend zu unserer Service-Mailadresse online@channoine.com ein Frage- und Antwort-Webinar über unsere vertriebsunterstützenden Web-Tools (www.channoine.com\, www.channoine-partner.com\, Presono-Präsentationstool\, Marketingbox usw.) anbieten. Gemeinsam können wir beim Webinar Erfahrungswerte austauschen und nochmals grundlegenden Abläufe sowie Tipps und Tricks zu den folgenden Details durchgehen: \n\nOnline-Account-Aktivierung oder -Registrierung\nAffiliate-Funktion inkl. Berater-ID Verknüpfung\nPartner-Landingpage inkl. individueller Datenanpassung über Ihren Berater-Online-Account\nBeauty-Botschafter-Registrierung\nZur CHANNOINE-Marketingbox\nZum CHANNOINE-Präsentationstool\nv. m. an Themen\, die sich beim Webinar noch ergeben werden\n\nBei speziellen Anliegen Ihrerseits freuen wir uns vorweg über Ihre Kontaktaufnahme an online@channoine.com\, damit wir gegebenenfalls die Detailinhalte vom Webinar besser vorbereiten können und noch effektiver auf Ihre Themenschwerpunkte eingehen können. \nWir bedanken uns im Voraus und freuen uns auf Ihre zahlreiche Teilnahme.
URL:https://anmeldungen.channoine.com/event/online-tools-neu-termin-15-3-2-2-2-2-2-2-2-2/
LOCATION:Online
CATEGORIES:Business
ATTACH;FMTTYPE=image/png:https://anmeldungen.channoine.com/wp-content/uploads/2023/07/Webrelaunch_202402.png
END:VEVENT
BEGIN:VEVENT
DTSTART;TZID=Europe/Berlin:20240606T190000
DTEND;TZID=Europe/Berlin:20240606T210000
DTSTAMP:20260421T043518
CREATED:20230814T132052Z
LAST-MODIFIED:20240130T152428Z
UID:2000-1717700400-1717707600@anmeldungen.channoine.com
SUMMARY:"Leichtes Reisegepäck"
DESCRIPTION:Mit dem kleinsten Beauty-Reisegepäck durch den Sommer!  \nOb am Strand\, beim Picknick oder bei der nächsten Gartenparty – Verleihen Sie den heißesten Tagen des Jahres mit wenig Aufwand\, aber viel Raffinesse und extra Glanz den perfekten Look. \nDaniela Rauter präsentiert Ihnen wieder luftig leichte Sommerlooks und verrät Ihnen alle Tipps und Tricks\, um Ihre Haut und Ihren Sommerauftritt perfekt in Szene zu setzen. \nGlamourös. Frisch. Sommerlich. \nVerpassen Sie nicht diese exklusive Veranstaltung und seien Sie live dabei am Donnerstag\, den 06. Juni 2024 um 19:00 Uhr!
URL:https://anmeldungen.channoine.com/event/leichtes-reisegepaeck/
LOCATION:Online
CATEGORIES:Visagistik
ATTACH;FMTTYPE=image/jpeg:https://anmeldungen.channoine.com/wp-content/uploads/2023/08/Leichtes_Gepaeck_202308.jpg
END:VEVENT
BEGIN:VEVENT
DTSTART;TZID=Europe/Berlin:20240627T190000
DTEND;TZID=Europe/Berlin:20240627T210000
DTSTAMP:20260421T043518
CREATED:20230814T132810Z
LAST-MODIFIED:20240130T150655Z
UID:2009-1719514800-1719522000@anmeldungen.channoine.com
SUMMARY:"Instagram - Wie?"
DESCRIPTION:Es wird Zeit\, Ihren digitalen Auftritt auf Social Media in den Frühjahrsputz zu schicken. Mithilfe der dekorativen Kosmetik gelingt es Ihnen „kinderleicht“\, erste Schritte in eine neue Welt voller zukünftiger Kund/innen zu setzen. \nEs erwarten Sie exklusive Tipps und Tricks zum Thema Tutorials sowie zu Ihrem persönlichen Social Media-Auftritt.  \nACHTUNG: Voraussetzung für dieses Impuls-Webinar ist ein Facebook- und Instagram-Account. \nSeien Sie dabei und melden Sie sich jetzt an!
URL:https://anmeldungen.channoine.com/event/instagram-wie/
LOCATION:Online
CATEGORIES:Visagistik
ATTACH;FMTTYPE=image/jpeg:https://anmeldungen.channoine.com/wp-content/uploads/2023/08/Instagram_Visagistik_202308.jpg
ORGANIZER;CN="Juliane St%C3%B6bich":MAILTO:juliane.stoebich@channoine-partner.com
END:VEVENT
END:VCALENDAR