BEGIN:VCALENDAR
VERSION:2.0
PRODID:-//CBS Seminare - ECPv6.15.17.1//NONSGML v1.0//EN
CALSCALE:GREGORIAN
METHOD:PUBLISH
X-ORIGINAL-URL:https://anmeldungen.channoine.com
X-WR-CALDESC:Veranstaltungen für CBS Seminare
REFRESH-INTERVAL;VALUE=DURATION:PT1H
X-Robots-Tag:noindex
X-PUBLISHED-TTL:PT1H
BEGIN:VTIMEZONE
TZID:Europe/Berlin
BEGIN:DAYLIGHT
TZOFFSETFROM:+0100
TZOFFSETTO:+0200
TZNAME:CEST
DTSTART:20230326T010000
END:DAYLIGHT
BEGIN:STANDARD
TZOFFSETFROM:+0200
TZOFFSETTO:+0100
TZNAME:CET
DTSTART:20231029T010000
END:STANDARD
BEGIN:DAYLIGHT
TZOFFSETFROM:+0100
TZOFFSETTO:+0200
TZNAME:CEST
DTSTART:20240331T010000
END:DAYLIGHT
BEGIN:STANDARD
TZOFFSETFROM:+0200
TZOFFSETTO:+0100
TZNAME:CET
DTSTART:20241027T010000
END:STANDARD
BEGIN:DAYLIGHT
TZOFFSETFROM:+0100
TZOFFSETTO:+0200
TZNAME:CEST
DTSTART:20250330T010000
END:DAYLIGHT
BEGIN:STANDARD
TZOFFSETFROM:+0200
TZOFFSETTO:+0100
TZNAME:CET
DTSTART:20251026T010000
END:STANDARD
END:VTIMEZONE
BEGIN:VEVENT
DTSTART;TZID=Europe/Berlin:20240305T180000
DTEND;TZID=Europe/Berlin:20240305T200000
DTSTAMP:20260421T100020
CREATED:20240220T071941Z
LAST-MODIFIED:20240220T151647Z
UID:4278-1709661600-1709668800@anmeldungen.channoine.com
SUMMARY:Fragen und Antworten zum CHANNOINE-Webrelaunch
DESCRIPTION:Liebe Mitunternehmerinnen und Mitunternehmer! \nSehr gerne möchten wir Ihnen ergänzend zu unserer Service-Mailadresse online@channoine.com ein Frage- und Antwort-Webinar zu unserem Website-Relaunch anbieten\, wo wir gezielt auf Ihre bereits gemachten Erfahrungswerte und auf eventuelle damit verbundene Anwendungsthemen eingehen werden. Gemeinsam können wir beim Webinar nochmals grundlegenden Abläufe sowie Tipps und Tricks zu den folgenden Details durchgehen: \n\nOnline-Account-Aktivierung oder -Registrierung\nAffiliate-Funktion inkl. Berater-ID Verknüpfung\nPartner-Landingpage inkl. individueller Datenanpassung über Ihren Berater-Online-Account\nBeauty-Botschafter-Registrierung\nOnline-Hautbildanalyse\nu. v. m. an Themen\, die sich aus dem direkten Austausch noch ergeben werden\n\nZur besseren Themenplanung vom Webinar bitten wir Sie Ihre Fragen bereits zuvor kurz zusammenzufassen und an online@channoine.com zu senden\, dann können wir die Inhalte besser planen und gezielter Schritt für Schritt auf Ihre Themenschwerpunkte eingehen\, die derzeit im Zusammenhang vom Webrelaunch wichtig sind für Sie. \nWir freuen uns auf Ihre Teilnahme.
URL:https://anmeldungen.channoine.com/event/online-tools-neu-termin-15-3-2-2-2-2/
LOCATION:Online
CATEGORIES:Business
ATTACH;FMTTYPE=image/png:https://anmeldungen.channoine.com/wp-content/uploads/2023/07/Webrelaunch_202402.png
END:VEVENT
BEGIN:VEVENT
DTSTART;TZID=Europe/Berlin:20240306T183000
DTEND;TZID=Europe/Berlin:20240306T210000
DTSTAMP:20260421T100020
CREATED:20240119T120030Z
LAST-MODIFIED:20240130T152134Z
UID:3929-1709749800-1709758800@anmeldungen.channoine.com
SUMMARY:PARISHEE MAN
DESCRIPTION:K R A F T V O L L  –  S E L B S T B E W U S S T  –  S T I L V O L L  –  P A R I S H E E  M A N \nUnsere neue Herrenserie PARISHEE … luxuriös\, dynamisch\, cool\, elegant\, … einzigartig!Sie verkörpert die Essenz moderner Männlichkeit und pure männliche Raffinesse! \nMit PARISHEE Man betreten Männer eine Welt\, in der Wirkstoffe auf Kraft treffen\, Unwiderstehlichkeit in der Luft liegt\, Frische jeden Tag spürbar ist und Einzigartigkeit keine Option\, sondern ein Versprechen ist. Unsere Produkte bieten nicht nur Pflege\, sondern ein sinnliches Erlebnis\, das die Sinne belebt. Jedes unserer sage und schreibe sieben PARISHEE Man-Produkte ist dabei fesselnd in seiner Wirkung\, markant in seinem Auftritt und vitalisierend in seiner Anwendung. \nIch freue mich darauf\, mit Dir \n\neinzutauchen in die männliche Tiefe von PARISHEE\nmeine und die Erfahrungen der Partner untereinander auszutauschen\ndie kosmetische Männerwelt zu erobern\ndas Produktnetzwerk PARISHEE so zu beleuchten\, dass neue Verkaufsmöglichkeiten ganz easy werden\nNeukunden-Tools zu konzipieren\njahreszeitlich aktuelle PARISHEE-Man-Aktivitäten zu entwickeln\n\nSei dabei und starte durch mit PARISHEE!
URL:https://anmeldungen.channoine.com/event/make-up-workshop-2-2-2-2-2/
LOCATION:Online
CATEGORIES:CHANNOINE
ATTACH;FMTTYPE=image/jpeg:https://anmeldungen.channoine.com/wp-content/uploads/2023/08/LP_ParisheeMan_202311.jpg
END:VEVENT
BEGIN:VEVENT
DTSTART;TZID=Europe/Berlin:20240307T190000
DTEND;TZID=Europe/Berlin:20240307T210000
DTSTAMP:20260421T100020
CREATED:20230814T112330Z
LAST-MODIFIED:20240130T152202Z
UID:3732-1709838000-1709845200@anmeldungen.channoine.com
SUMMARY:Keine Chance der Frühjahrsmüdigkeit
DESCRIPTION:Wer kennt es? Ich komme kaum aus dem Bett\, bin den ganzen Tag müde\, bin unkonzentriert in der Arbeit\, kann mich für sportliche Aktivitäten schwer motivieren und bin generell sehr antriebslos. \nJa\, die Frühjahrsmüdigkeit ist da – aber die muss nicht sein! \nBringen wir den Körper in Schwung\, unterstützen wir den Frühjahrsputz im Inneren und sorgen wir für eine ideale Nähstoffzufuhr\, denn dann hat die Müdigkeit keine Chance. \nProdukte\, die neben dem fachlichen Input besprochen werden:Dioluxsan Duo\, Libractol\, Natral OPC Plus\, Spermidin Basic Supplement und Coroptyn sowie Aloe Vera Premium Plus und Noni Xtra Plus zum Entgiften \nSeien Sie dabei!
URL:https://anmeldungen.channoine.com/event/make-up-workshop-2-2-2-4/
LOCATION:Online
CATEGORIES:Nobusan
ATTACH;FMTTYPE=image/png:https://anmeldungen.channoine.com/wp-content/uploads/2023/08/Muedigkeit_3.png
END:VEVENT
BEGIN:VEVENT
DTSTART;TZID=Europe/Berlin:20240314T170000
DTEND;TZID=Europe/Berlin:20240314T190000
DTSTAMP:20260421T100020
CREATED:20240220T071941Z
LAST-MODIFIED:20240304T163110Z
UID:4541-1710435600-1710442800@anmeldungen.channoine.com
SUMMARY:Fragen und Antworten zum CHANNOINE-Webrelaunch
DESCRIPTION:Liebe Mitunternehmerinnen und Mitunternehmer! \nSehr gerne möchten wir Ihnen ergänzend zu unserer Service-Mailadresse online@channoine.com ein Frage- und Antwort-Webinar zu unserem Website-Relaunch anbieten\, wo wir gezielt auf Ihre bereits gemachten Erfahrungswerte und auf eventuelle damit verbundene Anwendungsthemen eingehen werden. Gemeinsam können wir beim Webinar nochmals grundlegenden Abläufe sowie Tipps und Tricks zu den folgenden Details durchgehen: \n\nOnline-Account-Aktivierung oder -Registrierung\nAffiliate-Funktion inkl. Berater-ID Verknüpfung\nPartner-Landingpage inkl. individueller Datenanpassung über Ihren Berater-Online-Account\nBeauty-Botschafter-Registrierung\nu. v. m. an Themen\, die sich aus dem direkten Austausch noch ergeben werden\n\nZur besseren Themenplanung vom Webinar bitten wir Sie Ihre Fragen bereits zuvor kurz zusammenzufassen und an online@channoine.com zu senden\, dann können wir die Inhalte besser planen und gezielter Schritt für Schritt auf Ihre Themenschwerpunkte eingehen\, die derzeit im Zusammenhang vom Webrelaunch wichtig sind für Sie. \nWir freuen uns auf Ihre Teilnahme.
URL:https://anmeldungen.channoine.com/event/online-tools-neu-termin-15-3-2-2-2-2-2/
LOCATION:Online
CATEGORIES:Business
ATTACH;FMTTYPE=image/png:https://anmeldungen.channoine.com/wp-content/uploads/2023/07/Webrelaunch_202402.png
END:VEVENT
BEGIN:VEVENT
DTSTART;TZID=Europe/Berlin:20240314T190000
DTEND;TZID=Europe/Berlin:20240314T210000
DTSTAMP:20260421T100020
CREATED:20230814T132810Z
LAST-MODIFIED:20240222T092857Z
UID:3700-1710442800-1710450000@anmeldungen.channoine.com
SUMMARY:"BEAUTY MEETS TECH"
DESCRIPTION:Ein Kosmetiktrend und eine Riesenchance für Ihr CHANNOINE-Business! \nIndividuelle Hautpflege\, die exakt auf die einzigartigen Bedürfnisse Ihrer Haut und Ihrer Persönlichkeit zugeschnitten ist\, liegt voll im Trend! \nWir bei CHANNOINE verfügen über das beste Hautbildanalyse-Tool. \nIn diesem Special-Impuls-Webinar zum Thema „BEAUTY MEETS TECH“ erfahren Sie: \n\nwie Sie die CHANNOINE Online-Hautbildanalyse richtig einsetzen\, um bei Ihren Kund/innen noch mehr Wertschätzung für die eigenen Produkte zu erreichen.\nwie Sie mit technischer Unterstützung mehr Pakete verkaufen.\nwie Sie Ihre Kund/innen zu absoluten Fans machen\, die mit Hilfe Ihres Online-Beauty-Guides eine spannende Reise durch die Jahreszeiten starten.\nwie Sie geschickt dieses Tool in Ihren Kundenterminen einsetzen.\nwie Sie mit Hilfe von Affiliate-Links Ihren Produktmix erweitern können.\nund warum die Technik die beste Sicherheit für Ihr CHANNOINE-Unternehmen ist.\n\nProfitieren auch Sie für Ihr Geschäft & seien Sie dabei!
URL:https://anmeldungen.channoine.com/event/instagram-wie-2-2/
LOCATION:Online
CATEGORIES:CHANNOINE
ATTACH;FMTTYPE=image/jpeg:https://anmeldungen.channoine.com/wp-content/uploads/2023/08/Hautbildanalyse_2_202308.jpg
END:VEVENT
BEGIN:VEVENT
DTSTART;TZID=Europe/Berlin:20240317T140000
DTEND;TZID=Europe/Berlin:20240317T190000
DTSTAMP:20260421T100020
CREATED:20240119T120030Z
LAST-MODIFIED:20240130T152245Z
UID:3845-1710684000-1710702000@anmeldungen.channoine.com
SUMMARY:BODY\, HAIR & MORE
DESCRIPTION:ENTDECKE DIE WELT DER KÖRPER- UND HAARPFLEGE AUS GANZ NEUEN PERSPEKTIVEN!   \nWir …  \n\nmachen gemeinsam eine Reise durch die vier Jahreszeiten mit der Körperhaut.\nnehmen Wirkweisen und Werteprofil der einzelnen SKIN EMOTION-Highlights unter die Lupe.\nlegen den Fokus auf die Bedürfnisse der einzelnen Körperzonen wie Hände\, Füße\, Beine\, etc.\nlegen einen wichtigen Schwerpunkt auf IHN und wie wir IHN zum Stammkunden machen.\nöffnen Türen zur Neukundengewinnung mit CHANNOINE-SKIN EMOTION.\nschnüren Produkt-Packages von Kopf bis Fuß – für Deinen maximalen Verkaufserfolg.\nbeleuchten „Beauty-Darlings“ & „Gifts“\, um Hautträume zu verschenken.\nund Du wirst erleben\, wie viele Chancen es gibt\, über SKIN EMOTION auch andere neue Einkommensmöglichkeiten zu eröffnen.\n\nMach dieses Jahr zu Deinem Erfolgsjahr mit SKIN EMOTION & Co.!
URL:https://anmeldungen.channoine.com/event/make-up-workshop-2-2-2-7-2/
LOCATION:Online
CATEGORIES:CHANNOINE
ATTACH;FMTTYPE=image/png:https://anmeldungen.channoine.com/wp-content/uploads/2023/08/BodyHair_202401.png
END:VEVENT
BEGIN:VEVENT
DTSTART;TZID=Europe/Berlin:20240326T180000
DTEND;TZID=Europe/Berlin:20240326T200000
DTSTAMP:20260421T100020
CREATED:20240220T071941Z
LAST-MODIFIED:20240304T163210Z
UID:4548-1711476000-1711483200@anmeldungen.channoine.com
SUMMARY:Fragen und Antworten zum CHANNOINE-Webrelaunch
DESCRIPTION:Liebe Mitunternehmerinnen und Mitunternehmer! \nSehr gerne möchten wir Ihnen ergänzend zu unserer Service-Mailadresse online@channoine.com ein Frage- und Antwort-Webinar zu unserem Website-Relaunch anbieten\, wo wir gezielt auf Ihre bereits gemachten Erfahrungswerte und auf eventuelle damit verbundene Anwendungsthemen eingehen werden. Gemeinsam können wir beim Webinar nochmals grundlegenden Abläufe sowie Tipps und Tricks zu den folgenden Details durchgehen: \n\nOnline-Account-Aktivierung oder -Registrierung\nAffiliate-Funktion inkl. Berater-ID Verknüpfung\nPartner-Landingpage inkl. individueller Datenanpassung über Ihren Berater-Online-Account\nBeauty-Botschafter-Registrierung\nu. v. m. an Themen\, die sich aus dem direkten Austausch noch ergeben werden\n\nZur besseren Themenplanung vom Webinar bitten wir Sie Ihre Fragen bereits zuvor kurz zusammenzufassen und an online@channoine.com zu senden\, dann können wir die Inhalte besser planen und gezielter Schritt für Schritt auf Ihre Themenschwerpunkte eingehen\, die derzeit im Zusammenhang vom Webrelaunch wichtig sind für Sie. \nWir freuen uns auf Ihre Teilnahme.
URL:https://anmeldungen.channoine.com/event/online-tools-neu-termin-15-3-2-2-2-2-2-2/
LOCATION:Online
CATEGORIES:Business
ATTACH;FMTTYPE=image/png:https://anmeldungen.channoine.com/wp-content/uploads/2023/07/Webrelaunch_202402.png
END:VEVENT
END:VCALENDAR