BEGIN:VCALENDAR
VERSION:2.0
PRODID:-//CBS Seminare - ECPv6.15.17.1//NONSGML v1.0//EN
CALSCALE:GREGORIAN
METHOD:PUBLISH
X-WR-CALNAME:CBS Seminare
X-ORIGINAL-URL:https://anmeldungen.channoine.com
X-WR-CALDESC:Veranstaltungen für CBS Seminare
REFRESH-INTERVAL;VALUE=DURATION:PT1H
X-Robots-Tag:noindex
X-PUBLISHED-TTL:PT1H
BEGIN:VTIMEZONE
TZID:Europe/Berlin
BEGIN:DAYLIGHT
TZOFFSETFROM:+0100
TZOFFSETTO:+0200
TZNAME:CEST
DTSTART:20230326T010000
END:DAYLIGHT
BEGIN:STANDARD
TZOFFSETFROM:+0200
TZOFFSETTO:+0100
TZNAME:CET
DTSTART:20231029T010000
END:STANDARD
BEGIN:DAYLIGHT
TZOFFSETFROM:+0100
TZOFFSETTO:+0200
TZNAME:CEST
DTSTART:20240331T010000
END:DAYLIGHT
BEGIN:STANDARD
TZOFFSETFROM:+0200
TZOFFSETTO:+0100
TZNAME:CET
DTSTART:20241027T010000
END:STANDARD
BEGIN:DAYLIGHT
TZOFFSETFROM:+0100
TZOFFSETTO:+0200
TZNAME:CEST
DTSTART:20250330T010000
END:DAYLIGHT
BEGIN:STANDARD
TZOFFSETFROM:+0200
TZOFFSETTO:+0100
TZNAME:CET
DTSTART:20251026T010000
END:STANDARD
END:VTIMEZONE
BEGIN:VEVENT
DTSTART;TZID=Europe/Berlin:20240201T190000
DTEND;TZID=Europe/Berlin:20240201T203000
DTSTAMP:20260421T113444
CREATED:20230814T112330Z
LAST-MODIFIED:20240130T143602Z
UID:3767-1706814000-1706819400@anmeldungen.channoine.com
SUMMARY:Entgiften – Entsäuern – Entschlacken mit NUPREM
DESCRIPTION:Bereit für ein Frühjahrs-Highlight? \nWarum bis zum Frühling warten\, wenn bereits jetzt viele durchstarten möchten. Der Aschermittwoch ist bei sehr vielen der Beginn der Fastentage sowie einer gezielten Stoffwechselaktivierung. Nutzen wir die kommende Fastenzeit\, um unsere Kund/innen intensiv mit individuellen NUPREM-Kurprogrammen zu unterstützen.Mit Nuprem Plus entgiften\, entsäuern und entschlacken – für mehr Energie und Wohlbefinden!Besprechen wir die fachlichen Details\, die Handhabung der Programme sowie die Feinheiten der Produkte Nuprem Plus\, Optabial Plus und Dioluxsan Duo.
URL:https://anmeldungen.channoine.com/event/make-up-workshop-2-2-2-5/
LOCATION:Online
CATEGORIES:Nobusan
ATTACH;FMTTYPE=image/png:https://anmeldungen.channoine.com/wp-content/uploads/2023/08/Entgiften_1_202312.png
END:VEVENT
BEGIN:VEVENT
DTSTART;TZID=Europe/Berlin:20240211T140000
DTEND;TZID=Europe/Berlin:20240211T190000
DTSTAMP:20260421T113444
CREATED:20240119T120030Z
LAST-MODIFIED:20240130T152032Z
UID:3906-1707660000-1707678000@anmeldungen.channoine.com
SUMMARY:FOUR SEASONS – der Jahreskreis mit dem Kunden
DESCRIPTION:Ergreifen Sie die Gelegenheit und nehmen Sie am Impuls-Webinar teil – inhaltsstark und nutzbringend für Ihr CHANNOINE-Geschäft! \nDiese Inhalte warten auf Sie: \n\nDie fünf unterschiedlichen Kundentermine im Jahreskreis als „ Win-Win-Konzept“ für Sie und Ihre Kund/innen\nDie Haut im Wechsel der Jahreszeit\n„Body-Skin-Check-up“ – der Körperpflege-Kurztermin als Umsatz-Highlight\n2 bis 3 Kundenevents im Jahreskreis richtig durchgeführt als maximale Erfolgsgaranten!\nIdeen und Durchführungstipps zu Kundenworkshops für ein Umsatzplus durch zeiteffizientes Kundenmanagement\nWerbemöglichkeiten mit CHANNOINE-Werbetools\nKundentermin – Analyse – Lösung – Set-Verkauf\n\nAn diesem Impuls-Webinar können Sie zum Vorzugspreis von nur EUR 20.- zzgl. MwSt. teilnehmen. Die Anmeldung löst automatisch die Verrechnung der Seminargebühr aus\, die in gewohnter Weise durch CHANNOINE erfolgt. \nFür alle Vertriebspartner/innen\, die die CHANNOINE SKIN-CARE-Fachausbildung (C1 bis C5) absolvieren beziehungsweise anstreben\, ist die einmalige Teilnahme an diesem Webinar auch die Voraussetzung für das Erlangen des Ausbildungszertifikats zum „CHANNOINE Beauty-Advisor“. \nProfitieren auch Sie – für Ihr Geschäft in den nächsten Wochen und Monaten!
URL:https://anmeldungen.channoine.com/event/make-up-workshop-2-2-2-7/
LOCATION:Online
CATEGORIES:CHANNOINE
ATTACH;FMTTYPE=image/png:https://anmeldungen.channoine.com/wp-content/uploads/2023/08/Jahreskreis_202401.png
END:VEVENT
BEGIN:VEVENT
DTSTART;TZID=Europe/Berlin:20240222T180000
DTEND;TZID=Europe/Berlin:20240222T200000
DTSTAMP:20260421T113444
CREATED:20240220T071941Z
LAST-MODIFIED:20240220T151039Z
UID:4242-1708624800-1708632000@anmeldungen.channoine.com
SUMMARY:Fragen und Antworten zum CHANNOINE-Webrelaunch
DESCRIPTION:Liebe Mitunternehmerinnen und Mitunternehmer! \nSehr gerne möchten wir Ihnen ergänzend zu unserer Service-Mailadresse online@channoine.com ein Frage- und Antwort-Webinar zu unserem Website-Relaunch anbieten\, wo wir gezielt auf Ihre bereits gemachten Erfahrungswerte und auf eventuelle damit verbundene Anwendungsthemen eingehen werden. Gemeinsam können wir beim Webinar nochmals grundlegenden Abläufe sowie Tipps und Tricks zu den folgenden Details durchgehen: \n\nOnline-Account-Aktivierung oder -Registrierung\nAffiliate-Funktion inkl. Berater-ID Verknüpfung\nPartner-Landingpage inkl. individueller Datenanpassung über Ihren Berater-Online-Account\nBeauty-Botschafter-Registrierung\nOnline-Hautbildanalyse\nu. v. m. an Themen\, die sich aus dem direkten Austausch noch ergeben werden\n\nZur besseren Themenplanung vom Webinar bitten wir Sie Ihre Fragen bereits zuvor kurz zusammenzufassen und an online@channoine.com zu senden\, dann können wir die Inhalte besser planen und gezielter Schritt für Schritt auf Ihre Themenschwerpunkte eingehen\, die derzeit im Zusammenhang vom Webrelaunch wichtig sind für Sie. \nWir freuen uns auf Ihre Teilnahme.
URL:https://anmeldungen.channoine.com/event/online-tools-neu-termin-15-3-2-2/
LOCATION:Online
CATEGORIES:Business
ATTACH;FMTTYPE=image/png:https://anmeldungen.channoine.com/wp-content/uploads/2023/07/Webrelaunch_202402.png
END:VEVENT
BEGIN:VEVENT
DTSTART;TZID=Europe/Berlin:20240227T180000
DTEND;TZID=Europe/Berlin:20240227T200000
DTSTAMP:20260421T113444
CREATED:20240220T071941Z
LAST-MODIFIED:20240220T151425Z
UID:4267-1709056800-1709064000@anmeldungen.channoine.com
SUMMARY:Fragen und Antworten zum CHANNOINE-Webrelaunch
DESCRIPTION:Liebe Mitunternehmerinnen und Mitunternehmer! \nSehr gerne möchten wir Ihnen ergänzend zu unserer Service-Mailadresse online@channoine.com ein Frage- und Antwort-Webinar zu unserem Website-Relaunch anbieten\, wo wir gezielt auf Ihre bereits gemachten Erfahrungswerte und auf eventuelle damit verbundene Anwendungsthemen eingehen werden. Gemeinsam können wir beim Webinar nochmals grundlegenden Abläufe sowie Tipps und Tricks zu den folgenden Details durchgehen: \n\nOnline-Account-Aktivierung oder -Registrierung\nAffiliate-Funktion inkl. Berater-ID Verknüpfung\nPartner-Landingpage inkl. individueller Datenanpassung über Ihren Berater-Online-Account\nBeauty-Botschafter-Registrierung\nOnline-Hautbildanalyse\nu. v. m. an Themen\, die sich aus dem direkten Austausch noch ergeben werden\n\nZur besseren Themenplanung vom Webinar bitten wir Sie Ihre Fragen bereits zuvor kurz zusammenzufassen und an online@channoine.com zu senden\, dann können wir die Inhalte besser planen und gezielter Schritt für Schritt auf Ihre Themenschwerpunkte eingehen\, die derzeit im Zusammenhang vom Webrelaunch wichtig sind für Sie. \nWir freuen uns auf Ihre Teilnahme.
URL:https://anmeldungen.channoine.com/event/online-tools-neu-termin-15-3-2-2-2/
LOCATION:Online
CATEGORIES:Business
ATTACH;FMTTYPE=image/png:https://anmeldungen.channoine.com/wp-content/uploads/2023/07/Webrelaunch_202402.png
END:VEVENT
BEGIN:VEVENT
DTSTART;TZID=Europe/Berlin:20240229T183000
DTEND;TZID=Europe/Berlin:20240229T210000
DTSTAMP:20260421T113444
CREATED:20240119T122330Z
LAST-MODIFIED:20240130T152105Z
UID:3913-1709231400-1709240400@anmeldungen.channoine.com
SUMMARY:SONNE – CHANNOINE SUN COLLECTION
DESCRIPTION:Lange sonnige Tage\, steigende Temperaturen sowie Freizeit- und Urlaubsgenuss im Freien kennzeichnen nun jene Zeit\, die mit dem Frühsommer und Sommer vor uns liegt. Die Vorfreude auf diese Jahreszeit mit viel Sonnenschein sollte jedoch nicht darüber hinwegtäuschen\, dass ein ausgezeichneter Sonnenschutz ein absolutes „Must-have“ ist.  \nUm Sie bei Ihren Kundenterminen zum Thema „Sonne & Sonnenschutz“ bestens zu unterstützen\, bieten wir Ihnen ein Online-Impuls-Webinar zum Spezialthema „SONNE – CHANNOINE SUN COLLECTION“. \nSeien Sie dabei und profitieren Sie von den vielen wertvollen Inputs!
URL:https://anmeldungen.channoine.com/event/make-up-workshop-2-2-2-8/
LOCATION:Online
CATEGORIES:CHANNOINE
ATTACH;FMTTYPE=image/png:https://anmeldungen.channoine.com/wp-content/uploads/2023/08/Sun_1_202401.png
END:VEVENT
END:VCALENDAR