BEGIN:VCALENDAR
VERSION:2.0
PRODID:-//CBS Seminare - ECPv6.15.17.1//NONSGML v1.0//EN
CALSCALE:GREGORIAN
METHOD:PUBLISH
X-ORIGINAL-URL:https://anmeldungen.channoine.com
X-WR-CALDESC:Veranstaltungen für CBS Seminare
REFRESH-INTERVAL;VALUE=DURATION:PT1H
X-Robots-Tag:noindex
X-PUBLISHED-TTL:PT1H
BEGIN:VTIMEZONE
TZID:Europe/Berlin
BEGIN:DAYLIGHT
TZOFFSETFROM:+0100
TZOFFSETTO:+0200
TZNAME:CEST
DTSTART:20230326T010000
END:DAYLIGHT
BEGIN:STANDARD
TZOFFSETFROM:+0200
TZOFFSETTO:+0100
TZNAME:CET
DTSTART:20231029T010000
END:STANDARD
BEGIN:DAYLIGHT
TZOFFSETFROM:+0100
TZOFFSETTO:+0200
TZNAME:CEST
DTSTART:20240331T010000
END:DAYLIGHT
BEGIN:STANDARD
TZOFFSETFROM:+0200
TZOFFSETTO:+0100
TZNAME:CET
DTSTART:20241027T010000
END:STANDARD
BEGIN:DAYLIGHT
TZOFFSETFROM:+0100
TZOFFSETTO:+0200
TZNAME:CEST
DTSTART:20250330T010000
END:DAYLIGHT
BEGIN:STANDARD
TZOFFSETFROM:+0200
TZOFFSETTO:+0100
TZNAME:CET
DTSTART:20251026T010000
END:STANDARD
END:VTIMEZONE
BEGIN:VEVENT
DTSTART;TZID=Europe/Berlin:20240111T190000
DTEND;TZID=Europe/Berlin:20240111T203000
DTSTAMP:20260421T131129
CREATED:20230814T112330Z
LAST-MODIFIED:20240130T144543Z
UID:3723-1704999600-1705005000@anmeldungen.channoine.com
SUMMARY:Den Allergien ein Schnippchen schlagen
DESCRIPTION:Bis zu den ersten Frühlingsblumen dauert es noch ein wenig\, denn aktuell liegt die Natur unter einer Schneedecke und schläft. Doch dann geht es rasch und die Frühblüher stehen in den Startlöchern. Mit ihnen beginnen bereits erste Allergiesymptome wie rinnende Nasen oder juckende Augen. Schlag auf Schlag erwacht die Natur. Für viele Menschen bringt das Frühjahr nicht nur das Erwachen der Natur in bunten Farben mit sich\, sondern leider auch viele Allergien. Deswegen sollte man gleich zu Beginn des neuen Jahres vorsorgen und den Allergien keine Chance geben. \nProdukte\, die neben dem fachlichen Input besprochen werden:Dioluxsan Duo\, Aloe Vera Premium Plus\, Sanocare Plus und Exeloryl
URL:https://anmeldungen.channoine.com/event/make-up-workshop-2-2-2-3/
LOCATION:Online
CATEGORIES:Nobusan
ATTACH;FMTTYPE=image/png:https://anmeldungen.channoine.com/wp-content/uploads/2023/08/Allergie1.png
END:VEVENT
BEGIN:VEVENT
DTSTART;TZID=Europe/Berlin:20240124T180000
DTEND;TZID=Europe/Berlin:20240124T200000
DTSTAMP:20260421T131129
CREATED:20230721T061941Z
LAST-MODIFIED:20240130T151931Z
UID:2834-1706119200-1706126400@anmeldungen.channoine.com
SUMMARY:Online Tools-NEU - Termin 18
DESCRIPTION:Machen Sie sich fit in den neuen CHANNOINE Online-Businesstools!\nWas werden die Inhalte vom Webinar sein? Wir werden Ihnen nochmals die Grundlagen unserer neuen Online-Tools näherbringen sowie die wichtigsten Details für eine erfolgreiche Handhabung zeigen. Anhand unserer erstellten Schulungsunterlagen werden wir Ihnen alle notwendigen Vorbereitungsschritte präsentieren\, die wichtigsten Begrifflichkeiten sowie Navigationslogiken durchgehen und mit Anwendungsbeispielen die erfolgreiche Verwertung der Online-Tools vorführen. \nFür wen ist das Webinar geeignet? Für alle Mitunternehmer/innen\, die ihr bereits erlangtes Wissen von den besuchten Startseminaren vertiefen und festigen möchten. Zudem für alle Mitunternehmer/innen\, die neu im CHANNOINE-Business gestartet sind oder bisher noch an keinem der Startseminare teilgenommen haben. \nWir freuen uns auf Ihre Teilnahme und wünschen Ihnen bis dorthin noch eine gute sowie erfolgreiche Zeit. \nIhr CHANNOINE-Vertriebsteam
URL:https://anmeldungen.channoine.com/event/online-tools-neu-termin-15-3-2/
LOCATION:Online
CATEGORIES:Business
ATTACH;FMTTYPE=image/jpeg:https://anmeldungen.channoine.com/wp-content/uploads/2023/03/Teams-Meeting_600x400px.jpg
END:VEVENT
BEGIN:VEVENT
DTSTART;TZID=Europe/Berlin:20240125T190000
DTEND;TZID=Europe/Berlin:20240125T210000
DTSTAMP:20260421T131129
CREATED:20230814T133743Z
LAST-MODIFIED:20240130T151957Z
UID:1978-1706209200-1706216400@anmeldungen.channoine.com
SUMMARY:Setzen Sie Ihr Gesicht in Form!
DESCRIPTION:Entdecken Sie exklusiv die Geheimnisse des perfekten Contourings in diesem Online-Seminar! \nErfahren Sie\, wie Sie die Gesichtszüge ihrer Kund/innen durch geschicktes Setzen von Lowlights und Highlights perfekt in Szene setzen können und an welcher Stelle das Rouge passend zur Gesichtsform platziert wird. \nVerpassen Sie nicht die Chance\, die individuelle Schönheit Ihrer Kund/innen auf ein neues Level zu heben. \nMelden Sie sich noch heute an\, sichern Sie sich Ihren Platz und werden Sie zum Meister des Contourings.
URL:https://anmeldungen.channoine.com/event/setzen-sie-ihr-gesicht-in-form/
LOCATION:Online
CATEGORIES:Visagistik
ATTACH;FMTTYPE=image/png:https://anmeldungen.channoine.com/wp-content/uploads/2023/08/Contouring_2_202308-1.png
END:VEVENT
END:VCALENDAR