BEGIN:VCALENDAR
VERSION:2.0
PRODID:-//CBS Seminare - ECPv6.15.17.1//NONSGML v1.0//EN
CALSCALE:GREGORIAN
METHOD:PUBLISH
X-WR-CALNAME:CBS Seminare
X-ORIGINAL-URL:https://anmeldungen.channoine.com
X-WR-CALDESC:Veranstaltungen für CBS Seminare
REFRESH-INTERVAL;VALUE=DURATION:PT1H
X-Robots-Tag:noindex
X-PUBLISHED-TTL:PT1H
BEGIN:VTIMEZONE
TZID:Europe/Berlin
BEGIN:DAYLIGHT
TZOFFSETFROM:+0100
TZOFFSETTO:+0200
TZNAME:CEST
DTSTART:20220327T010000
END:DAYLIGHT
BEGIN:STANDARD
TZOFFSETFROM:+0200
TZOFFSETTO:+0100
TZNAME:CET
DTSTART:20221030T010000
END:STANDARD
BEGIN:DAYLIGHT
TZOFFSETFROM:+0100
TZOFFSETTO:+0200
TZNAME:CEST
DTSTART:20230326T010000
END:DAYLIGHT
BEGIN:STANDARD
TZOFFSETFROM:+0200
TZOFFSETTO:+0100
TZNAME:CET
DTSTART:20231029T010000
END:STANDARD
BEGIN:DAYLIGHT
TZOFFSETFROM:+0100
TZOFFSETTO:+0200
TZNAME:CEST
DTSTART:20240331T010000
END:DAYLIGHT
BEGIN:STANDARD
TZOFFSETFROM:+0200
TZOFFSETTO:+0100
TZNAME:CET
DTSTART:20241027T010000
END:STANDARD
END:VTIMEZONE
BEGIN:VEVENT
DTSTART;TZID=Europe/Berlin:20230504T180000
DTEND;TZID=Europe/Berlin:20230504T200000
DTSTAMP:20260422T014132
CREATED:20230420T141739Z
LAST-MODIFIED:20230420T141744Z
UID:1327-1683223200-1683230400@anmeldungen.channoine.com
SUMMARY:Online-Tools NEU - Termin 7
DESCRIPTION:
URL:https://anmeldungen.channoine.com/event/online-tools-neu-termin-7/
LOCATION:Online
CATEGORIES:Business
ATTACH;FMTTYPE=image/jpeg:https://anmeldungen.channoine.com/wp-content/uploads/2023/03/Teams-Meeting_600x400px.jpg
END:VEVENT
BEGIN:VEVENT
DTSTART;TZID=Europe/Berlin:20230509T180000
DTEND;TZID=Europe/Berlin:20230509T200000
DTSTAMP:20260422T014132
CREATED:20230421T102750Z
LAST-MODIFIED:20230421T102755Z
UID:1364-1683655200-1683662400@anmeldungen.channoine.com
SUMMARY:Online-Tools NEU - Termin 8
DESCRIPTION:
URL:https://anmeldungen.channoine.com/event/online-tools-neu-termin-8/
LOCATION:Online
CATEGORIES:Business
ATTACH;FMTTYPE=image/jpeg:https://anmeldungen.channoine.com/wp-content/uploads/2023/03/Teams-Meeting_600x400px.jpg
END:VEVENT
BEGIN:VEVENT
DTSTART;TZID=Europe/Berlin:20230512T134500
DTEND;TZID=Europe/Berlin:20230512T140000
DTSTAMP:20260422T014132
CREATED:20230512T093848Z
LAST-MODIFIED:20230512T113443Z
UID:1522-1683899100-1683900000@anmeldungen.channoine.com
SUMMARY:Zoom-Channoine-Test
DESCRIPTION:
URL:https://anmeldungen.channoine.com/event/zoom-channoine-test/
LOCATION:Online
CATEGORIES:CHANNOINE
ATTACH;FMTTYPE=image/jpeg:https://anmeldungen.channoine.com/wp-content/uploads/2023/03/Teams-Meeting_600x400px.jpg
END:VEVENT
BEGIN:VEVENT
DTSTART;TZID=Europe/Berlin:20230512T140000
DTEND;TZID=Europe/Berlin:20230512T143000
DTSTAMP:20260422T014132
CREATED:20230512T114523Z
LAST-MODIFIED:20230512T114527Z
UID:1530-1683900000-1683901800@anmeldungen.channoine.com
SUMMARY:Zoom-Channoine-Test India
DESCRIPTION:
URL:https://anmeldungen.channoine.com/event/zoom-channoine-test-india/
LOCATION:Online
CATEGORIES:CHANNOINE
ATTACH;FMTTYPE=image/jpeg:https://anmeldungen.channoine.com/wp-content/uploads/2023/03/Teams-Meeting_600x400px.jpg
END:VEVENT
END:VCALENDAR