BEGIN:VCALENDAR
VERSION:2.0
PRODID:-//CBS Seminare - ECPv6.15.17.1//NONSGML v1.0//EN
CALSCALE:GREGORIAN
METHOD:PUBLISH
X-WR-CALNAME:CBS Seminare
X-ORIGINAL-URL:https://anmeldungen.channoine.com
X-WR-CALDESC:Veranstaltungen für CBS Seminare
REFRESH-INTERVAL;VALUE=DURATION:PT1H
X-Robots-Tag:noindex
X-PUBLISHED-TTL:PT1H
BEGIN:VTIMEZONE
TZID:Europe/Berlin
BEGIN:DAYLIGHT
TZOFFSETFROM:+0100
TZOFFSETTO:+0200
TZNAME:CEST
DTSTART:20250330T010000
END:DAYLIGHT
BEGIN:STANDARD
TZOFFSETFROM:+0200
TZOFFSETTO:+0100
TZNAME:CET
DTSTART:20251026T010000
END:STANDARD
BEGIN:DAYLIGHT
TZOFFSETFROM:+0100
TZOFFSETTO:+0200
TZNAME:CEST
DTSTART:20260329T010000
END:DAYLIGHT
BEGIN:STANDARD
TZOFFSETFROM:+0200
TZOFFSETTO:+0100
TZNAME:CET
DTSTART:20261025T010000
END:STANDARD
BEGIN:DAYLIGHT
TZOFFSETFROM:+0100
TZOFFSETTO:+0200
TZNAME:CEST
DTSTART:20270328T010000
END:DAYLIGHT
BEGIN:STANDARD
TZOFFSETFROM:+0200
TZOFFSETTO:+0100
TZNAME:CET
DTSTART:20271031T010000
END:STANDARD
END:VTIMEZONE
BEGIN:VEVENT
DTSTART;TZID=Europe/Berlin:20260617T190000
DTEND;TZID=Europe/Berlin:20260617T210000
DTSTAMP:20260419T215341
CREATED:20230814T112330Z
LAST-MODIFIED:20260130T085833Z
UID:10256-1781722800-1781730000@anmeldungen.channoine.com
SUMMARY:Contour Code – Gesicht verstehen\, Make-up gezielt einsetzen
DESCRIPTION:In diesem Online-Seminar lernst Du\, Gesichter zu analysieren und Contouring sowie Rouge proportionsgerecht und individuell anzuwenden. \nContour Code verbindet Gesichtsvermessung\, visagistische Prinzipien und moderne Make-up-Techniken zu einer perfekten Balance. Du erfährst\, wie Gesichtsformen und Licht-Schattenwirkung die Basis für wirkungsvolles Contouring bilden und wie Rouge gezielt Frische\, Balance und Ausdruck verleiht. \nDas erwartet Dich: \n\nGesichtsanalyse und Vermessung leicht erklärt\nEffektive Contouring-Techniken\nRouge-Techniken für Frische und Balance\n\nFür alle\, die Make-up bewusster\, professioneller und mit System anwenden möchten.
URL:https://anmeldungen.channoine.com/event/make-up-workshop-2-2-2-10-3-3-2-2-2-2/
LOCATION:Online
CATEGORIES:Visagistik
ATTACH;FMTTYPE=image/png:https://anmeldungen.channoine.com/wp-content/uploads/2023/08/Contouring_202308-1.png
END:VEVENT
END:VCALENDAR