BEGIN:VCALENDAR
VERSION:2.0
PRODID:-//CBS Seminare - ECPv6.15.17.1//NONSGML v1.0//EN
CALSCALE:GREGORIAN
METHOD:PUBLISH
X-ORIGINAL-URL:https://anmeldungen.channoine.com
X-WR-CALDESC:Veranstaltungen für CBS Seminare
REFRESH-INTERVAL;VALUE=DURATION:PT1H
X-Robots-Tag:noindex
X-PUBLISHED-TTL:PT1H
BEGIN:VTIMEZONE
TZID:Europe/Berlin
BEGIN:DAYLIGHT
TZOFFSETFROM:+0100
TZOFFSETTO:+0200
TZNAME:CEST
DTSTART:20250330T010000
END:DAYLIGHT
BEGIN:STANDARD
TZOFFSETFROM:+0200
TZOFFSETTO:+0100
TZNAME:CET
DTSTART:20251026T010000
END:STANDARD
BEGIN:DAYLIGHT
TZOFFSETFROM:+0100
TZOFFSETTO:+0200
TZNAME:CEST
DTSTART:20260329T010000
END:DAYLIGHT
BEGIN:STANDARD
TZOFFSETFROM:+0200
TZOFFSETTO:+0100
TZNAME:CET
DTSTART:20261025T010000
END:STANDARD
BEGIN:DAYLIGHT
TZOFFSETFROM:+0100
TZOFFSETTO:+0200
TZNAME:CEST
DTSTART:20270328T010000
END:DAYLIGHT
BEGIN:STANDARD
TZOFFSETFROM:+0200
TZOFFSETTO:+0100
TZNAME:CET
DTSTART:20271031T010000
END:STANDARD
END:VTIMEZONE
BEGIN:VEVENT
DTSTART;TZID=Europe/Berlin:20260505T190000
DTEND;TZID=Europe/Berlin:20260505T203000
DTSTAMP:20260419T202441
CREATED:20260325T090010Z
LAST-MODIFIED:20260114T122501Z
UID:9993-1778007600-1778013000@anmeldungen.channoine.com
SUMMARY:Longevity – Stoffwechsel-Reset
DESCRIPTION:Hast Du das Gefühl\, dass Deine Haut zwischendurch an Strahlkraft verliert? Kleine Linien wirken sichtbarer und der Teint ist etwas unruhiger? Wenn der Stoffwechsel aus dem Gleichgewicht kommt\, zeigt sich das häufig zuerst auf der Haut. Müdigkeit im Teint ist oft ein Zeichen dafür\, dass der Körper innere Regeneration braucht. \nGlow entsteht nicht zufällig – er entsteht\, wenn Dein inneres System wieder rund läuft. Genau hier setzen wir an: Mit einem intensiven Stoffwechsel-Reset von innen. Wir starten mit einer gezielten Regeneration von Leber und Darm und kräftigen den Körper mit Kollagen\, Hyaluron und Aloe. \nUnterstützt wird dieses Vorgehen von Amdoron\, Exeloryl\, Dioluxsan Living Microorganism\, Skindream Absolute Teint Regeneration Cure\, Aloe Vera Premium Plus und Regenyl Plus.
URL:https://anmeldungen.channoine.com/event/instagram-wie-3-7-2-2-4-3-2-2-2-2/
LOCATION:Online
CATEGORIES:Nobusan
ATTACH;FMTTYPE=image/png:https://anmeldungen.channoine.com/wp-content/uploads/2023/08/LP_NOBUSAN_Jubi_Quartal_02_202601.png
END:VEVENT
END:VCALENDAR