BEGIN:VCALENDAR
VERSION:2.0
PRODID:-//CBS Seminare - ECPv6.15.17.1//NONSGML v1.0//EN
CALSCALE:GREGORIAN
METHOD:PUBLISH
X-WR-CALNAME:CBS Seminare
X-ORIGINAL-URL:https://anmeldungen.channoine.com
X-WR-CALDESC:Veranstaltungen für CBS Seminare
REFRESH-INTERVAL;VALUE=DURATION:PT1H
X-Robots-Tag:noindex
X-PUBLISHED-TTL:PT1H
BEGIN:VTIMEZONE
TZID:Europe/Berlin
BEGIN:DAYLIGHT
TZOFFSETFROM:+0100
TZOFFSETTO:+0200
TZNAME:CEST
DTSTART:20250330T010000
END:DAYLIGHT
BEGIN:STANDARD
TZOFFSETFROM:+0200
TZOFFSETTO:+0100
TZNAME:CET
DTSTART:20251026T010000
END:STANDARD
BEGIN:DAYLIGHT
TZOFFSETFROM:+0100
TZOFFSETTO:+0200
TZNAME:CEST
DTSTART:20260329T010000
END:DAYLIGHT
BEGIN:STANDARD
TZOFFSETFROM:+0200
TZOFFSETTO:+0100
TZNAME:CET
DTSTART:20261025T010000
END:STANDARD
BEGIN:DAYLIGHT
TZOFFSETFROM:+0100
TZOFFSETTO:+0200
TZNAME:CEST
DTSTART:20270328T010000
END:DAYLIGHT
BEGIN:STANDARD
TZOFFSETFROM:+0200
TZOFFSETTO:+0100
TZNAME:CET
DTSTART:20271031T010000
END:STANDARD
END:VTIMEZONE
BEGIN:VEVENT
DTSTART;TZID=Europe/Berlin:20260429T190000
DTEND;TZID=Europe/Berlin:20260429T210000
DTSTAMP:20260419T184201
CREATED:20260415T080010Z
LAST-MODIFIED:20260415T121023Z
UID:10934-1777489200-1777496400@anmeldungen.channoine.com
SUMMARY:HUMANKAPITAL = POTENTIAL
DESCRIPTION:Wir sind CHANNOINE-Kooperationspartner.\nWir stehen für Vertrieb mit System! \nFür Vertriebs- und Kooperationspartner mit Fokus auf nachhaltigen Kunden- und Vertriebsaufbau gibt es entscheidende Schlüsselaufgaben\, die Dich dabei unterstützen\, Deine Ziele effizient und erfolgreich zu erreichen. \nIm Mittelpunkt stehen dabei zwei zentrale Faktoren: der gezielte Aufbau Deines Humankapitals sowie das aktive Knüpfen wertvoller Kontakte. \nWas brauchst Du noch\, um Deine Ziele zu verwirklichen? \nIn unserem Humankapital-Webinar erhältst Du das grundlegende Werkzeug für eine erfolgreiche Kunden- und Vertriebspartnergewinnung – damit Du Dich auf die Stabilität und Stärke unseres Konzeptes verlassen kannst. \nDie A – Z-Strategie:  \n\nOrganisation und Erarbeitung Deines persönlichen Humankapitals als Basis für Deine Kontakte\n\nMenschen\, die Du kennst\nMenschen\, die Deine Herzmenschen kennen\nFremde Menschen (z. B. über Social Media wie Facebook)\n\n\n\n  \n\nBefreiung von überflüssigen Gedanken\, Ängsten und Perfektionismus\nGewinn von neuer Energie und Klarheit für Deine nächsten Schritte – wie Einladungen aussprechen und Kontakte aktivieren\n\nSchließlich bringt es wenig\, Dein Studio mit viel Aufwand einzurichten\, zu reinigen und zu dekorieren\, wenn am Ende niemand zur Geschäftseröffnung oder zu Deinen Einzelterminen erscheint. \nDas solltest Du bereithalten: \nSchreibmaterial\, ein positives Mindset sowie Kontakt- und Empfehlungsblätter (Download Modul 10) Channoine Basics. \nAlternativ kannst Du diese auch bei Deiner Workshopleiterin anfordern\, solltest du noch keinen CAT-Zugriff haben.
URL:https://anmeldungen.channoine.com/event/instagram-wie-3-7-2-2-4-3-2-2-2-2-2-2-2-2-2-3-2/
LOCATION:Online
CATEGORIES:CHANNOINE
ATTACH;FMTTYPE=image/png:https://anmeldungen.channoine.com/wp-content/uploads/2023/07/Webrelaunch_202402.png
ORGANIZER;CN="Sabine Sevecka":MAILTO:sabine.sevecka@channoine-partner.com
END:VEVENT
END:VCALENDAR