BEGIN:VCALENDAR
VERSION:2.0
PRODID:-//CBS Seminare - ECPv6.15.17.1//NONSGML v1.0//EN
CALSCALE:GREGORIAN
METHOD:PUBLISH
X-WR-CALNAME:CBS Seminare
X-ORIGINAL-URL:https://anmeldungen.channoine.com
X-WR-CALDESC:Veranstaltungen für CBS Seminare
REFRESH-INTERVAL;VALUE=DURATION:PT1H
X-Robots-Tag:noindex
X-PUBLISHED-TTL:PT1H
BEGIN:VTIMEZONE
TZID:Europe/Berlin
BEGIN:DAYLIGHT
TZOFFSETFROM:+0100
TZOFFSETTO:+0200
TZNAME:CEST
DTSTART:20250330T010000
END:DAYLIGHT
BEGIN:STANDARD
TZOFFSETFROM:+0200
TZOFFSETTO:+0100
TZNAME:CET
DTSTART:20251026T010000
END:STANDARD
BEGIN:DAYLIGHT
TZOFFSETFROM:+0100
TZOFFSETTO:+0200
TZNAME:CEST
DTSTART:20260329T010000
END:DAYLIGHT
BEGIN:STANDARD
TZOFFSETFROM:+0200
TZOFFSETTO:+0100
TZNAME:CET
DTSTART:20261025T010000
END:STANDARD
BEGIN:DAYLIGHT
TZOFFSETFROM:+0100
TZOFFSETTO:+0200
TZNAME:CEST
DTSTART:20270328T010000
END:DAYLIGHT
BEGIN:STANDARD
TZOFFSETFROM:+0200
TZOFFSETTO:+0100
TZNAME:CET
DTSTART:20271031T010000
END:STANDARD
END:VTIMEZONE
BEGIN:VEVENT
DTSTART;TZID=Europe/Berlin:20260414T190000
DTEND;TZID=Europe/Berlin:20260414T203000
DTSTAMP:20260419T184413
CREATED:20260325T080010Z
LAST-MODIFIED:20260114T122428Z
UID:9986-1776193200-1776198600@anmeldungen.channoine.com
SUMMARY:Die Kraft der Mitte – Stoffwechsel-Revitalisierung
DESCRIPTION:Magen\, Darm und Leber mussten in den vergangenen Wochen ganze Arbeit leisten\, um all das zu verarbeiten\, was auf sie zugekommen ist: Feiertage\, Stress\, Schokohasen und Ostereier\, Familienfeiern und vieles mehr. \nEin aufgeblähter Bauch\, Müdigkeit nach dem Essen oder eine Verdauung\, die aus dem Gleichgewicht geraten ist\, sind häufige Zeichen dafür\, dass Magen\, Darm und Leber Unterstützung benötigen. Der Frühling ist der ideale Zeitpunkt\, um den Verdauungsapparat zu entlasten und wieder in eine stabile Mitte zurückzukehren. \nJetzt sind leicht umsetzbare\, effektive Frühlingskuren gefragt. Unterstützen wir unsere Kunden auf ihrem Weg zu einer gesunden Mitte von Magen\, Darm und Leber mit dem NOBUSAN-Jubiläumsangebot: Amdoron\, Exeloryl und Dioluxsan Living Microorganism.
URL:https://anmeldungen.channoine.com/event/instagram-wie-3-7-2-2-4-3-2-2-2/
LOCATION:Online
CATEGORIES:Nobusan
ATTACH;FMTTYPE=image/png:https://anmeldungen.channoine.com/wp-content/uploads/2023/08/LP_NOBUSAN_Jubi_Quartal_02_202601.png
END:VEVENT
END:VCALENDAR