BEGIN:VCALENDAR
VERSION:2.0
PRODID:-//CBS Seminare - ECPv6.15.17.1//NONSGML v1.0//EN
CALSCALE:GREGORIAN
METHOD:PUBLISH
X-WR-CALNAME:CBS Seminare
X-ORIGINAL-URL:https://anmeldungen.channoine.com
X-WR-CALDESC:Veranstaltungen für CBS Seminare
REFRESH-INTERVAL;VALUE=DURATION:PT1H
X-Robots-Tag:noindex
X-PUBLISHED-TTL:PT1H
BEGIN:VTIMEZONE
TZID:Europe/Berlin
BEGIN:DAYLIGHT
TZOFFSETFROM:+0100
TZOFFSETTO:+0200
TZNAME:CEST
DTSTART:20250330T010000
END:DAYLIGHT
BEGIN:STANDARD
TZOFFSETFROM:+0200
TZOFFSETTO:+0100
TZNAME:CET
DTSTART:20251026T010000
END:STANDARD
BEGIN:DAYLIGHT
TZOFFSETFROM:+0100
TZOFFSETTO:+0200
TZNAME:CEST
DTSTART:20260329T010000
END:DAYLIGHT
BEGIN:STANDARD
TZOFFSETFROM:+0200
TZOFFSETTO:+0100
TZNAME:CET
DTSTART:20261025T010000
END:STANDARD
BEGIN:DAYLIGHT
TZOFFSETFROM:+0100
TZOFFSETTO:+0200
TZNAME:CEST
DTSTART:20270328T010000
END:DAYLIGHT
BEGIN:STANDARD
TZOFFSETFROM:+0200
TZOFFSETTO:+0100
TZNAME:CET
DTSTART:20271031T010000
END:STANDARD
END:VTIMEZONE
BEGIN:VEVENT
DTSTART;TZID=Europe/Berlin:20260318T190000
DTEND;TZID=Europe/Berlin:20260318T203000
DTSTAMP:20260419T202111
CREATED:20260114T080010Z
LAST-MODIFIED:20260114T085743Z
UID:9977-1773860400-1773865800@anmeldungen.channoine.com
SUMMARY:Detox the Body – Stoffwechsel-Balance
DESCRIPTION:Lassen Energie und Elan nach? Wirken Haut und Bindegewebe nicht mehr so frisch und straff wie gewohnt? Damit sendet der Körper oft ein klares Signal: Er sehnt sich nach einer intensiven Reinigung. Entgiften\, Entschlacken\, Entsäuern – Ballast abwerfen! \nIn diesem Webinar besprechen wir die vielfältigen Möglichkeiten\, wie Deine Kunden eine effektive und sinnvolle Entgiftungskur durchführen können. \nDafür setzen wir unseren Fokus auf Nuprem Plus\, Optabial Plus\, Dioluxsan Living Microorganism\, Aloe Vera Premium Plus\, Noni Xtra Plus und Spermidin Basic Supplement.
URL:https://anmeldungen.channoine.com/event/instagram-wie-3-7-2-2-4-3-2-2/
LOCATION:Online
CATEGORIES:Nobusan
ATTACH;FMTTYPE=image/png:https://anmeldungen.channoine.com/wp-content/uploads/2023/08/LP_NOBUSAN_Jubi_Quartal_01_202512-2.png
END:VEVENT
END:VCALENDAR