BEGIN:VCALENDAR
VERSION:2.0
PRODID:-//CBS Seminare - ECPv6.15.17.1//NONSGML v1.0//EN
CALSCALE:GREGORIAN
METHOD:PUBLISH
X-WR-CALNAME:CBS Seminare
X-ORIGINAL-URL:https://anmeldungen.channoine.com
X-WR-CALDESC:Veranstaltungen für CBS Seminare
REFRESH-INTERVAL;VALUE=DURATION:PT1H
X-Robots-Tag:noindex
X-PUBLISHED-TTL:PT1H
BEGIN:VTIMEZONE
TZID:Europe/Berlin
BEGIN:DAYLIGHT
TZOFFSETFROM:+0100
TZOFFSETTO:+0200
TZNAME:CEST
DTSTART:20250330T010000
END:DAYLIGHT
BEGIN:STANDARD
TZOFFSETFROM:+0200
TZOFFSETTO:+0100
TZNAME:CET
DTSTART:20251026T010000
END:STANDARD
BEGIN:DAYLIGHT
TZOFFSETFROM:+0100
TZOFFSETTO:+0200
TZNAME:CEST
DTSTART:20260329T010000
END:DAYLIGHT
BEGIN:STANDARD
TZOFFSETFROM:+0200
TZOFFSETTO:+0100
TZNAME:CET
DTSTART:20261025T010000
END:STANDARD
BEGIN:DAYLIGHT
TZOFFSETFROM:+0100
TZOFFSETTO:+0200
TZNAME:CEST
DTSTART:20270328T010000
END:DAYLIGHT
BEGIN:STANDARD
TZOFFSETFROM:+0200
TZOFFSETTO:+0100
TZNAME:CET
DTSTART:20271031T010000
END:STANDARD
END:VTIMEZONE
BEGIN:VEVENT
DTSTART;TZID=Europe/Berlin:20260219T190000
DTEND;TZID=Europe/Berlin:20260219T210000
DTSTAMP:20260419T215454
CREATED:20230814T112330Z
LAST-MODIFIED:20260130T085406Z
UID:10223-1771527600-1771534800@anmeldungen.channoine.com
SUMMARY:Color Me Right – Farbtypanalyse trifft gezieltes Rouge-Styling
DESCRIPTION:F \nFarben verstehen. Gesichter gestalten. \nIn diesem praxisnahen Impulswebinar kombinieren wir Farbtypanalyse mit gezieltem Rouge-Styling – für ein Make-up\, das wirklich harmoniert. Lerne\, wie Du Farbtypen sicher erkennst und Rouge so platzierst und nuancierst\, dass es den individuellen Teint zum Strahlen bringt. \nIdeal\, um Deine Beratungskompetenz zu schärfen und Deine Looks noch typgerechter zu gestalten. \nJetzt anmelden und Farbe gezielt wie ein Profi einsetzen.
URL:https://anmeldungen.channoine.com/event/make-up-workshop-2-2-2-10-3-3-2-2/
LOCATION:Online
CATEGORIES:Visagistik
ATTACH;FMTTYPE=image/png:https://anmeldungen.channoine.com/wp-content/uploads/2023/08/LP_Make-up_03_202601.png
ORGANIZER;CN="Johanna Geppel":MAILTO:johanna.geppel@channoione-partner.com
END:VEVENT
END:VCALENDAR