BEGIN:VCALENDAR
VERSION:2.0
PRODID:-//CBS Seminare - ECPv6.15.17.1//NONSGML v1.0//EN
CALSCALE:GREGORIAN
METHOD:PUBLISH
X-ORIGINAL-URL:https://anmeldungen.channoine.com
X-WR-CALDESC:Veranstaltungen für CBS Seminare
REFRESH-INTERVAL;VALUE=DURATION:PT1H
X-Robots-Tag:noindex
X-PUBLISHED-TTL:PT1H
BEGIN:VTIMEZONE
TZID:Europe/Berlin
BEGIN:DAYLIGHT
TZOFFSETFROM:+0100
TZOFFSETTO:+0200
TZNAME:CEST
DTSTART:20240331T010000
END:DAYLIGHT
BEGIN:STANDARD
TZOFFSETFROM:+0200
TZOFFSETTO:+0100
TZNAME:CET
DTSTART:20241027T010000
END:STANDARD
BEGIN:DAYLIGHT
TZOFFSETFROM:+0100
TZOFFSETTO:+0200
TZNAME:CEST
DTSTART:20250330T010000
END:DAYLIGHT
BEGIN:STANDARD
TZOFFSETFROM:+0200
TZOFFSETTO:+0100
TZNAME:CET
DTSTART:20251026T010000
END:STANDARD
BEGIN:DAYLIGHT
TZOFFSETFROM:+0100
TZOFFSETTO:+0200
TZNAME:CEST
DTSTART:20260329T010000
END:DAYLIGHT
BEGIN:STANDARD
TZOFFSETFROM:+0200
TZOFFSETTO:+0100
TZNAME:CET
DTSTART:20261025T010000
END:STANDARD
END:VTIMEZONE
BEGIN:VEVENT
DTSTART;TZID=Europe/Berlin:20251203T190000
DTEND;TZID=Europe/Berlin:20251203T210000
DTSTAMP:20260420T012155
CREATED:20230814T112330Z
LAST-MODIFIED:20250708T091954Z
UID:8592-1764788400-1764795600@anmeldungen.channoine.com
SUMMARY:Blend & Go – Augen-Make-up Basics
DESCRIPTION:Blend & Go – Augen-Make-up Basics \nKurz. Präzise. Wirkungsvoll.In diesem kompakten Impulswebinar dreht sich alles um die Grundlagen des Augen-Make-ups – speziell zugeschnitten auf den professionellen Bedarf von Newcomer\, Visagist:innen und MUAs\, die ihr Handwerk auffrischen oder vereinfachen möchten. \nErhalte praxisnahe Tipps und visuelle Anleitungen\, wie du mit effektiven Techniken schnell und sauber verblenden kannst – ganz nach dem Motto „Blend & Go“. Ob beim Brautstyling\, Shooting oder im Studio: Ein gut geblendeter Augenlook ist und bleibt das Aushängeschild deiner Arbeit. \nIdeal für Newcomer\, Visagist:innen & Make-up Artists \nJetzt anmelden & die Augen strahlen lassen
URL:https://anmeldungen.channoine.com/event/make-up-workshop-2-2-2-10-3-3-2/
LOCATION:Online
CATEGORIES:Visagistik
ATTACH;FMTTYPE=image/png:https://anmeldungen.channoine.com/wp-content/uploads/2023/08/WEB-Augen_202507.png
END:VEVENT
END:VCALENDAR