BEGIN:VCALENDAR
VERSION:2.0
PRODID:-//CBS Seminare - ECPv6.15.17.1//NONSGML v1.0//EN
CALSCALE:GREGORIAN
METHOD:PUBLISH
X-ORIGINAL-URL:https://anmeldungen.channoine.com
X-WR-CALDESC:Veranstaltungen für CBS Seminare
REFRESH-INTERVAL;VALUE=DURATION:PT1H
X-Robots-Tag:noindex
X-PUBLISHED-TTL:PT1H
BEGIN:VTIMEZONE
TZID:Europe/Berlin
BEGIN:DAYLIGHT
TZOFFSETFROM:+0100
TZOFFSETTO:+0200
TZNAME:CEST
DTSTART:20240331T010000
END:DAYLIGHT
BEGIN:STANDARD
TZOFFSETFROM:+0200
TZOFFSETTO:+0100
TZNAME:CET
DTSTART:20241027T010000
END:STANDARD
BEGIN:DAYLIGHT
TZOFFSETFROM:+0100
TZOFFSETTO:+0200
TZNAME:CEST
DTSTART:20250330T010000
END:DAYLIGHT
BEGIN:STANDARD
TZOFFSETFROM:+0200
TZOFFSETTO:+0100
TZNAME:CET
DTSTART:20251026T010000
END:STANDARD
BEGIN:DAYLIGHT
TZOFFSETFROM:+0100
TZOFFSETTO:+0200
TZNAME:CEST
DTSTART:20260329T010000
END:DAYLIGHT
BEGIN:STANDARD
TZOFFSETFROM:+0200
TZOFFSETTO:+0100
TZNAME:CET
DTSTART:20261025T010000
END:STANDARD
END:VTIMEZONE
BEGIN:VEVENT
DTSTART;TZID=Europe/Berlin:20251008T190000
DTEND;TZID=Europe/Berlin:20251008T210000
DTSTAMP:20260420T044233
CREATED:20230814T112330Z
LAST-MODIFIED:20250708T092138Z
UID:8569-1759950000-1759957200@anmeldungen.channoine.com
SUMMARY:Lip Couture – Weil Lippen ein Statement sind!
DESCRIPTION:Lip Couture – Weil Lippen ein Statement sind!Professionelles Lippenstyling \nIn diesem kompakten Impulswebinar lernst du\, wie du jede Lippenform typgerecht analysierst\, optimierst und perfekt in Szene setzt. Ob Korrektur\, Betonung oder Statement – wir zeigen dir praxiserprobte Techniken und Tools für ein präzises\, individuelles Ergebnis. \nIdeal für Newcomer\, Visagist:innen & Make-up Artists \nJetzt anmelden & dein Lippen-Know-how upgraden.
URL:https://anmeldungen.channoine.com/event/make-up-workshop-2-2-2-10-3/
LOCATION:Online
CATEGORIES:Visagistik
ATTACH;FMTTYPE=image/png:https://anmeldungen.channoine.com/wp-content/uploads/2023/08/WEB-Lippen_202507.png
END:VEVENT
END:VCALENDAR