BEGIN:VCALENDAR
VERSION:2.0
PRODID:-//CBS Seminare - ECPv6.15.17.1//NONSGML v1.0//EN
CALSCALE:GREGORIAN
METHOD:PUBLISH
X-WR-CALNAME:CBS Seminare
X-ORIGINAL-URL:https://anmeldungen.channoine.com
X-WR-CALDESC:Veranstaltungen für CBS Seminare
REFRESH-INTERVAL;VALUE=DURATION:PT1H
X-Robots-Tag:noindex
X-PUBLISHED-TTL:PT1H
BEGIN:VTIMEZONE
TZID:Europe/Berlin
BEGIN:DAYLIGHT
TZOFFSETFROM:+0100
TZOFFSETTO:+0200
TZNAME:CEST
DTSTART:20240331T010000
END:DAYLIGHT
BEGIN:STANDARD
TZOFFSETFROM:+0200
TZOFFSETTO:+0100
TZNAME:CET
DTSTART:20241027T010000
END:STANDARD
BEGIN:DAYLIGHT
TZOFFSETFROM:+0100
TZOFFSETTO:+0200
TZNAME:CEST
DTSTART:20250330T010000
END:DAYLIGHT
BEGIN:STANDARD
TZOFFSETFROM:+0200
TZOFFSETTO:+0100
TZNAME:CET
DTSTART:20251026T010000
END:STANDARD
BEGIN:DAYLIGHT
TZOFFSETFROM:+0100
TZOFFSETTO:+0200
TZNAME:CEST
DTSTART:20260329T010000
END:DAYLIGHT
BEGIN:STANDARD
TZOFFSETFROM:+0200
TZOFFSETTO:+0100
TZNAME:CET
DTSTART:20261025T010000
END:STANDARD
END:VTIMEZONE
BEGIN:VEVENT
DTSTART;TZID=Europe/Berlin:20250708T180000
DTEND;TZID=Europe/Berlin:20250708T200000
DTSTAMP:20260420T092706
CREATED:20240220T071941Z
LAST-MODIFIED:20250314T124855Z
UID:7923-1751997600-1752004800@anmeldungen.channoine.com
SUMMARY:Fragen und Antworten zu CHANNOINE-Web-Tools
DESCRIPTION:Liebe Mitunternehmerinnen und Mitunternehmer! \nSehr gerne möchten wir Ihnen ergänzend zu unserer Service-Mailadresse online@channoine.com ein Frage- und Antwort-Webinar über unsere vertriebsunterstützenden Web-Tools (www.channoine.com\, www.channoine-partner.com\, Presono-Präsentationstool\, Marketingbox usw.) anbieten. Gemeinsam können wir beim Webinar Erfahrungswerte austauschen und nochmals grundlegenden Abläufe sowie Tipps und Tricks zu den folgenden Details durchgehen: \n\nOnline-Account-Aktivierung oder -Registrierung\nAffiliate-Funktion inkl. Berater-ID Verknüpfung\nPartner-Landingpage inkl. individueller Datenanpassung über Ihren Berater-Online-Account\nBeauty-Botschafter-Registrierung\nZur CHANNOINE-Marketingbox\nZum CHANNOINE-Präsentationstool\nv. m. an Themen\, die sich beim Webinar noch ergeben werden\n\nBei speziellen Anliegen Ihrerseits freuen wir uns vorweg über Ihre Kontaktaufnahme an online@channoine.com\, damit wir gegebenenfalls die Detailinhalte vom Webinar besser vorbereiten können und noch effektiver auf Ihre Themenschwerpunkte eingehen können. \nWir bedanken uns im Voraus und freuen uns auf Ihre zahlreiche Teilnahme.
URL:https://anmeldungen.channoine.com/event/online-tools-neu-termin-15-3-2-2-2-2-2-2-2-2-2-2-2-3-2-2-2-2-2-2/
LOCATION:Online
CATEGORIES:Business
ATTACH;FMTTYPE=image/png:https://anmeldungen.channoine.com/wp-content/uploads/2023/07/Webrelaunch_202402.png
END:VEVENT
END:VCALENDAR