BEGIN:VCALENDAR
VERSION:2.0
PRODID:-//CBS Seminare - ECPv6.15.17.1//NONSGML v1.0//EN
CALSCALE:GREGORIAN
METHOD:PUBLISH
X-ORIGINAL-URL:https://anmeldungen.channoine.com
X-WR-CALDESC:Veranstaltungen für CBS Seminare
REFRESH-INTERVAL;VALUE=DURATION:PT1H
X-Robots-Tag:noindex
X-PUBLISHED-TTL:PT1H
BEGIN:VTIMEZONE
TZID:Europe/Berlin
BEGIN:DAYLIGHT
TZOFFSETFROM:+0100
TZOFFSETTO:+0200
TZNAME:CEST
DTSTART:20240331T010000
END:DAYLIGHT
BEGIN:STANDARD
TZOFFSETFROM:+0200
TZOFFSETTO:+0100
TZNAME:CET
DTSTART:20241027T010000
END:STANDARD
BEGIN:DAYLIGHT
TZOFFSETFROM:+0100
TZOFFSETTO:+0200
TZNAME:CEST
DTSTART:20250330T010000
END:DAYLIGHT
BEGIN:STANDARD
TZOFFSETFROM:+0200
TZOFFSETTO:+0100
TZNAME:CET
DTSTART:20251026T010000
END:STANDARD
BEGIN:DAYLIGHT
TZOFFSETFROM:+0100
TZOFFSETTO:+0200
TZNAME:CEST
DTSTART:20260329T010000
END:DAYLIGHT
BEGIN:STANDARD
TZOFFSETFROM:+0200
TZOFFSETTO:+0100
TZNAME:CET
DTSTART:20261025T010000
END:STANDARD
END:VTIMEZONE
BEGIN:VEVENT
DTSTART;TZID=Europe/Berlin:20250225T190000
DTEND;TZID=Europe/Berlin:20250225T203000
DTSTAMP:20260420T150737
CREATED:20230814T132810Z
LAST-MODIFIED:20241219T091452Z
UID:6851-1740510000-1740515400@anmeldungen.channoine.com
SUMMARY:Fastenzeit ist Nupremzeit - intensive Stoffwechselaktivierung
DESCRIPTION:Ach ja\, am Aschermittwoch ist alles vorbei … so viele Wünsche und doch so wenig Zeit. Ein bisschen Verzicht hier\, ein bisschen dort … Unzufriedenheit mit sich selbst\, dem eigenen Körper\, ein ewiges Thema. Wie fange ich an? Wie ist mein Plan? Kommt dir das bekannt vor? Viele unserer Kunden beschäftigt genau dieses Thema. Starten wir mit den Grundlagen für ein erfolgreiches Figur formen und einer intensiven Stoffwechselaktivierung. Schritt für Schritt bringen wir unsere Kunden zu Ihren Zielen. Wie? Mit den bewährten Kurprogrammen\, den basischen Trinkkuren! \nBesprechen wir viele hilfreiche fachliche\, praktische Details sowie die Feinheiten von Nuprem\, Optabial und Skindream.
URL:https://anmeldungen.channoine.com/event/instagram-wie-3-7-2-2/
LOCATION:Online
CATEGORIES:Nobusan
ATTACH;FMTTYPE=image/png:https://anmeldungen.channoine.com/wp-content/uploads/2023/08/Nuprem_2.png
END:VEVENT
END:VCALENDAR