BEGIN:VCALENDAR
VERSION:2.0
PRODID:-//CBS Seminare - ECPv6.15.17.1//NONSGML v1.0//EN
CALSCALE:GREGORIAN
METHOD:PUBLISH
X-WR-CALNAME:CBS Seminare
X-ORIGINAL-URL:https://anmeldungen.channoine.com
X-WR-CALDESC:Veranstaltungen für CBS Seminare
REFRESH-INTERVAL;VALUE=DURATION:PT1H
X-Robots-Tag:noindex
X-PUBLISHED-TTL:PT1H
BEGIN:VTIMEZONE
TZID:Europe/Berlin
BEGIN:DAYLIGHT
TZOFFSETFROM:+0100
TZOFFSETTO:+0200
TZNAME:CEST
DTSTART:20240331T010000
END:DAYLIGHT
BEGIN:STANDARD
TZOFFSETFROM:+0200
TZOFFSETTO:+0100
TZNAME:CET
DTSTART:20241027T010000
END:STANDARD
BEGIN:DAYLIGHT
TZOFFSETFROM:+0100
TZOFFSETTO:+0200
TZNAME:CEST
DTSTART:20250330T010000
END:DAYLIGHT
BEGIN:STANDARD
TZOFFSETFROM:+0200
TZOFFSETTO:+0100
TZNAME:CET
DTSTART:20251026T010000
END:STANDARD
BEGIN:DAYLIGHT
TZOFFSETFROM:+0100
TZOFFSETTO:+0200
TZNAME:CEST
DTSTART:20260329T010000
END:DAYLIGHT
BEGIN:STANDARD
TZOFFSETFROM:+0200
TZOFFSETTO:+0100
TZNAME:CET
DTSTART:20261025T010000
END:STANDARD
END:VTIMEZONE
BEGIN:VEVENT
DTSTART;TZID=Europe/Berlin:20250121T190000
DTEND;TZID=Europe/Berlin:20250121T210000
DTSTAMP:20260420T180639
CREATED:20241213T070010Z
LAST-MODIFIED:20250121T090752Z
UID:6779-1737486000-1737493200@anmeldungen.channoine.com
SUMMARY:Marketing Basics – Grundlagen aus der Marketingwelt für einen professionellen Auftritt
DESCRIPTION:In diesem Seminar erfahren Sie\, welche Planungsschritte es vorab bedarf\, um ein erfolgreiches Online- & Offline Marketing zu erzielen. Das Thema „Buyer Persona“ und die klare Definition Ihrer Zielgruppe\, stehen bei diesem Seminar im Fokus.
URL:https://anmeldungen.channoine.com/event/instagram-wie-3-5/
LOCATION:Online
CATEGORIES:Visagistik
ATTACH;FMTTYPE=image/png:https://anmeldungen.channoine.com/wp-content/uploads/2024/12/Webrelaunch_202402.png
ORGANIZER;CN="Juliane St%C3%B6bich":MAILTO:juliane.stoebich@channoine-partner.com
END:VEVENT
END:VCALENDAR