BEGIN:VCALENDAR
VERSION:2.0
PRODID:-//CBS Seminare - ECPv6.15.17.1//NONSGML v1.0//EN
CALSCALE:GREGORIAN
METHOD:PUBLISH
X-WR-CALNAME:CBS Seminare
X-ORIGINAL-URL:https://anmeldungen.channoine.com
X-WR-CALDESC:Veranstaltungen für CBS Seminare
REFRESH-INTERVAL;VALUE=DURATION:PT1H
X-Robots-Tag:noindex
X-PUBLISHED-TTL:PT1H
BEGIN:VTIMEZONE
TZID:Europe/Berlin
BEGIN:DAYLIGHT
TZOFFSETFROM:+0100
TZOFFSETTO:+0200
TZNAME:CEST
DTSTART:20230326T010000
END:DAYLIGHT
BEGIN:STANDARD
TZOFFSETFROM:+0200
TZOFFSETTO:+0100
TZNAME:CET
DTSTART:20231029T010000
END:STANDARD
BEGIN:DAYLIGHT
TZOFFSETFROM:+0100
TZOFFSETTO:+0200
TZNAME:CEST
DTSTART:20240331T010000
END:DAYLIGHT
BEGIN:STANDARD
TZOFFSETFROM:+0200
TZOFFSETTO:+0100
TZNAME:CET
DTSTART:20241027T010000
END:STANDARD
BEGIN:DAYLIGHT
TZOFFSETFROM:+0100
TZOFFSETTO:+0200
TZNAME:CEST
DTSTART:20250330T010000
END:DAYLIGHT
BEGIN:STANDARD
TZOFFSETFROM:+0200
TZOFFSETTO:+0100
TZNAME:CET
DTSTART:20251026T010000
END:STANDARD
END:VTIMEZONE
BEGIN:VEVENT
DTSTART;TZID=Europe/Berlin:20241011T190000
DTEND;TZID=Europe/Berlin:20241011T210000
DTSTAMP:20260420T232233
CREATED:20240909T060010Z
LAST-MODIFIED:20241007T065443Z
UID:5850-1728673200-1728680400@anmeldungen.channoine.com
SUMMARY:"Shiny Christmas Dreams"
DESCRIPTION:Zum 40-jährigen Jubiläum wurde ein Duft kreiert\, der die Essenz von vier Jahrzehnten voller Leidenschaft\, Hingabe und Erfolg einfängt. \nWie Sie dieses wertvolle Präsent für Ihr Weihnachtsgeschäft und für Ihre Stammkundenbindung nutzen\, erfahren Sie in unserem Impuls-Webinar. \nOb zu den Themen Weihnachtsausstellung\, Weihnachtstage\, Geschenkberatung\, Set-Vorschläge oder Verkaufstipps\, dieses Impuls-Webinar „Shiny Christmas Dreams“ bietet hilfreiche Ideen und kreative Vorschläge. \nNutzen wir das CHANNOINE-Weihnachtsgeschäft für eine noch intensivere Kundenbindung und machen wir uns sichtbar! \nVerpassen Sie nicht diese exklusive Einstimmung auf Ihr CHANNOINE-Weihnachtsgeschäft! \n 
URL:https://anmeldungen.channoine.com/event/instagram-wie-3-3-2/
LOCATION:Online
CATEGORIES:CHANNOINE
ATTACH;FMTTYPE=image/jpeg:https://anmeldungen.channoine.com/wp-content/uploads/2024/09/Shiny_Christmas_Dreams1_202408.jpg
END:VEVENT
END:VCALENDAR