BEGIN:VCALENDAR
VERSION:2.0
PRODID:-//CBS Seminare - ECPv6.15.17.1//NONSGML v1.0//EN
CALSCALE:GREGORIAN
METHOD:PUBLISH
X-ORIGINAL-URL:https://anmeldungen.channoine.com
X-WR-CALDESC:Veranstaltungen für CBS Seminare
REFRESH-INTERVAL;VALUE=DURATION:PT1H
X-Robots-Tag:noindex
X-PUBLISHED-TTL:PT1H
BEGIN:VTIMEZONE
TZID:Europe/Berlin
BEGIN:DAYLIGHT
TZOFFSETFROM:+0100
TZOFFSETTO:+0200
TZNAME:CEST
DTSTART:20230326T010000
END:DAYLIGHT
BEGIN:STANDARD
TZOFFSETFROM:+0200
TZOFFSETTO:+0100
TZNAME:CET
DTSTART:20231029T010000
END:STANDARD
BEGIN:DAYLIGHT
TZOFFSETFROM:+0100
TZOFFSETTO:+0200
TZNAME:CEST
DTSTART:20240331T010000
END:DAYLIGHT
BEGIN:STANDARD
TZOFFSETFROM:+0200
TZOFFSETTO:+0100
TZNAME:CET
DTSTART:20241027T010000
END:STANDARD
BEGIN:DAYLIGHT
TZOFFSETFROM:+0100
TZOFFSETTO:+0200
TZNAME:CEST
DTSTART:20250330T010000
END:DAYLIGHT
BEGIN:STANDARD
TZOFFSETFROM:+0200
TZOFFSETTO:+0100
TZNAME:CET
DTSTART:20251026T010000
END:STANDARD
END:VTIMEZONE
BEGIN:VEVENT
DTSTART;TZID=Europe/Berlin:20240911T190000
DTEND;TZID=Europe/Berlin:20240911T203000
DTSTAMP:20260421T012439
CREATED:20230814T132810Z
LAST-MODIFIED:20240821T113914Z
UID:5732-1726081200-1726086600@anmeldungen.channoine.com
SUMMARY:Bedarfsanalyse vom Einmal-Verkauf zum Stammkunden
DESCRIPTION:NOBUSAN-Gespräch – sei es bei einem Termin oder beim schnellen Plausch am Telefon!Durch geschicktes Anwenden der Bedarfsanalyse legst du das Fundament für treue NOBUSAN-Fans.Warum ist die Bedarfsanalyse so genial?Wie entsteht dadurch ein Gespräch mit langfristigem Mehrwert?Du möchtest aktiv NOBUSAN-Produkte bei deiner Kundschaft platzieren?Du strebst nicht nur Einzelverkäufe an\, sondern langfristige NOBUSAN-Stammkunden? \nLass uns alles Wichtige in einem kurzweiligen\, informativen Impuls-Webinar besprechen.Dein Weg zu dauerhaften NOBUSAN-Stammkunden beginnt hier!
URL:https://anmeldungen.channoine.com/event/instagram-wie-3-2/
LOCATION:Online
CATEGORIES:Nobusan
ATTACH;FMTTYPE=image/png:https://anmeldungen.channoine.com/wp-content/uploads/2023/06/Teaser-Kachel-Seminar_Nobusan_V5.png
END:VEVENT
END:VCALENDAR