BEGIN:VCALENDAR
VERSION:2.0
PRODID:-//CBS Seminare - ECPv6.15.17.1//NONSGML v1.0//EN
CALSCALE:GREGORIAN
METHOD:PUBLISH
X-WR-CALNAME:CBS Seminare
X-ORIGINAL-URL:https://anmeldungen.channoine.com
X-WR-CALDESC:Veranstaltungen für CBS Seminare
REFRESH-INTERVAL;VALUE=DURATION:PT1H
X-Robots-Tag:noindex
X-PUBLISHED-TTL:PT1H
BEGIN:VTIMEZONE
TZID:Europe/Berlin
BEGIN:DAYLIGHT
TZOFFSETFROM:+0100
TZOFFSETTO:+0200
TZNAME:CEST
DTSTART:20230326T010000
END:DAYLIGHT
BEGIN:STANDARD
TZOFFSETFROM:+0200
TZOFFSETTO:+0100
TZNAME:CET
DTSTART:20231029T010000
END:STANDARD
BEGIN:DAYLIGHT
TZOFFSETFROM:+0100
TZOFFSETTO:+0200
TZNAME:CEST
DTSTART:20240331T010000
END:DAYLIGHT
BEGIN:STANDARD
TZOFFSETFROM:+0200
TZOFFSETTO:+0100
TZNAME:CET
DTSTART:20241027T010000
END:STANDARD
BEGIN:DAYLIGHT
TZOFFSETFROM:+0100
TZOFFSETTO:+0200
TZNAME:CEST
DTSTART:20250330T010000
END:DAYLIGHT
BEGIN:STANDARD
TZOFFSETFROM:+0200
TZOFFSETTO:+0100
TZNAME:CET
DTSTART:20251026T010000
END:STANDARD
END:VTIMEZONE
BEGIN:VEVENT
DTSTART;TZID=Europe/Berlin:20240502T190000
DTEND;TZID=Europe/Berlin:20240502T203000
DTSTAMP:20260421T080456
CREATED:20230814T132052Z
LAST-MODIFIED:20240130T152409Z
UID:3747-1714676400-1714681800@anmeldungen.channoine.com
SUMMARY:Ich packe meinen Koffer und nehme mit …
DESCRIPTION:Endlich ist er da\, der langersehnte Urlaub. Kaum angekommen\, spielt der Darm verrückt und Verstopfung oder Durchfall sind keine Seltenheit. Oft beginnt dann auch noch die Nase zu rinnen\, denn die Klimaanlagen im Auto\, in der Hotelanlage oder im Flugzeug setzen dem Körper ordentlich zu. Die Anspannung der letzten Zeit sowie der Stress in der Arbeit fallen ab und schon beginnt das Immunsystem zu schwächeln. Wer kennt das nicht? \nMit einer guten NOBUSAN-Reiseapotheke im Koffer und einer Gesundheitsprävention im Vorfeld kann die Urlaubsfreude in Zukunft nicht mehr getrübt werden. \nProdukte\, die neben dem fachlichen Input besprochen werden:Amdoron\, Dioluxsan Living Microorganism\, Iferol Plus\, Natral OPC Plus\, Noni Xtra Plus\, Resisteen Immun Protect-Spray \nSeien Sie dabei!
URL:https://anmeldungen.channoine.com/event/leichtes-reisegepaeck-2/
LOCATION:Online
CATEGORIES:Nobusan
ATTACH;FMTTYPE=image/png:https://anmeldungen.channoine.com/wp-content/uploads/2023/08/Kofferpacken_2.png
END:VEVENT
END:VCALENDAR