BEGIN:VCALENDAR
VERSION:2.0
PRODID:-//CBS Seminare - ECPv6.15.17.1//NONSGML v1.0//EN
CALSCALE:GREGORIAN
METHOD:PUBLISH
X-WR-CALNAME:CBS Seminare
X-ORIGINAL-URL:https://anmeldungen.channoine.com
X-WR-CALDESC:Veranstaltungen für CBS Seminare
REFRESH-INTERVAL;VALUE=DURATION:PT1H
X-Robots-Tag:noindex
X-PUBLISHED-TTL:PT1H
BEGIN:VTIMEZONE
TZID:Europe/Berlin
BEGIN:DAYLIGHT
TZOFFSETFROM:+0100
TZOFFSETTO:+0200
TZNAME:CEST
DTSTART:20230326T010000
END:DAYLIGHT
BEGIN:STANDARD
TZOFFSETFROM:+0200
TZOFFSETTO:+0100
TZNAME:CET
DTSTART:20231029T010000
END:STANDARD
BEGIN:DAYLIGHT
TZOFFSETFROM:+0100
TZOFFSETTO:+0200
TZNAME:CEST
DTSTART:20240331T010000
END:DAYLIGHT
BEGIN:STANDARD
TZOFFSETFROM:+0200
TZOFFSETTO:+0100
TZNAME:CET
DTSTART:20241027T010000
END:STANDARD
BEGIN:DAYLIGHT
TZOFFSETFROM:+0100
TZOFFSETTO:+0200
TZNAME:CEST
DTSTART:20250330T010000
END:DAYLIGHT
BEGIN:STANDARD
TZOFFSETFROM:+0200
TZOFFSETTO:+0100
TZNAME:CET
DTSTART:20251026T010000
END:STANDARD
END:VTIMEZONE
BEGIN:VEVENT
DTSTART;TZID=Europe/Berlin:20240416T183000
DTEND;TZID=Europe/Berlin:20240416T210000
DTSTAMP:20260421T095719
CREATED:20240119T122330Z
LAST-MODIFIED:20240325T101621Z
UID:4762-1713292200-1713301200@anmeldungen.channoine.com
SUMMARY:SONNE – CHANNOINE SUN COLLECTION
DESCRIPTION:Lange sonnige Tage\, steigende Temperaturen sowie Freizeit- und Urlaubsgenuss im Freien kennzeichnen nun jene Zeit\, die mit dem Frühsommer und Sommer vor uns liegt. Die Vorfreude auf diese Jahreszeit mit viel Sonnenschein sollte jedoch nicht darüber hinwegtäuschen\, dass ein ausgezeichneter Sonnenschutz ein absolutes „Must-have“ ist.  \nUm Sie bei Ihren Kundenterminen zum Thema „Sonne & Sonnenschutz“ bestens zu unterstützen\, bieten wir Ihnen ein Online-Impuls-Webinar zum Spezialthema „SONNE – CHANNOINE SUN COLLECTION“. \nSeien Sie dabei und profitieren Sie von den vielen wertvollen Inputs!
URL:https://anmeldungen.channoine.com/event/make-up-workshop-2-2-2-8-2/
LOCATION:Online
CATEGORIES:CHANNOINE
ATTACH;FMTTYPE=image/png:https://anmeldungen.channoine.com/wp-content/uploads/2023/08/Sun_1_202401.png
END:VEVENT
BEGIN:VEVENT
DTSTART;TZID=Europe/Berlin:20240416T190000
DTEND;TZID=Europe/Berlin:20240416T210000
DTSTAMP:20260421T095719
CREATED:20230814T111918Z
LAST-MODIFIED:20240130T152346Z
UID:1992-1713294000-1713301200@anmeldungen.channoine.com
SUMMARY:"Schönheit ist zeitlos - Make-up 50+"
DESCRIPTION:Jede Zeit hat ihre Beauty-Geheimnisse!Mit diesen Tipps überzeugen Sie auch länger Junggebliebene. \n\nAch ja\, früher habe ich mich auch geschminkt.\nWofür soll ich mich schminken\, ich bin ja nicht mehr berufstätig und mein Mann mag es eh nicht.\nIch sehe nicht mehr richtig und dann wird alles schief.\nJetzt\, wo ich so viele Falten und Schlupflider habe\, weiß ich gar nicht\, wie ich mich richtig schminken soll\, dann lass ich es lieber.\nIn meinem Alter will ich nicht herumlaufen wie ein Clown.\nMeine Freundin ist im gleichen Alter\, sie schminkt sich noch und das sieht ganz fürchterlich aus.\n\nKommen Ihnen diese Aussagen bekannt vor? Typische Sätze von Ladies 50+\, bei denen die Liebe zum Schminken irgendwann auf der Strecke geblieben ist. Wie Sie diese Liebe neu entfachen können\, erfahren Sie in diesem Impuls-Webinar. \n\nWorauf ist beim Make-up 50+ besonders zu achten?\nWie sieht ein erfolgreicher 50+ Schminktermin aus?\nTipps zum Verkaufsabschluss und Themen der Weiterbuchung.\nPraktische Beispiele aus meinem „Schminkalltag“ mit Ladies 50+.\n\nZufriedene\, begeisterte 50+ Schminkkundinnen sind treu\, umsatzstark und empfehlen Sie gerne weiter. \nStarten Sie durch mit Make-up 50+!
URL:https://anmeldungen.channoine.com/event/schoenheit-ist-zeitlos-make-up-50-2/
LOCATION:Online
CATEGORIES:Visagistik
ATTACH;FMTTYPE=image/png:https://anmeldungen.channoine.com/wp-content/uploads/2023/07/Make-up_50.png
END:VEVENT
END:VCALENDAR