BEGIN:VCALENDAR
VERSION:2.0
PRODID:-//CBS Seminare - ECPv6.15.17.1//NONSGML v1.0//EN
CALSCALE:GREGORIAN
METHOD:PUBLISH
X-ORIGINAL-URL:https://anmeldungen.channoine.com
X-WR-CALDESC:Veranstaltungen für CBS Seminare
REFRESH-INTERVAL;VALUE=DURATION:PT1H
X-Robots-Tag:noindex
X-PUBLISHED-TTL:PT1H
BEGIN:VTIMEZONE
TZID:Europe/Berlin
BEGIN:DAYLIGHT
TZOFFSETFROM:+0100
TZOFFSETTO:+0200
TZNAME:CEST
DTSTART:20230326T010000
END:DAYLIGHT
BEGIN:STANDARD
TZOFFSETFROM:+0200
TZOFFSETTO:+0100
TZNAME:CET
DTSTART:20231029T010000
END:STANDARD
BEGIN:DAYLIGHT
TZOFFSETFROM:+0100
TZOFFSETTO:+0200
TZNAME:CEST
DTSTART:20240331T010000
END:DAYLIGHT
BEGIN:STANDARD
TZOFFSETFROM:+0200
TZOFFSETTO:+0100
TZNAME:CET
DTSTART:20241027T010000
END:STANDARD
BEGIN:DAYLIGHT
TZOFFSETFROM:+0100
TZOFFSETTO:+0200
TZNAME:CEST
DTSTART:20250330T010000
END:DAYLIGHT
BEGIN:STANDARD
TZOFFSETFROM:+0200
TZOFFSETTO:+0100
TZNAME:CET
DTSTART:20251026T010000
END:STANDARD
END:VTIMEZONE
BEGIN:VEVENT
DTSTART;TZID=Europe/Berlin:20240404T190000
DTEND;TZID=Europe/Berlin:20240404T203000
DTSTAMP:20260421T100009
CREATED:20230814T112330Z
LAST-MODIFIED:20240130T152315Z
UID:3778-1712257200-1712262600@anmeldungen.channoine.com
SUMMARY:Anti Aging – Slow Aging – Happy Aging
DESCRIPTION:Kollagen\, Hyaluron\, Spermidin\, Melatonin und probiotische Kulturen sind entscheidende Bausteine für die Lebensqualität. Der Körper produziert sie in jungen Jahren im Überfluss\, doch im Laufe der Zeit nimmt diese Produktion leider ab. Dieser sukzessive Abbau macht sich dadurch zeitversetzt in den verschiedensten Bereichen sichtbar und spürbar bemerkbar.Skindream Absolute Teint Regeneration Cure\, Spermidin Basic Supplement\, Repusan Sleep and Relax Liquid und Probiotika – die unschlagbare Kombination für ein strahlendes Ich und ein gesundes Altern. \nBesprechen wir die Details\, erstellen passende Programme und starten die Gesundheitswochen unter dem Motto „Anti Aging – Slow Aging – Happy Aging“.
URL:https://anmeldungen.channoine.com/event/make-up-workshop-2-2-2-6/
LOCATION:Online
CATEGORIES:Nobusan
ATTACH;FMTTYPE=image/png:https://anmeldungen.channoine.com/wp-content/uploads/2023/08/Anti-Aging_2_202312.png
END:VEVENT
BEGIN:VEVENT
DTSTART;TZID=Europe/Berlin:20240404T190000
DTEND;TZID=Europe/Berlin:20240404T203000
DTSTAMP:20260421T100010
CREATED:20230814T112330Z
LAST-MODIFIED:20230814T112330Z
UID:8478-1712257200-1712262600@anmeldungen.channoine.com
SUMMARY:
DESCRIPTION:Kollagen\, Hyaluron\, Spermidin\, Melatonin und probiotische Kulturen sind entscheidende Bausteine für die Lebensqualität. Der Körper produziert sie in jungen Jahren im Überfluss\, doch im Laufe der Zeit nimmt diese Produktion leider ab. Dieser sukzessive Abbau macht sich dadurch zeitversetzt in den verschiedensten Bereichen sichtbar und spürbar bemerkbar.Skindream Absolute Teint Regeneration Cure\, Spermidin Basic Supplement\, Repusan Sleep and Relax Liquid und Probiotika – die unschlagbare Kombination für ein strahlendes Ich und ein gesundes Altern. \nBesprechen wir die Details\, erstellen passende Programme und starten die Gesundheitswochen unter dem Motto „Anti Aging – Slow Aging – Happy Aging“.
URL:https://anmeldungen.channoine.com/event/make-up-workshop-2-2-2-6-2/
LOCATION:Online
CATEGORIES:Nobusan
ATTACH;FMTTYPE=image/png:https://anmeldungen.channoine.com/wp-content/uploads/2023/08/Anti-Aging_2_202312.png
END:VEVENT
END:VCALENDAR