BEGIN:VCALENDAR
VERSION:2.0
PRODID:-//CBS Seminare - ECPv6.15.17.1//NONSGML v1.0//EN
CALSCALE:GREGORIAN
METHOD:PUBLISH
X-ORIGINAL-URL:https://anmeldungen.channoine.com
X-WR-CALDESC:Veranstaltungen für CBS Seminare
REFRESH-INTERVAL;VALUE=DURATION:PT1H
X-Robots-Tag:noindex
X-PUBLISHED-TTL:PT1H
BEGIN:VTIMEZONE
TZID:Europe/Berlin
BEGIN:DAYLIGHT
TZOFFSETFROM:+0100
TZOFFSETTO:+0200
TZNAME:CEST
DTSTART:20230326T010000
END:DAYLIGHT
BEGIN:STANDARD
TZOFFSETFROM:+0200
TZOFFSETTO:+0100
TZNAME:CET
DTSTART:20231029T010000
END:STANDARD
BEGIN:DAYLIGHT
TZOFFSETFROM:+0100
TZOFFSETTO:+0200
TZNAME:CEST
DTSTART:20240331T010000
END:DAYLIGHT
BEGIN:STANDARD
TZOFFSETFROM:+0200
TZOFFSETTO:+0100
TZNAME:CET
DTSTART:20241027T010000
END:STANDARD
BEGIN:DAYLIGHT
TZOFFSETFROM:+0100
TZOFFSETTO:+0200
TZNAME:CEST
DTSTART:20250330T010000
END:DAYLIGHT
BEGIN:STANDARD
TZOFFSETFROM:+0200
TZOFFSETTO:+0100
TZNAME:CET
DTSTART:20251026T010000
END:STANDARD
END:VTIMEZONE
BEGIN:VEVENT
DTSTART;TZID=Europe/Berlin:20240314T170000
DTEND;TZID=Europe/Berlin:20240314T190000
DTSTAMP:20260421T113833
CREATED:20240220T071941Z
LAST-MODIFIED:20240304T163110Z
UID:4541-1710435600-1710442800@anmeldungen.channoine.com
SUMMARY:Fragen und Antworten zum CHANNOINE-Webrelaunch
DESCRIPTION:Liebe Mitunternehmerinnen und Mitunternehmer! \nSehr gerne möchten wir Ihnen ergänzend zu unserer Service-Mailadresse online@channoine.com ein Frage- und Antwort-Webinar zu unserem Website-Relaunch anbieten\, wo wir gezielt auf Ihre bereits gemachten Erfahrungswerte und auf eventuelle damit verbundene Anwendungsthemen eingehen werden. Gemeinsam können wir beim Webinar nochmals grundlegenden Abläufe sowie Tipps und Tricks zu den folgenden Details durchgehen: \n\nOnline-Account-Aktivierung oder -Registrierung\nAffiliate-Funktion inkl. Berater-ID Verknüpfung\nPartner-Landingpage inkl. individueller Datenanpassung über Ihren Berater-Online-Account\nBeauty-Botschafter-Registrierung\nu. v. m. an Themen\, die sich aus dem direkten Austausch noch ergeben werden\n\nZur besseren Themenplanung vom Webinar bitten wir Sie Ihre Fragen bereits zuvor kurz zusammenzufassen und an online@channoine.com zu senden\, dann können wir die Inhalte besser planen und gezielter Schritt für Schritt auf Ihre Themenschwerpunkte eingehen\, die derzeit im Zusammenhang vom Webrelaunch wichtig sind für Sie. \nWir freuen uns auf Ihre Teilnahme.
URL:https://anmeldungen.channoine.com/event/online-tools-neu-termin-15-3-2-2-2-2-2/
LOCATION:Online
CATEGORIES:Business
ATTACH;FMTTYPE=image/png:https://anmeldungen.channoine.com/wp-content/uploads/2023/07/Webrelaunch_202402.png
END:VEVENT
BEGIN:VEVENT
DTSTART;TZID=Europe/Berlin:20240314T190000
DTEND;TZID=Europe/Berlin:20240314T210000
DTSTAMP:20260421T113833
CREATED:20230814T132810Z
LAST-MODIFIED:20240222T092857Z
UID:3700-1710442800-1710450000@anmeldungen.channoine.com
SUMMARY:"BEAUTY MEETS TECH"
DESCRIPTION:Ein Kosmetiktrend und eine Riesenchance für Ihr CHANNOINE-Business! \nIndividuelle Hautpflege\, die exakt auf die einzigartigen Bedürfnisse Ihrer Haut und Ihrer Persönlichkeit zugeschnitten ist\, liegt voll im Trend! \nWir bei CHANNOINE verfügen über das beste Hautbildanalyse-Tool. \nIn diesem Special-Impuls-Webinar zum Thema „BEAUTY MEETS TECH“ erfahren Sie: \n\nwie Sie die CHANNOINE Online-Hautbildanalyse richtig einsetzen\, um bei Ihren Kund/innen noch mehr Wertschätzung für die eigenen Produkte zu erreichen.\nwie Sie mit technischer Unterstützung mehr Pakete verkaufen.\nwie Sie Ihre Kund/innen zu absoluten Fans machen\, die mit Hilfe Ihres Online-Beauty-Guides eine spannende Reise durch die Jahreszeiten starten.\nwie Sie geschickt dieses Tool in Ihren Kundenterminen einsetzen.\nwie Sie mit Hilfe von Affiliate-Links Ihren Produktmix erweitern können.\nund warum die Technik die beste Sicherheit für Ihr CHANNOINE-Unternehmen ist.\n\nProfitieren auch Sie für Ihr Geschäft & seien Sie dabei!
URL:https://anmeldungen.channoine.com/event/instagram-wie-2-2/
LOCATION:Online
CATEGORIES:CHANNOINE
ATTACH;FMTTYPE=image/jpeg:https://anmeldungen.channoine.com/wp-content/uploads/2023/08/Hautbildanalyse_2_202308.jpg
END:VEVENT
END:VCALENDAR