BEGIN:VCALENDAR
VERSION:2.0
PRODID:-//CBS Seminare - ECPv6.15.17.1//NONSGML v1.0//EN
CALSCALE:GREGORIAN
METHOD:PUBLISH
X-ORIGINAL-URL:https://anmeldungen.channoine.com
X-WR-CALDESC:Veranstaltungen für CBS Seminare
REFRESH-INTERVAL;VALUE=DURATION:PT1H
X-Robots-Tag:noindex
X-PUBLISHED-TTL:PT1H
BEGIN:VTIMEZONE
TZID:Europe/Berlin
BEGIN:DAYLIGHT
TZOFFSETFROM:+0100
TZOFFSETTO:+0200
TZNAME:CEST
DTSTART:20230326T010000
END:DAYLIGHT
BEGIN:STANDARD
TZOFFSETFROM:+0200
TZOFFSETTO:+0100
TZNAME:CET
DTSTART:20231029T010000
END:STANDARD
BEGIN:DAYLIGHT
TZOFFSETFROM:+0100
TZOFFSETTO:+0200
TZNAME:CEST
DTSTART:20240331T010000
END:DAYLIGHT
BEGIN:STANDARD
TZOFFSETFROM:+0200
TZOFFSETTO:+0100
TZNAME:CET
DTSTART:20241027T010000
END:STANDARD
BEGIN:DAYLIGHT
TZOFFSETFROM:+0100
TZOFFSETTO:+0200
TZNAME:CEST
DTSTART:20250330T010000
END:DAYLIGHT
BEGIN:STANDARD
TZOFFSETFROM:+0200
TZOFFSETTO:+0100
TZNAME:CET
DTSTART:20251026T010000
END:STANDARD
END:VTIMEZONE
BEGIN:VEVENT
DTSTART;TZID=Europe/Berlin:20240201T190000
DTEND;TZID=Europe/Berlin:20240201T203000
DTSTAMP:20260421T141850
CREATED:20230814T112330Z
LAST-MODIFIED:20240130T143602Z
UID:3767-1706814000-1706819400@anmeldungen.channoine.com
SUMMARY:Entgiften – Entsäuern – Entschlacken mit NUPREM
DESCRIPTION:Bereit für ein Frühjahrs-Highlight? \nWarum bis zum Frühling warten\, wenn bereits jetzt viele durchstarten möchten. Der Aschermittwoch ist bei sehr vielen der Beginn der Fastentage sowie einer gezielten Stoffwechselaktivierung. Nutzen wir die kommende Fastenzeit\, um unsere Kund/innen intensiv mit individuellen NUPREM-Kurprogrammen zu unterstützen.Mit Nuprem Plus entgiften\, entsäuern und entschlacken – für mehr Energie und Wohlbefinden!Besprechen wir die fachlichen Details\, die Handhabung der Programme sowie die Feinheiten der Produkte Nuprem Plus\, Optabial Plus und Dioluxsan Duo.
URL:https://anmeldungen.channoine.com/event/make-up-workshop-2-2-2-5/
LOCATION:Online
CATEGORIES:Nobusan
ATTACH;FMTTYPE=image/png:https://anmeldungen.channoine.com/wp-content/uploads/2023/08/Entgiften_1_202312.png
END:VEVENT
END:VCALENDAR