BEGIN:VCALENDAR
VERSION:2.0
PRODID:-//CBS Seminare - ECPv6.15.17.1//NONSGML v1.0//EN
CALSCALE:GREGORIAN
METHOD:PUBLISH
X-ORIGINAL-URL:https://anmeldungen.channoine.com
X-WR-CALDESC:Veranstaltungen für CBS Seminare
REFRESH-INTERVAL;VALUE=DURATION:PT1H
X-Robots-Tag:noindex
X-PUBLISHED-TTL:PT1H
BEGIN:VTIMEZONE
TZID:Europe/Berlin
BEGIN:DAYLIGHT
TZOFFSETFROM:+0100
TZOFFSETTO:+0200
TZNAME:CEST
DTSTART:20220327T010000
END:DAYLIGHT
BEGIN:STANDARD
TZOFFSETFROM:+0200
TZOFFSETTO:+0100
TZNAME:CET
DTSTART:20221030T010000
END:STANDARD
BEGIN:DAYLIGHT
TZOFFSETFROM:+0100
TZOFFSETTO:+0200
TZNAME:CEST
DTSTART:20230326T010000
END:DAYLIGHT
BEGIN:STANDARD
TZOFFSETFROM:+0200
TZOFFSETTO:+0100
TZNAME:CET
DTSTART:20231029T010000
END:STANDARD
BEGIN:DAYLIGHT
TZOFFSETFROM:+0100
TZOFFSETTO:+0200
TZNAME:CEST
DTSTART:20240331T010000
END:DAYLIGHT
BEGIN:STANDARD
TZOFFSETFROM:+0200
TZOFFSETTO:+0100
TZNAME:CET
DTSTART:20241027T010000
END:STANDARD
END:VTIMEZONE
BEGIN:VEVENT
DTSTART;TZID=Europe/Berlin:20231108T190000
DTEND;TZID=Europe/Berlin:20231108T203000
DTSTAMP:20260421T174545
CREATED:20231021T170030Z
LAST-MODIFIED:20240614T092631Z
UID:3192-1699470000-1699475400@anmeldungen.channoine.com
SUMMARY:PARISHEE MAN & X-MAS
DESCRIPTION:PARISHEE MAN und WEIHNACHTEN – zwei Begriffe\, die uns alle verzaubern! \nZwei Begriffe\, die miteinander zu einem großen Weihnachtswunder werden.So viele festliche Emotionen\, so viele geschäftliche Chancen.Erfahren Sie hier\, wie Sie diese am besten in der Vorweihnachtszeit für Ihr Geschäft nutzen können.Melden Sie sich noch heute an und sichern Sie sich Ihren Platz in diesem topaktuellen Webinar.
URL:https://anmeldungen.channoine.com/event/make-up-workshop-2-2-2-2/
LOCATION:Online
CATEGORIES:CHANNOINE
ATTACH;FMTTYPE=image/jpeg:https://anmeldungen.channoine.com/wp-content/uploads/2023/08/LP_ParisheeMan_202311.jpg
END:VEVENT
END:VCALENDAR