BEGIN:VCALENDAR
VERSION:2.0
PRODID:-//CBS Seminare - ECPv6.15.17.1//NONSGML v1.0//EN
CALSCALE:GREGORIAN
METHOD:PUBLISH
X-WR-CALNAME:CBS Seminare
X-ORIGINAL-URL:https://anmeldungen.channoine.com
X-WR-CALDESC:Veranstaltungen für CBS Seminare
REFRESH-INTERVAL;VALUE=DURATION:PT1H
X-Robots-Tag:noindex
X-PUBLISHED-TTL:PT1H
BEGIN:VTIMEZONE
TZID:Europe/Berlin
BEGIN:DAYLIGHT
TZOFFSETFROM:+0100
TZOFFSETTO:+0200
TZNAME:CEST
DTSTART:20220327T010000
END:DAYLIGHT
BEGIN:STANDARD
TZOFFSETFROM:+0200
TZOFFSETTO:+0100
TZNAME:CET
DTSTART:20221030T010000
END:STANDARD
BEGIN:DAYLIGHT
TZOFFSETFROM:+0100
TZOFFSETTO:+0200
TZNAME:CEST
DTSTART:20230326T010000
END:DAYLIGHT
BEGIN:STANDARD
TZOFFSETFROM:+0200
TZOFFSETTO:+0100
TZNAME:CET
DTSTART:20231029T010000
END:STANDARD
BEGIN:DAYLIGHT
TZOFFSETFROM:+0100
TZOFFSETTO:+0200
TZNAME:CEST
DTSTART:20240331T010000
END:DAYLIGHT
BEGIN:STANDARD
TZOFFSETFROM:+0200
TZOFFSETTO:+0100
TZNAME:CET
DTSTART:20241027T010000
END:STANDARD
END:VTIMEZONE
BEGIN:VEVENT
DTSTART;TZID=Europe/Berlin:20231017T190000
DTEND;TZID=Europe/Berlin:20231017T203000
DTSTAMP:20260421T192433
CREATED:20230619T091443Z
LAST-MODIFIED:20230912T123142Z
UID:1678-1697569200-1697574600@anmeldungen.channoine.com
SUMMARY:Verwöhnen Sie Ihr Nervensystem!
DESCRIPTION:Die vermeintlich „ruhige“ Jahreszeit mit einem wunderschönen Weihnachtsfest steht bevor. \nDennoch quillt der Terminkalender über und die To-Do-Liste wird einfach nicht kürzer. Die Nerven werden zunehmend strapaziert und die Belastbarkeit sinkt. Auch der Schlaf wird schlechter und am Tag fühlt man sich wie erschlagen. \nStress und Sorgen lassen die Nerven oftmals blank liegen und die Stimmung auf den Tiefpunkt sinken. Steht man unter Dauerstress\, kann dadurch eine stressbedingte Stoffwechselentgleisung entstehen. \nHöchste Zeit\, etwas für sich zu tun – für sich und das Nervensystem! \n  \nWerden wir rechtzeitig aktiv und widmen wir unserem Nervensystem und dem der Kund/innen die erforderliche Pflege – eine Investition\, die sich garantiert lohnen wird! Erstellen wir ein beruhigendes\, erholendes und entspannendes Nerven-Pflegepaket. \n  \nSeien Sie live dabei!
URL:https://anmeldungen.channoine.com/event/verwoehnen-sie-ihr-nervensystem/
LOCATION:Online
CATEGORIES:Nobusan
ATTACH;FMTTYPE=image/png:https://anmeldungen.channoine.com/wp-content/uploads/2023/06/Teaser-Kachel-Seminar_Nobusan_V5.png
END:VEVENT
END:VCALENDAR