BEGIN:VCALENDAR
VERSION:2.0
PRODID:-//CBS Seminare - ECPv6.15.17.1//NONSGML v1.0//EN
CALSCALE:GREGORIAN
METHOD:PUBLISH
X-WR-CALNAME:CBS Seminare
X-ORIGINAL-URL:https://anmeldungen.channoine.com
X-WR-CALDESC:Veranstaltungen für CBS Seminare
REFRESH-INTERVAL;VALUE=DURATION:PT1H
X-Robots-Tag:noindex
X-PUBLISHED-TTL:PT1H
BEGIN:VTIMEZONE
TZID:Europe/Berlin
BEGIN:DAYLIGHT
TZOFFSETFROM:+0100
TZOFFSETTO:+0200
TZNAME:CEST
DTSTART:20220327T010000
END:DAYLIGHT
BEGIN:STANDARD
TZOFFSETFROM:+0200
TZOFFSETTO:+0100
TZNAME:CET
DTSTART:20221030T010000
END:STANDARD
BEGIN:DAYLIGHT
TZOFFSETFROM:+0100
TZOFFSETTO:+0200
TZNAME:CEST
DTSTART:20230326T010000
END:DAYLIGHT
BEGIN:STANDARD
TZOFFSETFROM:+0200
TZOFFSETTO:+0100
TZNAME:CET
DTSTART:20231029T010000
END:STANDARD
BEGIN:DAYLIGHT
TZOFFSETFROM:+0100
TZOFFSETTO:+0200
TZNAME:CEST
DTSTART:20240331T010000
END:DAYLIGHT
BEGIN:STANDARD
TZOFFSETFROM:+0200
TZOFFSETTO:+0100
TZNAME:CET
DTSTART:20241027T010000
END:STANDARD
END:VTIMEZONE
BEGIN:VEVENT
DTSTART;TZID=Europe/Berlin:20231009T193000
DTEND;TZID=Europe/Berlin:20231009T220000
DTSTAMP:20260421T192557
CREATED:20230814T112330Z
LAST-MODIFIED:20230918T140925Z
UID:2569-1696879800-1696888800@anmeldungen.channoine.com
SUMMARY:X-Mas Special "Golden Moments"
DESCRIPTION:Weihnachtliche „Golden Moments“ \nTauchen sie mit mir in die schönste und zauberhafteste Zeit des Jahres ein – die CHANNOINE-Weihnachtszeit. \nOb zu den Themen Weihnachtsausstellung\, Weihnachtstage\, Geschenkberatung\, Set-Vorschläge oder Verkaufstipps \, dieses Special X-Mas Impuls-Webinar „Golden Moments“ bietet allen eine Menge hilfreicher Ideen und kreativer Vorschläge. \nNützen wir das CHANNOINE-Weihnachtsgeschäft für eine noch intensivere Kundenbindung und machen wir uns sichtbar! \nIch freue mich auf Sie!
URL:https://anmeldungen.channoine.com/event/x-mas-special-golden-moments3/
LOCATION:Online
CATEGORIES:CHANNOINE
ATTACH;FMTTYPE=image/jpeg:https://anmeldungen.channoine.com/wp-content/uploads/2023/08/XMAS-Special_2023.jpg
END:VEVENT
END:VCALENDAR