BEGIN:VCALENDAR
VERSION:2.0
PRODID:-//CBS Seminare - ECPv6.15.17.1//NONSGML v1.0//EN
CALSCALE:GREGORIAN
METHOD:PUBLISH
X-WR-CALNAME:CBS Seminare
X-ORIGINAL-URL:https://anmeldungen.channoine.com
X-WR-CALDESC:Veranstaltungen für CBS Seminare
REFRESH-INTERVAL;VALUE=DURATION:PT1H
X-Robots-Tag:noindex
X-PUBLISHED-TTL:PT1H
BEGIN:VTIMEZONE
TZID:Europe/Berlin
BEGIN:DAYLIGHT
TZOFFSETFROM:+0100
TZOFFSETTO:+0200
TZNAME:CEST
DTSTART:20220327T010000
END:DAYLIGHT
BEGIN:STANDARD
TZOFFSETFROM:+0200
TZOFFSETTO:+0100
TZNAME:CET
DTSTART:20221030T010000
END:STANDARD
BEGIN:DAYLIGHT
TZOFFSETFROM:+0100
TZOFFSETTO:+0200
TZNAME:CEST
DTSTART:20230326T010000
END:DAYLIGHT
BEGIN:STANDARD
TZOFFSETFROM:+0200
TZOFFSETTO:+0100
TZNAME:CET
DTSTART:20231029T010000
END:STANDARD
BEGIN:DAYLIGHT
TZOFFSETFROM:+0100
TZOFFSETTO:+0200
TZNAME:CEST
DTSTART:20240331T010000
END:DAYLIGHT
BEGIN:STANDARD
TZOFFSETFROM:+0200
TZOFFSETTO:+0100
TZNAME:CET
DTSTART:20241027T010000
END:STANDARD
END:VTIMEZONE
BEGIN:VEVENT
DTSTART;TZID=Europe/Berlin:20230907T180000
DTEND;TZID=Europe/Berlin:20230907T200000
DTSTAMP:20260421T205646
CREATED:20230721T061756Z
LAST-MODIFIED:20230721T061804Z
UID:1942-1694109600-1694116800@anmeldungen.channoine.com
SUMMARY:Online-Tools NEU - Termin 14
DESCRIPTION:Machen Sie sich fit in den neuen CHANNOINE Online-Businesstools!\nWas werden die Inhalte vom Webinar sein? Wir werden Ihnen nochmals die Grundlagen unserer neuen Online-Tools näherbringen sowie die wichtigsten Details für eine erfolgreiche Handhabung zeigen. Anhand unserer erstellten Schulungsunterlagen werden wir Ihnen alle notwendigen Vorbereitungsschritte präsentieren\, die wichtigsten Begrifflichkeiten sowie Navigationslogiken durchgehen und mit Anwendungsbeispielen die erfolgreiche Verwertung der Online-Tools vorführen. \nFür wen ist das Webinar geeignet? Für alle Mitunternehmer/innen\, die ihr bereits erlangtes Wissen von den besuchten Startseminaren vertiefen und festigen möchten. Zudem für alle Mitunternehmer/innen\, die neu im CHANNOINE-Business gestartet sind oder bisher noch an keinem der Startseminare teilgenommen haben. \nWir freuen uns auf Ihre Teilnahme und wünschen Ihnen bis dorthin noch eine gute sowie erfolgreiche Zeit. \nIhr CHANNOINE-Vertriebsteam
URL:https://anmeldungen.channoine.com/event/online-tools-neu-termin-14/
LOCATION:Online
CATEGORIES:Business
ATTACH;FMTTYPE=image/jpeg:https://anmeldungen.channoine.com/wp-content/uploads/2023/03/Teams-Meeting_600x400px.jpg
END:VEVENT
END:VCALENDAR